From mboxrd@z Thu Jan 1 00:00:00 1970 Return-Path: Received: from mails.dpdk.org (mails.dpdk.org [217.70.189.124]) by inbox.dpdk.org (Postfix) with ESMTP id 3A4A8467A8 for ; Wed, 21 May 2025 08:36:03 +0200 (CEST) Received: from mails.dpdk.org (localhost [127.0.0.1]) by mails.dpdk.org (Postfix) with ESMTP id 35AE740E7C; Wed, 21 May 2025 08:36:03 +0200 (CEST) Received: from mail-pf1-f225.google.com (mail-pf1-f225.google.com [209.85.210.225]) by mails.dpdk.org (Postfix) with ESMTP id 052BA40E34 for ; Wed, 21 May 2025 08:36:02 +0200 (CEST) Received: by mail-pf1-f225.google.com with SMTP id d2e1a72fcca58-742c9907967so3253396b3a.1 for ; Tue, 20 May 2025 23:36:01 -0700 (PDT) DKIM-Signature: v=1; a=rsa-sha256; c=relaxed/relaxed; d=iol.unh.edu; s=unh-iol; t=1747809361; x=1748414161; darn=dpdk.org; h=cc:to:from:subject:message-id:date:from:to:cc:subject:date :message-id:reply-to; bh=+0ywXyO6J1f8kP251DWW+6Jokg0o3bWqOoKi38YBhs8=; b=YS/71K6nounZYG0SCtCNm0pGmQYuOlV3gClx9J5Gu7wMknaMUAkWDfdEC+92OKB6NB vHjLd3nOBrKHxpZ7seKOu8g30FS36OHLNiuDgF/SPLuuv5b3Yb3rD+7pLlmZkaFFUvzx vwwoqRYu4XdzsCv49DR+ej7SbHP2d+6hz97IA= X-Google-DKIM-Signature: v=1; a=rsa-sha256; c=relaxed/relaxed; d=1e100.net; s=20230601; t=1747809361; x=1748414161; h=cc:to:from:subject:message-id:date:x-gm-message-state:from:to:cc :subject:date:message-id:reply-to; bh=+0ywXyO6J1f8kP251DWW+6Jokg0o3bWqOoKi38YBhs8=; b=FY5fKOUZ1UOO19OwZ8OR3BASCMyEvb6KxOZaEFPwjwl2/c7/Js3Ctr3u26UIqrhr/Q mgxBlAXsJFJzrsy3ULFplTG3yUNMa1czYCRk/1vJCkXaGH7NdhA7cwY7DK5O46ptF0Ox +kmKGUID4dpgfLrm1e9CPF7WrzVlc91CaSuQHekjPThENz4SmeXTlBbCEdZpZEV3LWKs 4fafkgDtlLSYrz3/hrKSNclHfnDdNfIS5ik4t/BuahmXfT1k+OrwhLDz7cycHuRLxbzo 6L8gP7CDiaogf7W7IEzFTQZACO54O3KpDszmGVNfiRgTcbO9EX/Wuseno6WqAbPMdDZg tyYQ== X-Gm-Message-State: AOJu0YzaDkEntIJJ9DfXaygHYsO2asaKJy6O2aJi/EiHs+0IP17z9INk VPcJkwI9boPE0JZS0haDorATTqbLYcMtHKc6AgsVZs9cMvKROVQggGOEKqcvR/ckxU9yepGqUnt C5lnEWFJ8KCa5zabAL9qlWgXdKYXQmlyap3mj3mlUTtJpFI9l7NcL X-Gm-Gg: ASbGncvFqGEq/N7R/oFRs+f7SiXEK44euWUEIhkgST2GUro3Pg/tZhol1Z84B5ZptgR zlo7ExTlBbUQI0cx6cT/OxETiVJwYLOgH5O1BJiM4zgiGbDwpxo6KaPvpcgAM9ctVrhv97+88mc AaRSG+613aYnX5f4Vlp3m7lWiCMlmjBcl5u7cndZ8Sik368TUOK62VtMZJcWq4CMh1XlUxFUWQ7 bb5FEPV7nWFhh3nsu5hcp8R4Qg2g6y+1v/GbmcrnGyBTeTfxGutyGE3pzBBorFtVv75xbWwBs1q bUKQMpr5uLCVWk8KqprW3X6P7w5y5QxDGaoV X-Google-Smtp-Source: AGHT+IFfHUXwgEKJ5wQfUDEq1ihsU6Ppc/CJAqgNZBTVH7WXimNIa4qxT2xOUq1LzIuFUSvKnK9qdukSx0as X-Received: by 2002:a05:6a21:329b:b0:1f5:8f7f:8f19 with SMTP id adf61e73a8af0-216218b8d82mr20872337637.10.1747809360960; Tue, 20 May 2025 23:36:00 -0700 (PDT) Received: from postal.iol.unh.edu (postal.iol.unh.edu. [2606:4100:3880:1234::84]) by smtp-relay.gmail.com with ESMTPS id 41be03b00d2f7-b26eafb1b24sm694111a12.17.2025.05.20.23.36.00 (version=TLS1_2 cipher=ECDHE-ECDSA-AES128-GCM-SHA256 bits=128/128); Tue, 20 May 2025 23:36:00 -0700 (PDT) X-Relaying-Domain: iol.unh.edu Date: Tue, 20 May 2025 23:36:00 -0700 (PDT) Message-ID: <682d7450.630a0220.1da947.5158SMTPIN_ADDED_MISSING@mx.google.com> Received: from [172.21.0.6] (unknown [172.18.0.240]) by postal.iol.unh.edu (Postfix) with ESMTP id 34B806052471; Wed, 21 May 2025 02:36:00 -0400 (EDT) Subject: |SUCCESS| [GIT MASTER] 4c5634de9f933555bab9c64a533d3dca999071cd From: dpdklab@iol.unh.edu To: Test Report Cc: dpdk-test-reports@iol.unh.edu, Xueming Li , Christian Ehrhardt , Kevin Traynor , Luca Boccassi Content-Type: text/plain X-BeenThere: test-report@dpdk.org X-Mailman-Version: 2.1.29 Precedence: list List-Id: automatic DPDK test reports List-Unsubscribe: , List-Archive: List-Post: List-Help: List-Subscribe: , Errors-To: test-report-bounces@dpdk.org _Testing PASS_ Branch: tags/v24.11 4c5634de9f933555bab9c64a533d3dca999071cd --> testing pass Upstream job id: Generic-DPDK-Compile-ABI#127136 Test environment and result as below: +-------------------+----------+ | Environment | abi_test | +===================+==========+ | CentOS Stream 9 | PASS | +-------------------+----------+ | Debian 12 | PASS | +-------------------+----------+ | CentOS Stream 10 | PASS | +-------------------+----------+ | Fedora 40 (Clang) | PASS | +-------------------+----------+ | Fedora 41 (Clang) | PASS | +-------------------+----------+ | Fedora 40 | PASS | +-------------------+----------+ | Fedora 41 | PASS | +-------------------+----------+ | openSUSE Leap 15 | PASS | +-------------------+----------+ | RHEL8 | PASS | +-------------------+----------+ | Ubuntu 22.04 | PASS | +-------------------+----------+ | RHEL9 | PASS | +-------------------+----------+ | Ubuntu 24.04 | PASS | +-------------------+----------+ CentOS Stream 9 Kernel: Depends on container host Compiler: gcc 11.5.0 20240719 (Red Hat 11.5.0-2) Debian 12 Kernel: Depends on container host Compiler: gcc (Debian 12.2.0-14) 12.2.0 CentOS Stream 10 Kernel: Depends on container host Compiler: gcc 14.2.1 20241104 (Red Hat 14.2.1-6) Fedora 40 (Clang) Kernel: Depends on container host Compiler: clang 18.1.8 (Fedora 18.1.8-1.fc40) Fedora 41 (Clang) Kernel: Depends on container host Compiler: clang 19.1.5 (Fedora 19.1.5-1.fc41) Fedora 40 Kernel: Depends on container host Compiler: gcc 14.2.1 20240912 (Red Hat 14.2.1-3) Fedora 41 Kernel: Depends on container host Compiler: gcc 14.2.1 20240912 (Red Hat 14.2.1-3) openSUSE Leap 15 Kernel: Depends on container host Compiler: gcc (SUSE Linux) 7.5.0 RHEL8 Kernel: Depends on container host Compiler: gcc 8.5.0 20210514 (Red Hat 8.5.0-22) Ubuntu 22.04 Kernel: Depends on container host Compiler: gcc (Ubuntu 11.4.0-1ubuntu1~22.04) 11.4.0 RHEL9 Kernel: Depends on container host Compiler: gcc 11.5.0 20240719 (Red Hat 11.5.0-2) Ubuntu 24.04 Kernel: Depends on container host Compiler: gcc (Ubuntu 13.3.0-6ubuntu2~24.04) 13.3.0 To view detailed results, visit: https://lab.dpdk.org/results/dashboard/tarballs/33594/ UNH-IOL DPDK Community Lab To manage your email subscriptions, visit: https://lab.dpdk.org/results/dashboard/preferences/subscriptions/