From mboxrd@z Thu Jan 1 00:00:00 1970 Return-Path: Received: from mails.dpdk.org (mails.dpdk.org [217.70.189.124]) by inbox.dpdk.org (Postfix) with ESMTP id 58CF8467A8 for ; Wed, 21 May 2025 08:48:06 +0200 (CEST) Received: from mails.dpdk.org (localhost [127.0.0.1]) by mails.dpdk.org (Postfix) with ESMTP id 4C65240E7C; Wed, 21 May 2025 08:48:06 +0200 (CEST) Received: from mail-pl1-f226.google.com (mail-pl1-f226.google.com [209.85.214.226]) by mails.dpdk.org (Postfix) with ESMTP id 67E4F40E34 for ; Wed, 21 May 2025 08:48:05 +0200 (CEST) Received: by mail-pl1-f226.google.com with SMTP id d9443c01a7336-2322f8afe02so28265855ad.2 for ; Tue, 20 May 2025 23:48:05 -0700 (PDT) DKIM-Signature: v=1; a=rsa-sha256; c=relaxed/relaxed; d=iol.unh.edu; s=unh-iol; t=1747810084; x=1748414884; darn=dpdk.org; h=references:in-reply-to:cc:to:from:subject:message-id:date:from:to :cc:subject:date:message-id:reply-to; bh=CM0fhn5oQJsxnV2hLOI33F3uSGV3k/XRRdJbr3bT2lU=; b=aaC3G2IqMr1Io0gGsEQLXFkdl0+W6zpOgfVcJWuqg7iCJsI/BaOobqWRBPvDP4DthI A8vO49uUsq8NNWDih4KrpFOL0SLis8SHLNUfIL7k8bvz9kqnCsK9tI6J2juQiG7jrRLF WI/xCqvJOK2Vx6Sa1GcqDlexzYU2Ti8jaE7bo= X-Google-DKIM-Signature: v=1; a=rsa-sha256; c=relaxed/relaxed; d=1e100.net; s=20230601; t=1747810084; x=1748414884; h=references:in-reply-to:cc:to:from:subject:message-id:date :x-gm-message-state:from:to:cc:subject:date:message-id:reply-to; bh=CM0fhn5oQJsxnV2hLOI33F3uSGV3k/XRRdJbr3bT2lU=; b=dLqswCjJFRYQax7OlW8QCRKueRlz1HPzy3TmzUxqwaLRh5jbgXc7mTZQcJ5XiqydPI fFejY5oPRhZnR3UbDkrkaQicaD3V2SIcTtjDE+PbrHuwlZiXsN24u898UojA6pNBJUYc BNThGIRx9n1BfQsOJgfVuE60lMXRyB0R3KJtnnKq5pxZmcaQKhCslLo5gUs6jvgEiL9b 9H2vVHkbF3NDvJ8SuBrtu4lClmZDGRIjjQCK+Y7qm5JWi2Tf7DH/u0lGsxmwXWhuhuwg ireRf6Gx7Zv7VO6WNiTQtPICBsYyfXnb7ZA30lbZejjelQlzGmJnOjXqCkp61nW97WtW w3JA== X-Gm-Message-State: AOJu0Yw4I8OQrVd+mK/fVjimGERT1yglNugU2HpLKc911o+QdNEXlQAL 3tEXmLmR1tBQngvm38g0JHBp24/ih0hhscHnIRdOpcaSwusSZHEjL28S5TpZTgdHz/TYlTszo6G 8W/mQcXjZ6bdEBSXZj3zN5ezHfd+pVKwFnGq2w7fcHXSj X-Gm-Gg: ASbGncs+lEq0XZUqA9ngNJmV+KxwpF1HzTR/1BPPFAOnqGY1nxdRq9lmpklk6JO3i14 IXkrJJl6no2pSbHcRy7LMXBIZ/+mrSBRHSzpxKVirD1XqiwEFhYmRJfdHOkDxcLJVrEtcZfSBld ZvmsFo8pZGsB3VZl+soNYs9co63KIfO9dS+ZCnqK3yM0Erscso6IEW3XG2ETYemyskkkOIir+pA GbdSfggIIpoFFS2ftwQSHx4LoTqQHb6OQK8JKjMKZSyKO2630bdVNFu0jwpr5TtOcdbqzMW9pDp zbt1xSUzpwRNOjNwj/1ypDoNtXbn/+YwxvtWNbgd83e3aYugj5DU0pXLWKY= X-Google-Smtp-Source: AGHT+IFIW3c0NHw0F2pXd5BBwEtkblUaWTA+Iy0Xy1H2FG/HZa+0HzouqBuP3ZQcmaTeSpEPNxyBvm6v2D0t X-Received: by 2002:a17:903:1987:b0:223:5e76:637a with SMTP id d9443c01a7336-231d451906dmr298784015ad.23.1747810084493; Tue, 20 May 2025 23:48:04 -0700 (PDT) Received: from postal.iol.unh.edu (postal.iol.unh.edu. [132.177.123.84]) by smtp-relay.gmail.com with ESMTPS id d9443c01a7336-231d4adee11sm5904915ad.56.2025.05.20.23.48.04 (version=TLS1_2 cipher=ECDHE-ECDSA-AES128-GCM-SHA256 bits=128/128); Tue, 20 May 2025 23:48:04 -0700 (PDT) X-Relaying-Domain: iol.unh.edu Date: Tue, 20 May 2025 23:48:04 -0700 (PDT) Message-ID: <682d7724.170a0220.160ed3.0275SMTPIN_ADDED_MISSING@mx.google.com> Received: from [172.21.0.8] (unknown [172.18.0.240]) by postal.iol.unh.edu (Postfix) with ESMTP id A6A1E6052471; Wed, 21 May 2025 02:48:03 -0400 (EDT) Subject: |SUCCESS| pw153548-153549 [PATCH] [v2,2/2] app/testpmd: clear stale From: dpdklab@iol.unh.edu To: Test Report Cc: dpdk-test-reports@iol.unh.edu In-Reply-To: <20250521051154.19595-2-skori@marvell.com> References: <20250521051154.19595-2-skori@marvell.com> Content-Type: text/plain X-BeenThere: test-report@dpdk.org X-Mailman-Version: 2.1.29 Precedence: list List-Id: automatic DPDK test reports List-Unsubscribe: , List-Archive: List-Post: List-Help: List-Subscribe: , Errors-To: test-report-bounces@dpdk.org Test-Label: iol-compile-amd64-testing Test-Status: SUCCESS http://dpdk.org/patch/153549 _Testing PASS_ Submitter: Sunil Kumar Kori Date: Wednesday, May 21 2025 05:11:43 DPDK git baseline: Repo:dpdk Branch: master CommitID:a0dde342cc312fd75b63281f63d757db7482cdab 153548-153549 --> testing pass Upstream job id: Windows-Compile-DPDK-Native#28526 Test environment and result as below: +---------------------+--------------------+-------------------+-------------------------+ | Environment | dpdk_meson_compile | dpdk_msvc_compile | dpdk_llvm_clang_compile | +=====================+====================+===================+=========================+ | Ubuntu 20.04 | PASS | SKIPPED | SKIPPED | +---------------------+--------------------+-------------------+-------------------------+ | FreeBSD 13.5 | PASS | SKIPPED | SKIPPED | +---------------------+--------------------+-------------------+-------------------------+ | FreeBSD 14.2 | PASS | SKIPPED | SKIPPED | +---------------------+--------------------+-------------------+-------------------------+ | Windows Server 2022 | SKIPPED | PASS | PASS | +---------------------+--------------------+-------------------+-------------------------+ Ubuntu 20.04 Kernel: 4.19.325-0419325-generic Compiler: gcc (Ubuntu 9.4.0-1ubuntu1~20.04.2) 9.4.0 FreeBSD 13.5 Kernel: 13.5-RELEASE Compiler: clang 19.1.7 FreeBSD 14.2 Kernel: 14.2-RELEASE Compiler: clang 18.1.6 Windows Server 2022 Kernel: 10.0.20348.2031 Compiler: clang 15.0.7, gcc 14.1.0 (MinGW), and MSVC VS 19.39.33521 To view detailed results, visit: https://lab.dpdk.org/results/dashboard/patchsets/33217/ UNH-IOL DPDK Community Lab To manage your email subscriptions, visit: https://lab.dpdk.org/results/dashboard/preferences/subscriptions/