From mboxrd@z Thu Jan 1 00:00:00 1970 Return-Path: Received: from mails.dpdk.org (mails.dpdk.org [217.70.189.124]) by inbox.dpdk.org (Postfix) with ESMTP id E4514467A8 for ; Wed, 21 May 2025 09:07:05 +0200 (CEST) Received: from mails.dpdk.org (localhost [127.0.0.1]) by mails.dpdk.org (Postfix) with ESMTP id C644E40EAB; Wed, 21 May 2025 09:07:05 +0200 (CEST) Received: from mail-qv1-f100.google.com (mail-qv1-f100.google.com [209.85.219.100]) by mails.dpdk.org (Postfix) with ESMTP id 3E22640EA5 for ; Wed, 21 May 2025 09:07:05 +0200 (CEST) Received: by mail-qv1-f100.google.com with SMTP id 6a1803df08f44-6f8b47c5482so77749146d6.3 for ; Wed, 21 May 2025 00:07:05 -0700 (PDT) DKIM-Signature: v=1; a=rsa-sha256; c=relaxed/relaxed; d=iol.unh.edu; s=unh-iol; t=1747811224; x=1748416024; darn=dpdk.org; h=cc:to:from:subject:message-id:date:from:to:cc:subject:date :message-id:reply-to; bh=LEM3GBfUcr1ShVRC4ZTOxlZCVpM5GUAA9ywMmeRTocI=; b=CD7IZ6Lia+zE/8E5BSFM0UDb8j1CNGNx5Q4bQbkYKXeFehjzZCqkxgUwJFNY4UZQjm Y/awGc6tSNAffAwLfbWrAnIie7Ksi1YM2xj56o2DLelDMD2l6t0D8Vro8b67/D0kDkGo 7zNLtT2ut31+FSUpptc8y/6GGKTL5BPdRAWC0= X-Google-DKIM-Signature: v=1; a=rsa-sha256; c=relaxed/relaxed; d=1e100.net; s=20230601; t=1747811224; x=1748416024; h=cc:to:from:subject:message-id:date:x-gm-message-state:from:to:cc :subject:date:message-id:reply-to; bh=LEM3GBfUcr1ShVRC4ZTOxlZCVpM5GUAA9ywMmeRTocI=; b=a+guQoapbNOGHq+yN1XejhCYv/OOxJ9yRcoYCFV3/St921Rn/LOvdWwdBFqIcCfqus RQh1d9Y3AFEzf+Fzox+FRSlNVPQcxhupFa185Hq01nNCQQaaB2AiurK13VdY4EyBPxr5 tyTc+UMYEH4Kl1/6KUrdU8t9Nvx8zkpXrupxUnP6RKS6tJhl2HFHpMV/rch61u2UB/9D h1qT+9phyFnnm+Dp6WlgcCENGd0g0J9JUl1WPtbNXTD6E2w+mVP3gAXRjMkxFfbtL+uy HR2U0IP4kIz5Xz1ERhqQFByufG1vOaaAS1w17yVkoa2B1WhjcXay1Cs30Rq95zVk5CEr K22A== X-Gm-Message-State: AOJu0YwgeMbVuaJnpsTLfKcvoM2HpmmNS7KvSBn6NyiYcbb1SqnnK8L9 EDNRe+FeX5BBKc1IvmCIHSEj4PkNBl8G1TSsDLDVfLvgCk5Txu8FbQcwAqxe5N9s/BpQEzCGUjm GKOh3pvZzvU7dHIfgJjdmOJb6Ez/QYt9DpPwxBZmyiO6q X-Gm-Gg: ASbGncsEwlCGC+Zob03DtDeDr8MIqUuW/BUrVZc592vrLra0GFOm15tlcGGnsDFNYUC 9MJ/3l7pYqf6R0XdKK4pdjWLSDv9KwPt6dmor5yO1Zq6O2eo6fH2wFwAWr3a9wmSgVUr/09h0mA /MF8gY9iAJ2yJ97r70alft//+F6bAjQcTC8prLhhKJLYvS2GWdk0BKaWo84G3+Enu5iQaaTFSn5 24mbbpFHiVd/sXFPUV6Pfvi6CFdzbm+2sqbzcwYrHxlqhGX/zD8RcmeTSy7h3ZfYmBpS5oB5B3R U/gsKqn2S+eW33z9s+6iCEsTIoSUx9VyQDptxd+f+IQBDtIcP52+ISC2ck4= X-Google-Smtp-Source: AGHT+IG11zKbRozKk/Sv88EBARCd2eIrPMRTxA36kT2WbUHHnyh+snrTTIqeDSEYSxYNjsPFYUAs5YiJ5X06 X-Received: by 2002:a05:6214:1c09:b0:6e8:9957:e705 with SMTP id 6a1803df08f44-6f8b2d0d894mr360853116d6.34.1747811224505; Wed, 21 May 2025 00:07:04 -0700 (PDT) Received: from postal.iol.unh.edu (postal.iol.unh.edu. [132.177.123.84]) by smtp-relay.gmail.com with ESMTPS id 6a1803df08f44-6f8b08b324asm3938736d6.22.2025.05.21.00.07.04 (version=TLS1_2 cipher=ECDHE-ECDSA-AES128-GCM-SHA256 bits=128/128); Wed, 21 May 2025 00:07:04 -0700 (PDT) X-Relaying-Domain: iol.unh.edu Date: Wed, 21 May 2025 00:07:04 -0700 (PDT) Message-ID: <682d7b98.d40a0220.1e77c1.55faSMTPIN_ADDED_MISSING@mx.google.com> Received: from [172.21.0.5] (unknown [172.18.0.240]) by postal.iol.unh.edu (Postfix) with ESMTP id 3CF0C6052471; Wed, 21 May 2025 03:07:04 -0400 (EDT) Subject: |SUCCESS| [GIT MASTER] a0dde342cc312fd75b63281f63d757db7482cdab From: dpdklab@iol.unh.edu To: Test Report Cc: dpdk-test-reports@iol.unh.edu, Stephen Hemminger Content-Type: text/plain X-BeenThere: test-report@dpdk.org X-Mailman-Version: 2.1.29 Precedence: list List-Id: automatic DPDK test reports List-Unsubscribe: , List-Archive: List-Post: List-Help: List-Subscribe: , Errors-To: test-report-bounces@dpdk.org _Testing PASS_ Branch: dpdk-next-net a0dde342cc312fd75b63281f63d757db7482cdab --> testing pass Upstream job id: Windows-Compile-DPDK-VS#5777 Test environment and result as below: +---------------------+--------------------+-------------------+ | Environment | dpdk_meson_compile | dpdk_msvc_compile | +=====================+====================+===================+ | FreeBSD 13.5 | PASS | SKIPPED | +---------------------+--------------------+-------------------+ | FreeBSD 14.2 | PASS | SKIPPED | +---------------------+--------------------+-------------------+ | Ubuntu 20.04 | PASS | SKIPPED | +---------------------+--------------------+-------------------+ | Windows Server 2022 | SKIPPED | PASS | +---------------------+--------------------+-------------------+ FreeBSD 13.5 Kernel: 13.5-RELEASE Compiler: clang 19.1.7 FreeBSD 14.2 Kernel: 14.2-RELEASE Compiler: clang 18.1.6 Ubuntu 20.04 Kernel: 4.19.325-0419325-generic Compiler: gcc (Ubuntu 9.4.0-1ubuntu1~20.04.2) 9.4.0 Windows Server 2022 Kernel: 10.0.20348.2031 Compiler: clang 15.0.7, gcc 14.1.0 (MinGW), and MSVC VS 19.39.33521 To view detailed results, visit: https://lab.dpdk.org/results/dashboard/tarballs/33598/ UNH-IOL DPDK Community Lab To manage your email subscriptions, visit: https://lab.dpdk.org/results/dashboard/preferences/subscriptions/