automatic DPDK test reports
 help / color / mirror / Atom feed
From: dpdklab@iol.unh.edu
To: Test Report <test-report@dpdk.org>
Cc: dpdk-test-reports@iol.unh.edu
Subject: |SUCCESS| pw153548-153549 [PATCH] [v2,2/2] app/testpmd: clear stale
Date: Wed, 21 May 2025 00:08:42 -0700 (PDT)	[thread overview]
Message-ID: <682d7bfa.170a0220.2dc5b8.2bbcSMTPIN_ADDED_MISSING@mx.google.com> (raw)
In-Reply-To: <20250521051154.19595-2-skori@marvell.com>

Test-Label: iol-compile-amd64-testing
Test-Status: SUCCESS
http://dpdk.org/patch/153549

_Testing PASS_

Submitter: Sunil Kumar Kori <skori@marvell.com>
Date: Wednesday, May 21 2025 05:11:43 
DPDK git baseline: Repo:dpdk
  Branch: master
  CommitID:a0dde342cc312fd75b63281f63d757db7482cdab

153548-153549 --> testing pass

Upstream job id: Windows-Compile-DPDK-Native#28527

Test environment and result as below:

+---------------------+--------------------+-------------------+-------------------------+----------------------+
|     Environment     | dpdk_meson_compile | dpdk_msvc_compile | dpdk_llvm_clang_compile | dpdk_mingw64_compile |
+=====================+====================+===================+=========================+======================+
| Ubuntu 20.04        | PASS               | SKIPPED           | SKIPPED                 | SKIPPED              |
+---------------------+--------------------+-------------------+-------------------------+----------------------+
| FreeBSD 13.5        | PASS               | SKIPPED           | SKIPPED                 | SKIPPED              |
+---------------------+--------------------+-------------------+-------------------------+----------------------+
| FreeBSD 14.2        | PASS               | SKIPPED           | SKIPPED                 | SKIPPED              |
+---------------------+--------------------+-------------------+-------------------------+----------------------+
| Windows Server 2022 | SKIPPED            | PASS              | PASS                    | PASS                 |
+---------------------+--------------------+-------------------+-------------------------+----------------------+


Ubuntu 20.04
	Kernel: 4.19.325-0419325-generic
	Compiler: gcc (Ubuntu 9.4.0-1ubuntu1~20.04.2) 9.4.0

FreeBSD 13.5
	Kernel: 13.5-RELEASE
	Compiler: clang 19.1.7

FreeBSD 14.2
	Kernel: 14.2-RELEASE
	Compiler: clang 18.1.6

Windows Server 2022
	Kernel: 10.0.20348.2031
	Compiler: clang 15.0.7, gcc 14.1.0 (MinGW), and MSVC VS 19.39.33521

To view detailed results, visit:
https://lab.dpdk.org/results/dashboard/patchsets/33217/

UNH-IOL DPDK Community Lab

To manage your email subscriptions, visit: 
https://lab.dpdk.org/results/dashboard/preferences/subscriptions/

  parent reply	other threads:[~2025-05-21  7:08 UTC|newest]

Thread overview: 31+ messages / expand[flat|nested]  mbox.gz  Atom feed  top
     [not found] <20250521051154.19595-2-skori@marvell.com>
2025-05-21  4:37 ` |SUCCESS| pw153548-153549 [PATCH v2 2/2] app/testpmd: clear stale internal len information qemudev
2025-05-21  4:41 ` qemudev
2025-05-21  5:12 ` |SUCCESS| pw153549 " checkpatch
2025-05-21  5:45 ` |SUCCESS| pw153548-153549 [PATCH] [v2,2/2] app/testpmd: clear stale dpdklab
2025-05-21  5:56 ` dpdklab
2025-05-21  6:00 ` dpdklab
2025-05-21  6:04 ` dpdklab
2025-05-21  6:05 ` |SUCCESS| pw153549 [PATCH v2 2/2] app/testpmd: clear stale internal len information 0-day Robot
2025-05-21  6:15 ` |SUCCESS| pw153548-153549 [PATCH] [v2,2/2] app/testpmd: clear stale dpdklab
2025-05-21  6:22 ` dpdklab
2025-05-21  6:35 ` |PENDING| " dpdklab
2025-05-21  6:37 ` |SUCCESS| " dpdklab
2025-05-21  6:48 ` dpdklab
2025-05-21  7:08 ` dpdklab
2025-05-21  7:08 ` dpdklab [this message]
2025-05-21  7:19 ` |PENDING| " dpdklab
2025-05-21  7:26 ` |SUCCESS| " dpdklab
2025-05-21  7:50 ` dpdklab
2025-05-21  7:56 ` |PENDING| " dpdklab
2025-05-21  9:30 ` |WARNING| " dpdklab
2025-05-21  9:46 ` |SUCCESS| " dpdklab
2025-05-21 10:33 ` dpdklab
2025-05-21 10:33 ` dpdklab
2025-05-21 10:35 ` |WARNING| " dpdklab
2025-05-21 10:52 ` dpdklab
2025-05-21 10:55 ` dpdklab
2025-05-21 10:57 ` dpdklab
2025-05-21 10:58 ` dpdklab
2025-05-21 12:20 ` |SUCCESS| " dpdklab
2025-05-21 12:22 ` dpdklab
2025-05-21 17:19 ` dpdklab

Reply instructions:

You may reply publicly to this message via plain-text email
using any one of the following methods:

* Save the following mbox file, import it into your mail client,
  and reply-to-all from there: mbox

  Avoid top-posting and favor interleaved quoting:
  https://en.wikipedia.org/wiki/Posting_style#Interleaved_style

* Reply using the --to, --cc, and --in-reply-to
  switches of git-send-email(1):

  git send-email \
    --in-reply-to=682d7bfa.170a0220.2dc5b8.2bbcSMTPIN_ADDED_MISSING@mx.google.com \
    --to=dpdklab@iol.unh.edu \
    --cc=dpdk-test-reports@iol.unh.edu \
    --cc=test-report@dpdk.org \
    /path/to/YOUR_REPLY

  https://kernel.org/pub/software/scm/git/docs/git-send-email.html

* If your mail client supports setting the In-Reply-To header
  via mailto: links, try the mailto: link
Be sure your reply has a Subject: header at the top and a blank line before the message body.
This is a public inbox, see mirroring instructions
for how to clone and mirror all data and code used for this inbox;
as well as URLs for NNTP newsgroup(s).