From mboxrd@z Thu Jan 1 00:00:00 1970 Return-Path: Received: from mails.dpdk.org (mails.dpdk.org [217.70.189.124]) by inbox.dpdk.org (Postfix) with ESMTP id 0BD74467A8 for ; Wed, 21 May 2025 09:08:45 +0200 (CEST) Received: from mails.dpdk.org (localhost [127.0.0.1]) by mails.dpdk.org (Postfix) with ESMTP id 07D5140EAB; Wed, 21 May 2025 09:08:45 +0200 (CEST) Received: from mail-pj1-f98.google.com (mail-pj1-f98.google.com [209.85.216.98]) by mails.dpdk.org (Postfix) with ESMTP id 9C77140EA5 for ; Wed, 21 May 2025 09:08:43 +0200 (CEST) Received: by mail-pj1-f98.google.com with SMTP id 98e67ed59e1d1-30f0d8628c8so2092453a91.0 for ; Wed, 21 May 2025 00:08:43 -0700 (PDT) DKIM-Signature: v=1; a=rsa-sha256; c=relaxed/relaxed; d=iol.unh.edu; s=unh-iol; t=1747811323; x=1748416123; darn=dpdk.org; h=references:in-reply-to:cc:to:from:subject:message-id:date:from:to :cc:subject:date:message-id:reply-to; bh=JHX0kitlZApPhe23K+U1HN2HERfMxq3KYdBgvaZ2OsU=; b=YNBrd6lq52y6XjjtV6hh/MNKCHeawFPVXXDUdvT/ZbY/MRfH9XhFKFZVhKJOkw4zUy yIEANehHbGhVUQsimm2/inGFL5BmgH+QGf3afpfvmqNWTUjbtKQqWuBrq0o3Qgn12CJA QWZZut/IqeTzcdbVuA/l22/LQoWN0nn6O8aNw= X-Google-DKIM-Signature: v=1; a=rsa-sha256; c=relaxed/relaxed; d=1e100.net; s=20230601; t=1747811323; x=1748416123; h=references:in-reply-to:cc:to:from:subject:message-id:date :x-gm-message-state:from:to:cc:subject:date:message-id:reply-to; bh=JHX0kitlZApPhe23K+U1HN2HERfMxq3KYdBgvaZ2OsU=; b=QhaHYDjvhY2Iw4M7w9+beI6Pgu/mApa/uB2EB/fZ6CFqFNMpVpqII8umcaWN4OQOtr u4iR57zLNYb3cHNiRhk2tIQuEBNEDHXL5UkEnXAhlS0BF1ow+CLtQvmuMlXMSJuwz7p7 CEcdrdyFVmIYU7CJs5vbd+V07lOjIwHxLKJaHMl5EZKnyojM+7cMmIcuxYTtusULGDkx +uU/1On2b/xW/TrpeT1bxQANr9+UKPIqnq8+i9r9knUhnhZFqUOBQ60QclPS1nfNy72i WgSbSKOCDftRz/Dz+69Yv6JGKNSzNGqgcddvqBrx5NztSFRo/GxFgdllo8CyR4tpZbjF dWTg== X-Gm-Message-State: AOJu0YyahsQ9FuDSUhxgD86VE1KuYOrBDrjxIYZo67zr/fbUtX4PHUHD +CUVviaa3LBS2Dg7U5MkKnf6+08P/XFrE2HCgMdgiQxrMRGG4XGor2zye5QcRWgNCDYvnxEA1ZJ OU/lG3YFHCR9iXXsI27daY1mXEXMYmtmva8MpUze5IRx2 X-Gm-Gg: ASbGncvUBvtUzS6qAbTAIrJiT17P/dNrBdV7cywev3yqkTTxDtgtUMMGjtzmOyod1LF dhAUf6GS3yOFkAeFJG0HyOXe+w2TFDtSFxzIyPqnegR9Fxf4lKk5vSjnVLL6mnpvtlJSJJv9vx8 O5QyVTlxelL2wYBIPi5MxRtOkiMrADEcGmOgakqtvBJ3Fnmv/vxGooWfo5nnHDspA85QIERSeRv umx2KO4VIXD+JfmPTiu84VVdJXEN5Fd5qMMSPXmVnHBB9j+Urp1e7GBf8CJaL6K6+PHCQVb63wp eyjC/JZCix/YW58kMj/TDHnr/hVsxdjlsREF+F1NU1sb9ekNJzK3M6vD9pg= X-Google-Smtp-Source: AGHT+IEvplrSK05UzD5hZ8oBPQ6Y9lI3uvyiOukafuZ8DmWa6XiWwlSY/F5Ev4+BoreSADFVyfmDi8vWxUa0 X-Received: by 2002:a17:90b:3d43:b0:308:2945:3842 with SMTP id 98e67ed59e1d1-30e7e87de52mr28601032a91.15.1747811322860; Wed, 21 May 2025 00:08:42 -0700 (PDT) Received: from postal.iol.unh.edu (postal.iol.unh.edu. [132.177.123.84]) by smtp-relay.gmail.com with ESMTPS id 98e67ed59e1d1-30f3636419bsm258400a91.1.2025.05.21.00.08.42 (version=TLS1_2 cipher=ECDHE-ECDSA-AES128-GCM-SHA256 bits=128/128); Wed, 21 May 2025 00:08:42 -0700 (PDT) X-Relaying-Domain: iol.unh.edu Date: Wed, 21 May 2025 00:08:42 -0700 (PDT) Message-ID: <682d7bfa.170a0220.2dc5b8.2bbcSMTPIN_ADDED_MISSING@mx.google.com> Received: from [172.21.0.5] (unknown [172.18.0.240]) by postal.iol.unh.edu (Postfix) with ESMTP id 1967F6052471; Wed, 21 May 2025 03:08:42 -0400 (EDT) Subject: |SUCCESS| pw153548-153549 [PATCH] [v2,2/2] app/testpmd: clear stale From: dpdklab@iol.unh.edu To: Test Report Cc: dpdk-test-reports@iol.unh.edu In-Reply-To: <20250521051154.19595-2-skori@marvell.com> References: <20250521051154.19595-2-skori@marvell.com> Content-Type: text/plain X-BeenThere: test-report@dpdk.org X-Mailman-Version: 2.1.29 Precedence: list List-Id: automatic DPDK test reports List-Unsubscribe: , List-Archive: List-Post: List-Help: List-Subscribe: , Errors-To: test-report-bounces@dpdk.org Test-Label: iol-compile-amd64-testing Test-Status: SUCCESS http://dpdk.org/patch/153549 _Testing PASS_ Submitter: Sunil Kumar Kori Date: Wednesday, May 21 2025 05:11:43 DPDK git baseline: Repo:dpdk Branch: master CommitID:a0dde342cc312fd75b63281f63d757db7482cdab 153548-153549 --> testing pass Upstream job id: Windows-Compile-DPDK-Native#28527 Test environment and result as below: +---------------------+--------------------+-------------------+-------------------------+----------------------+ | Environment | dpdk_meson_compile | dpdk_msvc_compile | dpdk_llvm_clang_compile | dpdk_mingw64_compile | +=====================+====================+===================+=========================+======================+ | Ubuntu 20.04 | PASS | SKIPPED | SKIPPED | SKIPPED | +---------------------+--------------------+-------------------+-------------------------+----------------------+ | FreeBSD 13.5 | PASS | SKIPPED | SKIPPED | SKIPPED | +---------------------+--------------------+-------------------+-------------------------+----------------------+ | FreeBSD 14.2 | PASS | SKIPPED | SKIPPED | SKIPPED | +---------------------+--------------------+-------------------+-------------------------+----------------------+ | Windows Server 2022 | SKIPPED | PASS | PASS | PASS | +---------------------+--------------------+-------------------+-------------------------+----------------------+ Ubuntu 20.04 Kernel: 4.19.325-0419325-generic Compiler: gcc (Ubuntu 9.4.0-1ubuntu1~20.04.2) 9.4.0 FreeBSD 13.5 Kernel: 13.5-RELEASE Compiler: clang 19.1.7 FreeBSD 14.2 Kernel: 14.2-RELEASE Compiler: clang 18.1.6 Windows Server 2022 Kernel: 10.0.20348.2031 Compiler: clang 15.0.7, gcc 14.1.0 (MinGW), and MSVC VS 19.39.33521 To view detailed results, visit: https://lab.dpdk.org/results/dashboard/patchsets/33217/ UNH-IOL DPDK Community Lab To manage your email subscriptions, visit: https://lab.dpdk.org/results/dashboard/preferences/subscriptions/