From mboxrd@z Thu Jan 1 00:00:00 1970 Return-Path: Received: from mails.dpdk.org (mails.dpdk.org [217.70.189.124]) by inbox.dpdk.org (Postfix) with ESMTP id 9BC58467A8 for ; Wed, 21 May 2025 09:13:44 +0200 (CEST) Received: from mails.dpdk.org (localhost [127.0.0.1]) by mails.dpdk.org (Postfix) with ESMTP id 83E3940EAB; Wed, 21 May 2025 09:13:44 +0200 (CEST) Received: from mail-pg1-f225.google.com (mail-pg1-f225.google.com [209.85.215.225]) by mails.dpdk.org (Postfix) with ESMTP id A822F40EA5 for ; Wed, 21 May 2025 09:13:43 +0200 (CEST) Received: by mail-pg1-f225.google.com with SMTP id 41be03b00d2f7-b0b2d0b2843so4904922a12.2 for ; Wed, 21 May 2025 00:13:43 -0700 (PDT) DKIM-Signature: v=1; a=rsa-sha256; c=relaxed/relaxed; d=iol.unh.edu; s=unh-iol; t=1747811622; x=1748416422; darn=dpdk.org; h=cc:to:from:subject:message-id:date:from:to:cc:subject:date :message-id:reply-to; bh=P7+8QTelDaQH+zluxVAMQT8+D40/pTjDD5DoIhZK/Xs=; b=NJaBF7ek0273a3tINT/pZAIgtrERcWAPQJUSUrvc8ODnWKdICrthNfsCXkPyvWnHlL rPdozRDLz3LfpOlY7BUIgIxY5ip23OiFJyc+C1WxCu4flarNudnTVgB+7FMwFYcowh73 FFkBcxmySQDnd9JrtJ8Yf8+WjfY+6pzz9yDhQ= X-Google-DKIM-Signature: v=1; a=rsa-sha256; c=relaxed/relaxed; d=1e100.net; s=20230601; t=1747811622; x=1748416422; h=cc:to:from:subject:message-id:date:x-gm-message-state:from:to:cc :subject:date:message-id:reply-to; bh=P7+8QTelDaQH+zluxVAMQT8+D40/pTjDD5DoIhZK/Xs=; b=X0szOwTVW6YBpKeYFBXQt5USDdsu7HHbKBagGIGoESdL1/EVvHI5gYZpnE67BGfNX8 CZrLLdvV7bUSljRh/q1e2IThswy0qsniIwX4KPYAFGt/wxNe84ZEOwNykLpyqdunuI3F +dS9TnYzzWGyQiQ8oJT3j+/vWn8LTylu+ATl+fTzkHHCYKIrhRJJjrljW4jqkPg51M1f doJIVjiwZG+J3NfRDrhMPzzPmYnOcSI+aPnLKtGbIkkP9oO7W/E5SNaGS5b/DITG4GxL 4V/tXIE9cjE1Lv4WO+7m8AG+NINRmzuhaAqzRzDrrKoTisMN7iwspk++7EdoFPjlVehB zlhQ== X-Gm-Message-State: AOJu0YwQo9+waZEU9A8Utw8xj3a0Db/rCLciRypJefphEuVnIXRrE4Ib yYxu1wBXY/oB1jN/FAUtddlO8vIVRmfV/zds6ISdecoCDot/9Et+g1Uf7zylQ6VSJl2zZ0BUdct Cr5EeFH9CSAH+BozR2S0doQhyd36qMnRw/S+gIQV+fWogLCUG2OpU X-Gm-Gg: ASbGncswlb01MaSwUWZ0kN+Ozk9Z1J//uj/p+rIc4JgsLUD1SxiG1zVw2qrzDphhxm6 1HIuT9xGzmwUUvIYsh7EAtHC5AwwY9jyuL1dI9+cVws6CcpfnFckHs0H/25+g3h9lC+Y4k6h1VZ umAiqxf7atOvVd+ewmqK+0VY5dkSGD0YpSCG/ZTE6EmlJ134h45wvAkzMRLMeEPDinX4W0noc0W mgYW2aDW7QS5x/+JWWkrJ3IDR2DB7x1tBzmCXui8Uupw0sjCo9BZJpFtiS6cV0Qn0eSF5wOzWgH WusBZh1aEEp5n1iTLUwX/BAv6qDkrb1nhVeS X-Google-Smtp-Source: AGHT+IHhI2aZ6GW88sum0k6ZRUj8PVL0bUBrLZk1rHP1glI0RhzKqfGJRZyqZekB3rdXlPUoDWpMgbUBh1jk X-Received: by 2002:a17:902:c951:b0:22f:d47e:c6dd with SMTP id d9443c01a7336-231d439e08cmr248566575ad.13.1747811622317; Wed, 21 May 2025 00:13:42 -0700 (PDT) Received: from postal.iol.unh.edu (postal.iol.unh.edu. [2606:4100:3880:1234::84]) by smtp-relay.gmail.com with ESMTPS id d9443c01a7336-231d4aa7083sm5484805ad.22.2025.05.21.00.13.42 (version=TLS1_2 cipher=ECDHE-ECDSA-AES128-GCM-SHA256 bits=128/128); Wed, 21 May 2025 00:13:42 -0700 (PDT) X-Relaying-Domain: iol.unh.edu Date: Wed, 21 May 2025 00:13:42 -0700 (PDT) Message-ID: <682d7d26.170a0220.2704b7.c922SMTPIN_ADDED_MISSING@mx.google.com> Received: from [172.21.0.5] (unknown [172.18.0.240]) by postal.iol.unh.edu (Postfix) with ESMTP id 6AA196052471; Wed, 21 May 2025 03:13:41 -0400 (EDT) Subject: |SUCCESS| [GIT MASTER] 4c5634de9f933555bab9c64a533d3dca999071cd From: dpdklab@iol.unh.edu To: Test Report Cc: dpdk-test-reports@iol.unh.edu, Xueming Li , Christian Ehrhardt , Kevin Traynor , Luca Boccassi Content-Type: text/plain X-BeenThere: test-report@dpdk.org X-Mailman-Version: 2.1.29 Precedence: list List-Id: automatic DPDK test reports List-Unsubscribe: , List-Archive: List-Post: List-Help: List-Subscribe: , Errors-To: test-report-bounces@dpdk.org _Testing PASS_ Branch: tags/v24.11 4c5634de9f933555bab9c64a533d3dca999071cd --> testing pass Upstream job id: Generic-Unit-Test-DPDK#339414 Test environment and result as below: +---------------------+----------------+ | Environment | dpdk_unit_test | +=====================+================+ | CentOS Stream 10 | PASS | +---------------------+----------------+ | Debian 12 | PASS | +---------------------+----------------+ | Fedora 40 | PASS | +---------------------+----------------+ | CentOS Stream 9 | PASS | +---------------------+----------------+ | RHEL9 | PASS | +---------------------+----------------+ | Fedora 41 | PASS | +---------------------+----------------+ | Fedora 41 (Clang) | PASS | +---------------------+----------------+ | RHEL8 | PASS | +---------------------+----------------+ | Fedora 40 (Clang) | PASS | +---------------------+----------------+ | Ubuntu 24.04 | PASS | +---------------------+----------------+ | Ubuntu 20.04 | PASS | +---------------------+----------------+ | Ubuntu 22.04 | PASS | +---------------------+----------------+ | Windows Server 2022 | PASS | +---------------------+----------------+ CentOS Stream 10 Kernel: Depends on container host Compiler: gcc 14.2.1 20241104 (Red Hat 14.2.1-6) Debian 12 Kernel: Depends on container host Compiler: gcc (Debian 12.2.0-14) 12.2.0 Fedora 40 Kernel: Depends on container host Compiler: gcc 14.2.1 20240912 (Red Hat 14.2.1-3) CentOS Stream 9 Kernel: Depends on container host Compiler: gcc 11.5.0 20240719 (Red Hat 11.5.0-2) RHEL9 Kernel: Depends on container host Compiler: gcc 11.5.0 20240719 (Red Hat 11.5.0-2) Fedora 41 Kernel: Depends on container host Compiler: gcc 14.2.1 20240912 (Red Hat 14.2.1-3) Fedora 41 (Clang) Kernel: Depends on container host Compiler: clang 19.1.5 (Fedora 19.1.5-1.fc41) RHEL8 Kernel: Depends on container host Compiler: gcc 8.5.0 20210514 (Red Hat 8.5.0-22) Fedora 40 (Clang) Kernel: Depends on container host Compiler: clang 18.1.8 (Fedora 18.1.8-1.fc40) Ubuntu 24.04 Kernel: Depends on container host Compiler: gcc (Ubuntu 13.3.0-6ubuntu2~24.04) 13.3.0 Ubuntu 20.04 Kernel: Depends on container host Compiler: gcc (Ubuntu 9.4.0-1ubuntu1~20.04.2) 9.4.0 Ubuntu 22.04 Kernel: Depends on container host Compiler: gcc (Ubuntu 11.4.0-1ubuntu1~22.04) 11.4.0 Windows Server 2022 Kernel: 10.0.20348.2031 Compiler: clang 15.0.7, gcc 14.1.0 (MinGW), and MSVC VS 19.39.33521 To view detailed results, visit: https://lab.dpdk.org/results/dashboard/tarballs/33594/ UNH-IOL DPDK Community Lab To manage your email subscriptions, visit: https://lab.dpdk.org/results/dashboard/preferences/subscriptions/