From mboxrd@z Thu Jan 1 00:00:00 1970 Return-Path: Received: from mails.dpdk.org (mails.dpdk.org [217.70.189.124]) by inbox.dpdk.org (Postfix) with ESMTP id B8E37467A8 for ; Wed, 21 May 2025 09:23:45 +0200 (CEST) Received: from mails.dpdk.org (localhost [127.0.0.1]) by mails.dpdk.org (Postfix) with ESMTP id 9BDF040EAB; Wed, 21 May 2025 09:23:45 +0200 (CEST) Received: from mail-il1-f226.google.com (mail-il1-f226.google.com [209.85.166.226]) by mails.dpdk.org (Postfix) with ESMTP id 2490B40EA5 for ; Wed, 21 May 2025 09:23:44 +0200 (CEST) Received: by mail-il1-f226.google.com with SMTP id e9e14a558f8ab-3da73df6b6bso20379115ab.3 for ; Wed, 21 May 2025 00:23:44 -0700 (PDT) DKIM-Signature: v=1; a=rsa-sha256; c=relaxed/relaxed; d=iol.unh.edu; s=unh-iol; t=1747812223; x=1748417023; darn=dpdk.org; h=cc:to:from:subject:message-id:date:from:to:cc:subject:date :message-id:reply-to; bh=KPfeX6nhLbf9/zGijjG2f8JUF/G/s8v7EMtH7ZpU8Ao=; b=e1/x1HTdNfrKFt7UuMZEwVpIc7leX4QWxVhwv0hzsgyIfp9pPA4PtItbxJZ6PMWNbi NuotGCPlVBK+gtCzivJsLCiDAbV//1iqiSp+svcWNi8whkOpPt/1EvA6JfbUf3pXmGvL udmAIcKtC9Y/mh4NzRZqlKEpOwPNxKm9tE/aE= X-Google-DKIM-Signature: v=1; a=rsa-sha256; c=relaxed/relaxed; d=1e100.net; s=20230601; t=1747812223; x=1748417023; h=cc:to:from:subject:message-id:date:x-gm-message-state:from:to:cc :subject:date:message-id:reply-to; bh=KPfeX6nhLbf9/zGijjG2f8JUF/G/s8v7EMtH7ZpU8Ao=; b=AKonN3g84X1BBeWz8PtFW8gtyq2/qtqbUOIwp4O0qEg6NmNhac5vKw+e+xTynX7Qzb 2/E78wwubLcDbvM/L3zSSC3KR5HryeZCdNaeQzX2td4Xly6CwWeala0o8HoZiuG4BESR fVntBe//yF7YlozXfyKW8t8TKepnZ8cjXxCqKZn5QgH6iyC27FM/dB5EltokxRYAVqsQ s4yjGMiSfvj6XeGQrp4uUS+mazZlB/qG3ptD6gzK0FUZrEH34Ep4W9d+s8bqxM5qINZb rM+5+O6n2oPd9TxscTAUwG6TmcQQSOVI/urFCNNRL89Qs5t1feA0ozwkkVjeXetSQlrw meKQ== X-Gm-Message-State: AOJu0YyczQnr3UqWRw8OzZPP6B6qC6VmZpU9E7TRdWRGeTpIlFyWDIaI pHDZjkvM91EmjIFO/CABKX8GVwZbMCpMF3C0I4mDcqZtxWv/rTf5injBPWDx7Rw2SxZLkOrmutA v5fhq6jrJ7LMqUSjLQEnu9O4VnzZspf3apM/XvsIItzvB X-Gm-Gg: ASbGncubJDWlng73OdHtUcGV4mY4HqCP2p7IHyyl6CbnUiW3MYKAgce7D8adTEazxqQ id6q1+46rrrkfXB4CwfVBH73ZYrC390LouQR0A7Y0+VgCjKH7GtY71IXbOR3fLhU52D8QyqAJEC 77aLieLIKI9QesUkRdLeomeob/VP6VgswEAwFufZfyfaEiS9sPoyGIF1js/7H8+XFes1Hy0yAK2 jDTasuNFVM5b/rOxspukFXHZNX6J1XA5QSFfQZUUL83HUVFJ5zdNhLggh5XwsyMQJ8nTGTlQHtx C5P6ij2MjDYX0ic1yvVgBlL2QjYjDMAsA2/ewKLK1ZlVKD0ShkO5yDhErjY= X-Google-Smtp-Source: AGHT+IFP0uryMa+7pdlMTAizSGivyXHtM2yFfivzFsOf4ESVz2zQ6rGyHnE3CzZCypxnEYzR5+m4s4YYtkH+ X-Received: by 2002:a05:6e02:178f:b0:3dc:76c6:4391 with SMTP id e9e14a558f8ab-3dc76c6473amr80961235ab.20.1747812222944; Wed, 21 May 2025 00:23:42 -0700 (PDT) Received: from postal.iol.unh.edu (postal.iol.unh.edu. [132.177.123.84]) by smtp-relay.gmail.com with ESMTPS id e9e14a558f8ab-3dc787f2f58sm1899795ab.30.2025.05.21.00.23.42 (version=TLS1_2 cipher=ECDHE-ECDSA-AES128-GCM-SHA256 bits=128/128); Wed, 21 May 2025 00:23:42 -0700 (PDT) X-Relaying-Domain: iol.unh.edu Date: Wed, 21 May 2025 00:23:42 -0700 (PDT) Message-ID: <682d7f7e.050a0220.3526c8.a626SMTPIN_ADDED_MISSING@mx.google.com> Received: from [172.21.0.5] (unknown [172.18.0.240]) by postal.iol.unh.edu (Postfix) with ESMTP id 6DB426052471; Wed, 21 May 2025 03:23:42 -0400 (EDT) Subject: |SUCCESS| [GIT MASTER] a0dde342cc312fd75b63281f63d757db7482cdab From: dpdklab@iol.unh.edu To: Test Report Cc: dpdk-test-reports@iol.unh.edu, Stephen Hemminger Content-Type: text/plain X-BeenThere: test-report@dpdk.org X-Mailman-Version: 2.1.29 Precedence: list List-Id: automatic DPDK test reports List-Unsubscribe: , List-Archive: List-Post: List-Help: List-Subscribe: , Errors-To: test-report-bounces@dpdk.org _Testing PASS_ Branch: dpdk-next-net a0dde342cc312fd75b63281f63d757db7482cdab --> testing pass Upstream job id: Windows-Compile-DPDK-Native#28528 Test environment and result as below: +---------------------+--------------------+-------------------+-------------------------+ | Environment | dpdk_meson_compile | dpdk_msvc_compile | dpdk_llvm_clang_compile | +=====================+====================+===================+=========================+ | FreeBSD 13.5 | PASS | SKIPPED | SKIPPED | +---------------------+--------------------+-------------------+-------------------------+ | FreeBSD 14.2 | PASS | SKIPPED | SKIPPED | +---------------------+--------------------+-------------------+-------------------------+ | Ubuntu 20.04 | PASS | SKIPPED | SKIPPED | +---------------------+--------------------+-------------------+-------------------------+ | Windows Server 2022 | SKIPPED | PASS | PASS | +---------------------+--------------------+-------------------+-------------------------+ FreeBSD 13.5 Kernel: 13.5-RELEASE Compiler: clang 19.1.7 FreeBSD 14.2 Kernel: 14.2-RELEASE Compiler: clang 18.1.6 Ubuntu 20.04 Kernel: 4.19.325-0419325-generic Compiler: gcc (Ubuntu 9.4.0-1ubuntu1~20.04.2) 9.4.0 Windows Server 2022 Kernel: 10.0.20348.2031 Compiler: clang 15.0.7, gcc 14.1.0 (MinGW), and MSVC VS 19.39.33521 To view detailed results, visit: https://lab.dpdk.org/results/dashboard/tarballs/33598/ UNH-IOL DPDK Community Lab To manage your email subscriptions, visit: https://lab.dpdk.org/results/dashboard/preferences/subscriptions/