From mboxrd@z Thu Jan 1 00:00:00 1970 Return-Path: Received: from mails.dpdk.org (mails.dpdk.org [217.70.189.124]) by inbox.dpdk.org (Postfix) with ESMTP id 16DAA467A8 for ; Wed, 21 May 2025 09:27:03 +0200 (CEST) Received: from mails.dpdk.org (localhost [127.0.0.1]) by mails.dpdk.org (Postfix) with ESMTP id 131FD40EAB; Wed, 21 May 2025 09:27:03 +0200 (CEST) Received: from mail-yb1-f225.google.com (mail-yb1-f225.google.com [209.85.219.225]) by mails.dpdk.org (Postfix) with ESMTP id 715F040EA5 for ; Wed, 21 May 2025 09:27:01 +0200 (CEST) Received: by mail-yb1-f225.google.com with SMTP id 3f1490d57ef6-e75668006b9so6719770276.3 for ; Wed, 21 May 2025 00:27:01 -0700 (PDT) DKIM-Signature: v=1; a=rsa-sha256; c=relaxed/relaxed; d=iol.unh.edu; s=unh-iol; t=1747812421; x=1748417221; darn=dpdk.org; h=cc:to:from:subject:message-id:date:from:to:cc:subject:date :message-id:reply-to; bh=oVDTZkeSJftk4ZvnfHfRil02IRA38us93KgmV1hofOo=; b=AwWq+A39f4I11ghwM3UkMNdrikFKtS3IWWOZOOcra2AGI0gZ5PDbs+0rsUdOvCRxqu TnVYIenn3gDREuANUmc78m2M5MsuT4iJe3JMsj5+1oX7AzXRVLFtkE9qT/9boPWaKQjg jayU3unK6gxf4lcr3juC9ystqNoLzepR7v0nQ= X-Google-DKIM-Signature: v=1; a=rsa-sha256; c=relaxed/relaxed; d=1e100.net; s=20230601; t=1747812421; x=1748417221; h=cc:to:from:subject:message-id:date:x-gm-message-state:from:to:cc :subject:date:message-id:reply-to; bh=oVDTZkeSJftk4ZvnfHfRil02IRA38us93KgmV1hofOo=; b=IRNKPg5on8LGZo5rCLktJj4zW1gbyD5/1vClmPLbyX6Gk372Cj2Q5JPavzvlyhWO+O a4RF11LJ3BKTpeiS+MmvufDO4g1JUHpH9YXRVrzQ52cTxjfA9k4HAgELuPHjo7RktSp/ 2alI1736ygdYW+Eq45M9Q5DmSoPB7uIlHF2gd7noZ5zIY+72uL7d1UgM2PhnF0+8O/uH a4Q/U8DWmpTykuQAGTPhdcJRZ+va71vg8GAVhPQrNT51vJXUSgdBxm/u6U5o/DvGX9Jj xVdGDdVLl4CVavyqlJ1q7tYEMsd71LXJL77jGanEZJ/gnhn1RUZt4WqxC2v32jzJkV0y rmpQ== X-Gm-Message-State: AOJu0YxzhG/iAgCRmD9TZ1Ws0z2Ng2MTVBZVHqLTejSyL2kHp/+LyHQr pW5Jji0Aln2l/O5tHPcW4oBO6br6mIr1jNt8Mnx1gQnfiCDjexP2eeOjH0Ek3Zwtv5weh6U+CwJ V8yWS0N5Fr/bUYSb7UNrseiqDCUIMNhLzL7Sz7ZZzrZwz X-Gm-Gg: ASbGncs2AMaPZWDzMbt5Yq3+cR9Xa4fCgja7Z1OCy7FyC+TMPf3fdRGqZk3I65zXerg ATQamSzghk9LeWR9anv3A8v+aNQhifb7EAJmh2pdpYlt07pO6IpJYJfoNaPCM0HESHDRbGw5fwa 7LpuAdm0b5QnTbZaA+7PqXDurprYmfiJ3ASJWwvsYNdsizjn/ZQY7PNpThVSNMnn++dr4tSEh4d 5S4KZUBZTm+fFFHDpcHtFjayA2wvxJyp/g5LORtmz988ye0qurl79oRD6SfBZPdCP4WRtjjWKtL 7I/y1BaFyLKaxiIgPmgNqqzXp6Cqrg0sLfFiVxNs1TDjLgJRQ1Hez7ZWLR0= X-Google-Smtp-Source: AGHT+IFSw3VhCl7mdyNBdSKFGjSmuhklW6XnsUwS37dktTOy4cOAQabPQJHaRAdpPi4Sc753vZVeKzRM2h66 X-Received: by 2002:a05:6902:248b:b0:e7d:59e0:f65e with SMTP id 3f1490d57ef6-e7d59e0f6c2mr2899935276.1.1747812420822; Wed, 21 May 2025 00:27:00 -0700 (PDT) Received: from postal.iol.unh.edu (postal.iol.unh.edu. [132.177.123.84]) by smtp-relay.gmail.com with ESMTPS id 3f1490d57ef6-e7b95ebd176sm154292276.8.2025.05.21.00.27.00 (version=TLS1_2 cipher=ECDHE-ECDSA-AES128-GCM-SHA256 bits=128/128); Wed, 21 May 2025 00:27:00 -0700 (PDT) X-Relaying-Domain: iol.unh.edu Date: Wed, 21 May 2025 00:27:00 -0700 (PDT) Message-ID: <682d8044.050a0220.19902.7bebSMTPIN_ADDED_MISSING@mx.google.com> Received: from [172.21.0.5] (unknown [172.18.0.240]) by postal.iol.unh.edu (Postfix) with ESMTP id 6DB006052471; Wed, 21 May 2025 03:27:00 -0400 (EDT) Subject: |SUCCESS| [GIT MASTER] a0dde342cc312fd75b63281f63d757db7482cdab From: dpdklab@iol.unh.edu To: Test Report Cc: dpdk-test-reports@iol.unh.edu, Stephen Hemminger Content-Type: text/plain X-BeenThere: test-report@dpdk.org X-Mailman-Version: 2.1.29 Precedence: list List-Id: automatic DPDK test reports List-Unsubscribe: , List-Archive: List-Post: List-Help: List-Subscribe: , Errors-To: test-report-bounces@dpdk.org _Testing PASS_ Branch: dpdk-next-net a0dde342cc312fd75b63281f63d757db7482cdab --> testing pass Upstream job id: Windows-Compile-DPDK-Native#28529 Test environment and result as below: +---------------------+--------------------+-------------------+-------------------------+----------------------+ | Environment | dpdk_meson_compile | dpdk_msvc_compile | dpdk_llvm_clang_compile | dpdk_mingw64_compile | +=====================+====================+===================+=========================+======================+ | FreeBSD 13.5 | PASS | SKIPPED | SKIPPED | SKIPPED | +---------------------+--------------------+-------------------+-------------------------+----------------------+ | FreeBSD 14.2 | PASS | SKIPPED | SKIPPED | SKIPPED | +---------------------+--------------------+-------------------+-------------------------+----------------------+ | Ubuntu 20.04 | PASS | SKIPPED | SKIPPED | SKIPPED | +---------------------+--------------------+-------------------+-------------------------+----------------------+ | Windows Server 2022 | SKIPPED | PASS | PASS | PASS | +---------------------+--------------------+-------------------+-------------------------+----------------------+ FreeBSD 13.5 Kernel: 13.5-RELEASE Compiler: clang 19.1.7 FreeBSD 14.2 Kernel: 14.2-RELEASE Compiler: clang 18.1.6 Ubuntu 20.04 Kernel: 4.19.325-0419325-generic Compiler: gcc (Ubuntu 9.4.0-1ubuntu1~20.04.2) 9.4.0 Windows Server 2022 Kernel: 10.0.20348.2031 Compiler: clang 15.0.7, gcc 14.1.0 (MinGW), and MSVC VS 19.39.33521 To view detailed results, visit: https://lab.dpdk.org/results/dashboard/tarballs/33598/ UNH-IOL DPDK Community Lab To manage your email subscriptions, visit: https://lab.dpdk.org/results/dashboard/preferences/subscriptions/