automatic DPDK test reports
 help / color / mirror / Atom feed
* |PENDING| [GIT MASTER] a0dde342cc312fd75b63281f63d757db7482cdab
@ 2025-05-21  7:45 dpdklab
  0 siblings, 0 replies; 4+ messages in thread
From: dpdklab @ 2025-05-21  7:45 UTC (permalink / raw)
  To: Test Report; +Cc: dpdk-test-reports

_Testing pending_

Branch: dpdk-next-net

a0dde342cc312fd75b63281f63d757db7482cdab --> testing pending

Upstream job id: Generic-VM-Unit-Test-DPDK#28655

Test environment and result as below:

+---------------------+----------------+
|     Environment     | dpdk_unit_test |
+=====================+================+
| Fedora 40           | PEND           |
+---------------------+----------------+
| Fedora 41           | PEND           |
+---------------------+----------------+
| RHEL8               | PEND           |
+---------------------+----------------+
| Fedora 41 (Clang)   | PEND           |
+---------------------+----------------+
| Debian 12           | PEND           |
+---------------------+----------------+
| CentOS Stream 9     | PEND           |
+---------------------+----------------+
| CentOS Stream 10    | PEND           |
+---------------------+----------------+
| Fedora 40 (Clang)   | PEND           |
+---------------------+----------------+
| Ubuntu 22.04        | PEND           |
+---------------------+----------------+
| Ubuntu 24.04        | PEND           |
+---------------------+----------------+
| RHEL9               | PEND           |
+---------------------+----------------+
| Ubuntu 20.04        | PEND           |
+---------------------+----------------+
| Windows Server 2022 | PASS           |
+---------------------+----------------+


Fedora 40
	Kernel: Depends on container host
	Compiler: gcc 14.2.1 20240912 (Red Hat 14.2.1-3)

Fedora 41
	Kernel: Depends on container host
	Compiler: gcc 14.2.1 20240912 (Red Hat 14.2.1-3)

RHEL8
	Kernel: Depends on container host
	Compiler: gcc 8.5.0 20210514 (Red Hat 8.5.0-22)

Fedora 41 (Clang)
	Kernel: Depends on container host
	Compiler: clang 19.1.5 (Fedora 19.1.5-1.fc41)

Debian 12
	Kernel: Depends on container host
	Compiler: gcc (Debian 12.2.0-14) 12.2.0

CentOS Stream 9
	Kernel: Depends on container host
	Compiler: gcc 11.5.0 20240719 (Red Hat 11.5.0-2)

CentOS Stream 10
	Kernel: Depends on container host
	Compiler: gcc 14.2.1 20241104 (Red Hat 14.2.1-6)

Fedora 40 (Clang)
	Kernel: Depends on container host
	Compiler: clang 18.1.8 (Fedora 18.1.8-1.fc40)

Ubuntu 22.04
	Kernel: Depends on container host
	Compiler: gcc (Ubuntu 11.4.0-1ubuntu1~22.04) 11.4.0

Ubuntu 24.04
	Kernel: Depends on container host
	Compiler: gcc (Ubuntu 13.3.0-6ubuntu2~24.04) 13.3.0

RHEL9
	Kernel: Depends on container host
	Compiler: gcc 11.5.0 20240719 (Red Hat 11.5.0-2)

Ubuntu 20.04
	Kernel: Depends on container host
	Compiler: gcc (Ubuntu 9.4.0-1ubuntu1~20.04.2) 9.4.0

Windows Server 2022
	Kernel: 10.0.20348.2031
	Compiler: clang 15.0.7, gcc 14.1.0 (MinGW), and MSVC VS 19.39.33521

To view detailed results, visit:
https://lab.dpdk.org/results/dashboard/tarballs/33598/

UNH-IOL DPDK Community Lab

To manage your email subscriptions, visit: 
https://lab.dpdk.org/results/dashboard/preferences/subscriptions/

^ permalink raw reply	[flat|nested] 4+ messages in thread
* |PENDING| [GIT MASTER] a0dde342cc312fd75b63281f63d757db7482cdab
@ 2025-05-21  9:50 dpdklab
  0 siblings, 0 replies; 4+ messages in thread
From: dpdklab @ 2025-05-21  9:50 UTC (permalink / raw)
  To: Test Report; +Cc: dpdk-test-reports

_Testing pending_

Branch: dpdk-next-net

a0dde342cc312fd75b63281f63d757db7482cdab --> testing pending

Upstream job id: Generic-DPDK-Compile-Meson#389946

Test environment and result as below:

+------------------------------------+--------------------+
|            Environment             | dpdk_meson_compile |
+====================================+====================+
| RHEL9 (ARM)                        | PEND               |
+------------------------------------+--------------------+
| Ubuntu 20.04 ARM GCC Cross Compile | PEND               |
+------------------------------------+--------------------+
| Ubuntu 20.04 ARM SVE               | PASS               |
+------------------------------------+--------------------+
| Debian 12 with MUSDK               | PEND               |
+------------------------------------+--------------------+
| Fedora 40 (ARM)                    | PEND               |
+------------------------------------+--------------------+
| Fedora 40 (ARM Clang)              | PEND               |
+------------------------------------+--------------------+
| Fedora 41 (ARM)                    | PEND               |
+------------------------------------+--------------------+
| Fedora 41 (ARM Clang)              | PEND               |
+------------------------------------+--------------------+
| Ubuntu 20.04 (ARM)                 | PEND               |
+------------------------------------+--------------------+


RHEL9 (ARM)
	Kernel: Depends on container host
	Compiler: gcc 11.5.0 20240719 (Red Hat 11.5.0-2)

Ubuntu 20.04 ARM GCC Cross Compile
	Kernel: Depends on container host
	Compiler: aarch64-linux-gnu-gcc (Ubuntu 9.4.0-1ubuntu1~20.04.2) 9.4.0

Ubuntu 20.04 ARM SVE
	Kernel: Depends on container host
	Compiler: gcc (Ubuntu 10.5.0-1ubuntu1~20.04) 10.5.0

Debian 12 with MUSDK
	Kernel: Depends on container host
	Compiler: gcc (Debian 12.2.0-14) 12.2.0

Fedora 40 (ARM)
	Kernel: Depends on container host
	Compiler: gcc 14.2.1 20240912 (Red Hat 14.2.1-3)

Fedora 40 (ARM Clang)
	Kernel: Depends on container host
	Compiler: clang 18.1.8 (Fedora 18.1.8-1.fc40)

Fedora 41 (ARM)
	Kernel: Depends on container host
	Compiler: gcc 14.2.1 20240912 (Red Hat 14.2.1-3)

Fedora 41 (ARM Clang)
	Kernel: Depends on container host
	Compiler: clang 19.1.5 (Fedora 19.1.5-1.fc41)

Ubuntu 20.04 (ARM)
	Kernel: Depends on container host
	Compiler: gcc (Ubuntu 9.4.0-1ubuntu1~20.04.2) 9.4.0

To view detailed results, visit:
https://lab.dpdk.org/results/dashboard/tarballs/33598/

UNH-IOL DPDK Community Lab

To manage your email subscriptions, visit: 
https://lab.dpdk.org/results/dashboard/preferences/subscriptions/

^ permalink raw reply	[flat|nested] 4+ messages in thread
* |PENDING| [GIT MASTER] a0dde342cc312fd75b63281f63d757db7482cdab
@ 2025-05-21  7:19 dpdklab
  0 siblings, 0 replies; 4+ messages in thread
From: dpdklab @ 2025-05-21  7:19 UTC (permalink / raw)
  To: Test Report; +Cc: dpdk-test-reports

_Testing pending_

Branch: dpdk-next-net

a0dde342cc312fd75b63281f63d757db7482cdab --> testing pending

Upstream job id: Aarch32-Unit-Test#6293

Test environment and result as below:

+-----------------------------+------------------------------+--------------+---------------------------+----------------+
|         Environment         | cryptodev_sw_snow3g_autotest | lpm_autotest | cryptodev_sw_zuc_autotest | dpdk_unit_test |
+=============================+==============================+==============+===========================+================+
| Debian 12 (arm)             | PEND                         | SKIPPED      | PEND                      | PEND           |
+-----------------------------+------------------------------+--------------+---------------------------+----------------+
| Ubuntu 20.04 ARM SVE        | SKIPPED                      | PEND         | SKIPPED                   | SKIPPED        |
+-----------------------------+------------------------------+--------------+---------------------------+----------------+
| Fedora 41 (ARM)             | SKIPPED                      | SKIPPED      | SKIPPED                   | PEND           |
+-----------------------------+------------------------------+--------------+---------------------------+----------------+
| Fedora 40 (ARM)             | SKIPPED                      | SKIPPED      | SKIPPED                   | PEND           |
+-----------------------------+------------------------------+--------------+---------------------------+----------------+
| Fedora 41 (ARM Clang)       | SKIPPED                      | SKIPPED      | SKIPPED                   | PEND           |
+-----------------------------+------------------------------+--------------+---------------------------+----------------+
| Fedora 40 (ARM Clang)       | SKIPPED                      | SKIPPED      | SKIPPED                   | PEND           |
+-----------------------------+------------------------------+--------------+---------------------------+----------------+
| CentOS Stream 10 (ARM)      | SKIPPED                      | SKIPPED      | SKIPPED                   | PEND           |
+-----------------------------+------------------------------+--------------+---------------------------+----------------+
| CentOS Stream 9 (ARM)       | SKIPPED                      | SKIPPED      | SKIPPED                   | PEND           |
+-----------------------------+------------------------------+--------------+---------------------------+----------------+
| Ubuntu 22.04 (ARM)          | SKIPPED                      | SKIPPED      | SKIPPED                   | PEND           |
+-----------------------------+------------------------------+--------------+---------------------------+----------------+
| RHEL9 (ARM)                 | SKIPPED                      | SKIPPED      | SKIPPED                   | PEND           |
+-----------------------------+------------------------------+--------------+---------------------------+----------------+
| Ubuntu 24.04 (ARM)          | SKIPPED                      | SKIPPED      | SKIPPED                   | PEND           |
+-----------------------------+------------------------------+--------------+---------------------------+----------------+
| Ubuntu 20.04 (ARM)          | SKIPPED                      | SKIPPED      | SKIPPED                   | PEND           |
+-----------------------------+------------------------------+--------------+---------------------------+----------------+
| 32-bit Ubuntu 22.04.4 (ARM) | SKIPPED                      | SKIPPED      | SKIPPED                   | PASS           |
+-----------------------------+------------------------------+--------------+---------------------------+----------------+


Debian 12 (arm)
	Kernel: Depends on container host
	Compiler: gcc (Debian 12.2.0-14) 12.2.0

Ubuntu 20.04 ARM SVE
	Kernel: Depends on container host
	Compiler: gcc (Ubuntu 10.5.0-1ubuntu1~20.04) 10.5.0

Fedora 41 (ARM)
	Kernel: Depends on container host
	Compiler: gcc 14.2.1 20240912 (Red Hat 14.2.1-3)

Fedora 40 (ARM)
	Kernel: Depends on container host
	Compiler: gcc 14.2.1 20240912 (Red Hat 14.2.1-3)

Fedora 41 (ARM Clang)
	Kernel: Depends on container host
	Compiler: clang 19.1.5 (Fedora 19.1.5-1.fc41)

Fedora 40 (ARM Clang)
	Kernel: Depends on container host
	Compiler: clang 18.1.8 (Fedora 18.1.8-1.fc40)

CentOS Stream 10 (ARM)
	Kernel: Depends on container host
	Compiler: gcc 14.2.1 20241104 (Red Hat 14.2.1-6)

CentOS Stream 9 (ARM)
	Kernel: Depends on container host
	Compiler: gcc 11.5.0 20240719 (Red Hat 11.5.0-2)

Ubuntu 22.04 (ARM)
	Kernel: Depends on container host
	Compiler: gcc (Ubuntu 11.4.0-1ubuntu1~22.04) 11.4.0

RHEL9 (ARM)
	Kernel: Depends on container host
	Compiler: gcc 11.5.0 20240719 (Red Hat 11.5.0-2)

Ubuntu 24.04 (ARM)
	Kernel: Depends on container host
	Compiler: gcc (Ubuntu 13.3.0-6ubuntu2~24.04) 13.3.0

Ubuntu 20.04 (ARM)
	Kernel: Depends on container host
	Compiler: gcc (Ubuntu 9.4.0-1ubuntu1~20.04.2) 9.4.0

32-bit Ubuntu 22.04.4 (ARM)
	Kernel: 5.15.83+ aarch64
	Compiler: gcc (Ubuntu 11.4.0-1ubuntu1~22.04) 11.4.0

To view detailed results, visit:
https://lab.dpdk.org/results/dashboard/tarballs/33598/

UNH-IOL DPDK Community Lab

To manage your email subscriptions, visit: 
https://lab.dpdk.org/results/dashboard/preferences/subscriptions/

^ permalink raw reply	[flat|nested] 4+ messages in thread
* |PENDING| [GIT MASTER] a0dde342cc312fd75b63281f63d757db7482cdab
@ 2025-05-21  6:46 dpdklab
  0 siblings, 0 replies; 4+ messages in thread
From: dpdklab @ 2025-05-21  6:46 UTC (permalink / raw)
  To: Test Report; +Cc: dpdk-test-reports

_Testing pending_

Branch: dpdk-next-net

a0dde342cc312fd75b63281f63d757db7482cdab --> testing pending

Upstream job id: Generic-VM-DPDK-Compile-Meson#35614

Test environment and result as below:

+---------------------+--------------------+-------------------+
|     Environment     | dpdk_meson_compile | dpdk_msvc_compile |
+=====================+====================+===================+
| FreeBSD 13.5        | PASS               | SKIPPED           |
+---------------------+--------------------+-------------------+
| FreeBSD 14.2        | PEND               | SKIPPED           |
+---------------------+--------------------+-------------------+
| Ubuntu 20.04        | PEND               | SKIPPED           |
+---------------------+--------------------+-------------------+
| Windows Server 2022 | SKIPPED            | PEND              |
+---------------------+--------------------+-------------------+


FreeBSD 13.5
	Kernel: 13.5-RELEASE
	Compiler: clang 19.1.7

FreeBSD 14.2
	Kernel: 14.2-RELEASE
	Compiler: clang 18.1.6

Ubuntu 20.04
	Kernel: 4.19.325-0419325-generic
	Compiler: gcc (Ubuntu 9.4.0-1ubuntu1~20.04.2) 9.4.0

Windows Server 2022
	Kernel: 10.0.20348.2031
	Compiler: clang 15.0.7, gcc 14.1.0 (MinGW), and MSVC VS 19.39.33521

To view detailed results, visit:
https://lab.dpdk.org/results/dashboard/tarballs/33598/

UNH-IOL DPDK Community Lab

To manage your email subscriptions, visit: 
https://lab.dpdk.org/results/dashboard/preferences/subscriptions/

^ permalink raw reply	[flat|nested] 4+ messages in thread

end of thread, other threads:[~2025-05-21  9:50 UTC | newest]

Thread overview: 4+ messages (download: mbox.gz / follow: Atom feed)
-- links below jump to the message on this page --
2025-05-21  7:45 |PENDING| [GIT MASTER] a0dde342cc312fd75b63281f63d757db7482cdab dpdklab
  -- strict thread matches above, loose matches on Subject: below --
2025-05-21  9:50 dpdklab
2025-05-21  7:19 dpdklab
2025-05-21  6:46 dpdklab

This is a public inbox, see mirroring instructions
for how to clone and mirror all data and code used for this inbox;
as well as URLs for NNTP newsgroup(s).