From mboxrd@z Thu Jan 1 00:00:00 1970 Return-Path: Received: from mails.dpdk.org (mails.dpdk.org [217.70.189.124]) by inbox.dpdk.org (Postfix) with ESMTP id E3CBA467AA for ; Wed, 21 May 2025 10:33:58 +0200 (CEST) Received: from mails.dpdk.org (localhost [127.0.0.1]) by mails.dpdk.org (Postfix) with ESMTP id C062F40E28; Wed, 21 May 2025 10:33:58 +0200 (CEST) Received: from mail-pf1-f228.google.com (mail-pf1-f228.google.com [209.85.210.228]) by mails.dpdk.org (Postfix) with ESMTP id E781340151 for ; Wed, 21 May 2025 10:33:57 +0200 (CEST) Received: by mail-pf1-f228.google.com with SMTP id d2e1a72fcca58-742b614581dso5112183b3a.3 for ; Wed, 21 May 2025 01:33:57 -0700 (PDT) DKIM-Signature: v=1; a=rsa-sha256; c=relaxed/relaxed; d=iol.unh.edu; s=unh-iol; t=1747816436; x=1748421236; darn=dpdk.org; h=cc:to:from:subject:message-id:date:from:to:cc:subject:date :message-id:reply-to; bh=lxE+L8xKIkltljr6USFKfN7UzYVCFxp03rKx5osJq+8=; b=Hlr+/ehltoR4dw/JaWYiPgGoz76BirWFn4OHsnshBxBVOPTSgDctj6TD4yV3JgKyEj 2Qa8uU8eIRG8/99RgZrlbbP87v9f33EH4rhxLwIFEkpPEX4d81XeBbtfEAxXQBNeZ7bW FlxXLL8761LoPEbHOc3qKEeNTrFDFQSnlo5/o= X-Google-DKIM-Signature: v=1; a=rsa-sha256; c=relaxed/relaxed; d=1e100.net; s=20230601; t=1747816436; x=1748421236; h=cc:to:from:subject:message-id:date:x-gm-message-state:from:to:cc :subject:date:message-id:reply-to; bh=lxE+L8xKIkltljr6USFKfN7UzYVCFxp03rKx5osJq+8=; b=kZNzxk9sNf3KtYBUIuA3xvDKMYvim2wu+RTvfYvtS2X3+UxDkHaHzsPskJpmTvqoj8 Zp+TPb8KDeuhywW/qyNwAy10H1OIL9573A7AB7rF4kROWz/bHJv6zh9CnLVcc2007Ho2 3BoOHTH4l4cxEfwPJBrnO+TT6pmNiBD73rGAWkt02/2Z7utYR5kiLf3Bn1sxj2f4qBU3 blEAcRr8NxTbuAqvIwNaRP0s1uQ9THUUuIe92P5jEqfZj5CKb0Gzn3G7Sc9HduCmFJ31 8qFQEmw+pDdDUhCAcEQQK7itbqkid2kdrBu2F5SuVwq29vglkuw07AJNHMF3/7JqG19j kD9w== X-Gm-Message-State: AOJu0YxsxK1ZxWrL7gj6IehTvrtnCmwZ+J+bWHpIfc4+s1DuihCu+M3X N7vknwkMcfwsG2dO8klrl0QDs9RZ7wxzZFfMkZ78agN0IoLjmiN7nbiA7SfSvKjlUgy/BpFAFU9 vPwdmxAu2ft2Z/wk+tmAWhbgSYXILAnPUR51W X-Gm-Gg: ASbGncsWlwqXBZzZeELSOv2bWRbr3oJek0aOlxS4Rh3RojQGxFjF8bIi6gPM/rh5O2+ N+N4CsHMDUA+WfkKOTVvw4VLRXgFX1lf5mXEvJlj36N/5ySypsPgXzEw4jNo4oBM9QyWm3/2tkq qMmyxLo96RsbJVIJsRmXoWt65lbBryNNTzi5DYsnirbLd1oPX67+cSrUYgJWmxF75NATZVDTBmV zQUj7h27Ijn1RftqG345LBupwNX4i0rsj6HtMWiGobTJaPraV0jssVExlAT92/2/7vHrawTRbCv TeLWNUCJq6DZJhEfLw+PR6ZExN46zHEXdlAKzS2FnKnKel5Dv/VIu3k3Km4= X-Google-Smtp-Source: AGHT+IEe/Xd302JJ71MEnkaua1METeVzyPYsbxdeAijl5u5hUXvsVgLQefxZUM32z7Bvl6Y0Q9yWZGplQG29 X-Received: by 2002:a05:6a20:1591:b0:201:b65:81ab with SMTP id adf61e73a8af0-2170cc8e813mr28365400637.23.1747816436507; Wed, 21 May 2025 01:33:56 -0700 (PDT) Received: from postal.iol.unh.edu (postal.iol.unh.edu. [132.177.123.84]) by smtp-relay.gmail.com with ESMTPS id d2e1a72fcca58-742a973cd65sm652845b3a.7.2025.05.21.01.33.56 (version=TLS1_2 cipher=ECDHE-ECDSA-AES128-GCM-SHA256 bits=128/128); Wed, 21 May 2025 01:33:56 -0700 (PDT) X-Relaying-Domain: iol.unh.edu Date: Wed, 21 May 2025 01:33:56 -0700 (PDT) Message-ID: <682d8ff4.050a0220.276baf.1b1cSMTPIN_ADDED_MISSING@mx.google.com> Received: from [172.21.0.8] (unknown [172.18.0.240]) by postal.iol.unh.edu (Postfix) with ESMTP id A2F016052471; Wed, 21 May 2025 04:33:55 -0400 (EDT) Subject: |SUCCESS| [GIT MASTER] 4401486b5e30d43a134f80f9802f60b5f43e74a8 From: dpdklab@iol.unh.edu To: Test Report Cc: dpdk-test-reports@iol.unh.edu, Xueming Li , Christian Ehrhardt , Kevin Traynor , Luca Boccassi Content-Type: text/plain X-BeenThere: test-report@dpdk.org X-Mailman-Version: 2.1.29 Precedence: list List-Id: automatic DPDK test reports List-Unsubscribe: , List-Archive: List-Post: List-Help: List-Subscribe: , Errors-To: test-report-bounces@dpdk.org _Testing PASS_ Branch: tags/v22.11 4401486b5e30d43a134f80f9802f60b5f43e74a8 --> testing pass Upstream job id: Generic-Unit-Test-DPDK#339428 Test environment and result as below: +-----------------------------+---------------------------+--------------+------------------------------+----------------+ | Environment | cryptodev_sw_zuc_autotest | lpm_autotest | cryptodev_sw_snow3g_autotest | dpdk_unit_test | +=============================+===========================+==============+==============================+================+ | Debian 12 (arm) | PASS | SKIPPED | PASS | SKIPPED | +-----------------------------+---------------------------+--------------+------------------------------+----------------+ | Ubuntu 20.04 ARM SVE | SKIPPED | PASS | SKIPPED | SKIPPED | +-----------------------------+---------------------------+--------------+------------------------------+----------------+ | 32-bit Ubuntu 22.04.4 (ARM) | SKIPPED | SKIPPED | SKIPPED | PASS | +-----------------------------+---------------------------+--------------+------------------------------+----------------+ Debian 12 (arm) Kernel: Depends on container host Compiler: gcc (Debian 12.2.0-14) 12.2.0 Ubuntu 20.04 ARM SVE Kernel: Depends on container host Compiler: gcc (Ubuntu 10.5.0-1ubuntu1~20.04) 10.5.0 32-bit Ubuntu 22.04.4 (ARM) Kernel: 5.15.83+ aarch64 Compiler: gcc (Ubuntu 11.4.0-1ubuntu1~22.04) 11.4.0 To view detailed results, visit: https://lab.dpdk.org/results/dashboard/tarballs/33595/ UNH-IOL DPDK Community Lab To manage your email subscriptions, visit: https://lab.dpdk.org/results/dashboard/preferences/subscriptions/