From mboxrd@z Thu Jan 1 00:00:00 1970 Return-Path: Received: from mails.dpdk.org (mails.dpdk.org [217.70.189.124]) by inbox.dpdk.org (Postfix) with ESMTP id 3D9D0467AA for ; Wed, 21 May 2025 10:58:03 +0200 (CEST) Received: from mails.dpdk.org (localhost [127.0.0.1]) by mails.dpdk.org (Postfix) with ESMTP id 39DE2410DC; Wed, 21 May 2025 10:58:03 +0200 (CEST) Received: from mail-pg1-f228.google.com (mail-pg1-f228.google.com [209.85.215.228]) by mails.dpdk.org (Postfix) with ESMTP id 8907540151 for ; Wed, 21 May 2025 10:58:01 +0200 (CEST) Received: by mail-pg1-f228.google.com with SMTP id 41be03b00d2f7-7fd35b301bdso7331123a12.2 for ; Wed, 21 May 2025 01:58:01 -0700 (PDT) DKIM-Signature: v=1; a=rsa-sha256; c=relaxed/relaxed; d=iol.unh.edu; s=unh-iol; t=1747817880; x=1748422680; darn=dpdk.org; h=cc:to:from:subject:message-id:date:from:to:cc:subject:date :message-id:reply-to; bh=GazsYK8BAE9GZqK8/qm6JdYbHqUTQXnQxYmYo+dJrMQ=; b=gXLaXGRaOEsGwOLeEON+T1w7Q69aiAK6WwHPMkfH6oRaY7pgvCnmTFIAbcmPJHox1k JQHtH5V/UDmFthje029aIqsZDBmFDaADEH/4OQW6tIfKIpKZJHyMc8VtN5WjInqF+X5k YMWnmVR+B57zEaYxDTGl22Cm6uvjPp7gNtiSc= X-Google-DKIM-Signature: v=1; a=rsa-sha256; c=relaxed/relaxed; d=1e100.net; s=20230601; t=1747817880; x=1748422680; h=cc:to:from:subject:message-id:date:x-gm-message-state:from:to:cc :subject:date:message-id:reply-to; bh=GazsYK8BAE9GZqK8/qm6JdYbHqUTQXnQxYmYo+dJrMQ=; b=cQDUguhkQ8tCawuPC6vI5voD9zyVLLhxwEozdTBlYpzgDN7/FzGrEHK7/rZgbRS1Jt eLGh4XgvbdcKCBCSjdeD4RmNOQXO3nZV9wXOG7wNfILTa2dHToscadRMj5262u/qtYIq LM8XFIERgeMf847I8v+ffsN7Yyh4ozxHPmSlZY723yrhr+y1ue+GqWSYGSzVOVGxMj95 BEaSXb0io4d0bqRgUl4iTIeKR5xMkJyF+Tj3TMoxim3UGoqHZba7a5mC1ZnSf12YUnIv Z4cgRXOum32q+rJAwcceAFhJPvel6QtXdQu8euEQGkOATh28Pn04/oLyIvciHwQJWc/j Kngw== X-Gm-Message-State: AOJu0Yz2bRuTusmuBve87GL+XPzt70WNgt1YfUpyhVeMwckbYWd5ZJ+G CYbMsdY6WZWxcTvYeVtOJtaJRqcTCa8e9JUjM0O57YSc5GZWHMELWWTFQGXAIrm3B+r4seMQIE0 FolhlzLgr5Ws7mSnkVgepMNGJXYCONIPZed89 X-Gm-Gg: ASbGncufzA1WfvJEgUJQKMQ1nYcCYDAySQUZk7MjxlLJq9X/xJOCz734vz190mZgHSC CkH3e1an+7rSFFIAHBlF6+i8hKd2zJ2TajMJvKaqSoJv3vo1D2E5SmI8Gl9pLCR6LoqUt03/Jyr +Gkv2i+WAlMbR8ochsb9NMp9tHGyzp5aKf6sOa9oZSffoSh/Zxqb/Oyms7bLktLGIfA+ZIEM8K1 LNGUe0riiWgLckdbihT2UXytZ3WLaGJu6P1KSSIaFfAefWjPoOTm7YvChzCuV9QeDjRMjfzTUWG 4B70Ee02h/2HZDbNMvs2TOuJn0wj/K9nEJATIb096QeoYQQmLEO6TVQ3OkA= X-Google-Smtp-Source: AGHT+IE/J12m/i4ZBquUxH5sMcddBCyoK0G8BSSSicd2Aa5xZJq4Emlh4ocqWyb3UB2LmX7QMGiz5hkRxXpn X-Received: by 2002:a17:903:320d:b0:224:1781:a947 with SMTP id d9443c01a7336-231de36ba3cmr255477795ad.21.1747817880288; Wed, 21 May 2025 01:58:00 -0700 (PDT) Received: from postal.iol.unh.edu (postal.iol.unh.edu. [132.177.123.84]) by smtp-relay.gmail.com with ESMTPS id d9443c01a7336-232202ead6csm3979315ad.83.2025.05.21.01.58.00 (version=TLS1_2 cipher=ECDHE-ECDSA-AES128-GCM-SHA256 bits=128/128); Wed, 21 May 2025 01:58:00 -0700 (PDT) X-Relaying-Domain: iol.unh.edu Date: Wed, 21 May 2025 01:58:00 -0700 (PDT) Message-ID: <682d9598.170a0220.1bcaee.8e78SMTPIN_ADDED_MISSING@mx.google.com> Received: from [172.21.0.6] (unknown [172.18.0.240]) by postal.iol.unh.edu (Postfix) with ESMTP id 6568B6052471; Wed, 21 May 2025 04:57:59 -0400 (EDT) Subject: |WARNING| [GIT MASTER] 83a7a648344674c0269fcaeb71d8d16468421a0e From: dpdklab@iol.unh.edu To: Test Report Cc: dpdk-test-reports@iol.unh.edu, Xueming Li , Christian Ehrhardt , Kevin Traynor , Luca Boccassi Content-Type: text/plain X-BeenThere: test-report@dpdk.org X-Mailman-Version: 2.1.29 Precedence: list List-Id: automatic DPDK test reports List-Unsubscribe: , List-Archive: List-Post: List-Help: List-Subscribe: , Errors-To: test-report-bounces@dpdk.org _Testing issues_ Branch: tags/v23.11 83a7a648344674c0269fcaeb71d8d16468421a0e --> testing issues Upstream job id: Generic-DPDK-Compile-Meson#389886 Test environment and result as below: +---------------------+--------------------+-------------------+------------------+-------------------+-------------------------+----------------------+ | Environment | dpdk_meson_compile | dpdk_compile_spdk | dpdk_compile_ovs | dpdk_msvc_compile | dpdk_llvm_clang_compile | dpdk_mingw64_compile | +=====================+====================+===================+==================+===================+=========================+======================+ | CentOS Stream 9 | PASS | PASS | SKIPPED | SKIPPED | SKIPPED | SKIPPED | +---------------------+--------------------+-------------------+------------------+-------------------+-------------------------+----------------------+ | CentOS Stream 10 | PASS | SKIPPED | SKIPPED | SKIPPED | SKIPPED | SKIPPED | +---------------------+--------------------+-------------------+------------------+-------------------+-------------------------+----------------------+ | Debian 12 | PASS | PASS | SKIPPED | SKIPPED | SKIPPED | SKIPPED | +---------------------+--------------------+-------------------+------------------+-------------------+-------------------------+----------------------+ | Fedora 40 (Clang) | PASS | WARN | SKIPPED | SKIPPED | SKIPPED | SKIPPED | +---------------------+--------------------+-------------------+------------------+-------------------+-------------------------+----------------------+ | Fedora 40 | PEND | PEND | SKIPPED | SKIPPED | SKIPPED | SKIPPED | +---------------------+--------------------+-------------------+------------------+-------------------+-------------------------+----------------------+ | Fedora 41 (Clang) | PEND | PEND | PEND | SKIPPED | SKIPPED | SKIPPED | +---------------------+--------------------+-------------------+------------------+-------------------+-------------------------+----------------------+ | Fedora 41 | PEND | PEND | PEND | SKIPPED | SKIPPED | SKIPPED | +---------------------+--------------------+-------------------+------------------+-------------------+-------------------------+----------------------+ | openSUSE Leap 15 | PEND | SKIPPED | SKIPPED | SKIPPED | SKIPPED | SKIPPED | +---------------------+--------------------+-------------------+------------------+-------------------+-------------------------+----------------------+ | Ubuntu 20.04 | PEND | SKIPPED | SKIPPED | SKIPPED | SKIPPED | SKIPPED | +---------------------+--------------------+-------------------+------------------+-------------------+-------------------------+----------------------+ | RHEL8 | PEND | SKIPPED | SKIPPED | SKIPPED | SKIPPED | SKIPPED | +---------------------+--------------------+-------------------+------------------+-------------------+-------------------------+----------------------+ | RHEL9 | PEND | SKIPPED | SKIPPED | SKIPPED | SKIPPED | SKIPPED | +---------------------+--------------------+-------------------+------------------+-------------------+-------------------------+----------------------+ | FreeBSD 13.5 | PASS | SKIPPED | SKIPPED | SKIPPED | SKIPPED | SKIPPED | +---------------------+--------------------+-------------------+------------------+-------------------+-------------------------+----------------------+ | Ubuntu 22.04 | PEND | PEND | SKIPPED | SKIPPED | SKIPPED | SKIPPED | +---------------------+--------------------+-------------------+------------------+-------------------+-------------------------+----------------------+ | Ubuntu 24.04 | PEND | PEND | PEND | SKIPPED | SKIPPED | SKIPPED | +---------------------+--------------------+-------------------+------------------+-------------------+-------------------------+----------------------+ | Alpine | PEND | SKIPPED | SKIPPED | SKIPPED | SKIPPED | SKIPPED | +---------------------+--------------------+-------------------+------------------+-------------------+-------------------------+----------------------+ | FreeBSD 14.2 | PASS | SKIPPED | SKIPPED | SKIPPED | SKIPPED | SKIPPED | +---------------------+--------------------+-------------------+------------------+-------------------+-------------------------+----------------------+ | Windows Server 2022 | SKIPPED | SKIPPED | SKIPPED | PASS | PASS | PASS | +---------------------+--------------------+-------------------+------------------+-------------------+-------------------------+----------------------+ ==== 20 line log output for Fedora 40 (Clang) (dpdk_compile_spdk): ==== --- Failed to get log output --- ==== End log output ==== CentOS Stream 9 Kernel: Depends on container host Compiler: gcc 11.5.0 20240719 (Red Hat 11.5.0-2) CentOS Stream 10 Kernel: Depends on container host Compiler: gcc 14.2.1 20241104 (Red Hat 14.2.1-6) Debian 12 Kernel: Depends on container host Compiler: gcc (Debian 12.2.0-14) 12.2.0 Fedora 40 (Clang) Kernel: Depends on container host Compiler: clang 18.1.8 (Fedora 18.1.8-1.fc40) Fedora 40 Kernel: Depends on container host Compiler: gcc 14.2.1 20240912 (Red Hat 14.2.1-3) Fedora 41 (Clang) Kernel: Depends on container host Compiler: clang 19.1.5 (Fedora 19.1.5-1.fc41) Fedora 41 Kernel: Depends on container host Compiler: gcc 14.2.1 20240912 (Red Hat 14.2.1-3) openSUSE Leap 15 Kernel: Depends on container host Compiler: gcc (SUSE Linux) 7.5.0 Ubuntu 20.04 Kernel: 4.19.325-0419325-generic Compiler: gcc (Ubuntu 9.4.0-1ubuntu1~20.04.2) 9.4.0 RHEL8 Kernel: Depends on container host Compiler: gcc 8.5.0 20210514 (Red Hat 8.5.0-22) RHEL9 Kernel: Depends on container host Compiler: gcc 11.5.0 20240719 (Red Hat 11.5.0-2) FreeBSD 13.5 Kernel: 13.5-RELEASE Compiler: clang 19.1.7 Ubuntu 22.04 Kernel: Depends on container host Compiler: gcc (Ubuntu 11.4.0-1ubuntu1~22.04) 11.4.0 Ubuntu 24.04 Kernel: Depends on container host Compiler: gcc (Ubuntu 13.3.0-6ubuntu2~24.04) 13.3.0 Alpine Kernel: Depends on container host Compiler: gcc (Alpine 14.2.0) 14.2.0 FreeBSD 14.2 Kernel: 14.2-RELEASE Compiler: clang 18.1.6 Windows Server 2022 Kernel: 10.0.20348.2031 Compiler: clang 15.0.7, gcc 14.1.0 (MinGW), and MSVC VS 19.39.33521 To view detailed results, visit: https://lab.dpdk.org/results/dashboard/tarballs/33596/ UNH-IOL DPDK Community Lab To manage your email subscriptions, visit: https://lab.dpdk.org/results/dashboard/preferences/subscriptions/