From mboxrd@z Thu Jan 1 00:00:00 1970 Return-Path: Received: from mails.dpdk.org (mails.dpdk.org [217.70.189.124]) by inbox.dpdk.org (Postfix) with ESMTP id 24111467AA for ; Wed, 21 May 2025 11:06:44 +0200 (CEST) Received: from mails.dpdk.org (localhost [127.0.0.1]) by mails.dpdk.org (Postfix) with ESMTP id 1A3B4410DC; Wed, 21 May 2025 11:06:44 +0200 (CEST) Received: from mail-pf1-f225.google.com (mail-pf1-f225.google.com [209.85.210.225]) by mails.dpdk.org (Postfix) with ESMTP id A98DC40151 for ; Wed, 21 May 2025 11:06:42 +0200 (CEST) Received: by mail-pf1-f225.google.com with SMTP id d2e1a72fcca58-739b3fe7ce8so5492951b3a.0 for ; Wed, 21 May 2025 02:06:42 -0700 (PDT) DKIM-Signature: v=1; a=rsa-sha256; c=relaxed/relaxed; d=iol.unh.edu; s=unh-iol; t=1747818402; x=1748423202; darn=dpdk.org; h=cc:to:from:subject:message-id:date:from:to:cc:subject:date :message-id:reply-to; bh=uWaXTei6PzNAMwwCCQQznErCrlcE3DgaEwgp8L0HiJI=; b=NTdxgGN8CvR9NiNwG0str+XQfLqftg0h5J2fi32EDfS3wHHUHySx5fJIRqyadZhY7Z Gxj3Lv1a6NkQ29dvorZRBARzRjCbpfamr20D+RysYbEoY4tZCAovNiVyBD48RO3dRZDa FaHp338qYfqB30GqMIF3PXd5ZoTRhfZ7XSwnI= X-Google-DKIM-Signature: v=1; a=rsa-sha256; c=relaxed/relaxed; d=1e100.net; s=20230601; t=1747818402; x=1748423202; h=cc:to:from:subject:message-id:date:x-gm-message-state:from:to:cc :subject:date:message-id:reply-to; bh=uWaXTei6PzNAMwwCCQQznErCrlcE3DgaEwgp8L0HiJI=; b=G33Hs0+tci3Th4q/NnF67QHPFWFOxbK/QjUcvG4EHbopNaDlHEWqlA0ywxSDlMp2r0 r1TdOZke+4GUJhSipoM297KC7iRGhxrJo1ThXTQ5v+Fju5jv4gvGm78g+/q6qiqtsu2T jLz6VgUWCIwTU70UtPilejibHfsgfQLoJ6qChE4ir6/pLAgB/kCgTbo2qUv9rcXqD61u /V/vXiQE+cdJOikJJt89MlqzrL/h0NpytBu7ckQKH3DJxOy3ITg29DdTRiJhx4QbHJjw tz2/pam3nvvdXH4LAb295lRd8isCo0IRUJLU9EC+BZbo1JKvl7PvK8xdPrh3FPdKvdyd Dt2g== X-Gm-Message-State: AOJu0YyvbEo09TTCiXkkj9l8XZ83sAPcSZXjClfJI751KGzDZTOp8Twp vOlpJp6nqdO7TN38qoYYc4d3f21Gz25wPlfWzl00ZDgjGaqMWq0HencXGS6fQWBkkFGBMkA2/mE GSmYCx3T1yyKMNfy1rFHfkxqUsc8GwKwM3FVL X-Gm-Gg: ASbGncs+OHRmVb4gq6TvT4y54zOLXb4LuM9xw4KfzjjMeRNiU017vJIrb5tK3+hDimU EBeE6ThU+RSusoaUzseG8IWrovweolV31/7Sh+60VcRxO2f5iRb9KkJrqi61bya6P67LXLX8el2 DG7r/FMM8Zb6ovU2SVqORTmZuHfI6pCcoWPzbCqOqjgvJs4mEjqp316LVd0txayAoI8MblFB4Vh DHzJBgb5UGMktreA5xTEO4lYStsd0ilqssStwcF1tx1rVDxgEKivV6FGjxIZ+CJLvo/O7xN647G sRl2DOjskhrErYYSAINrDzCY+O16sj0L5G9tZasVtkxS9RBJz29uYRJzSCk= X-Google-Smtp-Source: AGHT+IGSRAVxKhP764rmsC+ktba4KP0QULHvershelFHzE6Kv5k39nCz+HFhTnlDjvfHBWYLapCJAzC3XLt4 X-Received: by 2002:a05:6a21:3a92:b0:215:eac9:1ab5 with SMTP id adf61e73a8af0-216218f404emr26814676637.20.1747818401790; Wed, 21 May 2025 02:06:41 -0700 (PDT) Received: from postal.iol.unh.edu (postal.iol.unh.edu. [132.177.123.84]) by smtp-relay.gmail.com with ESMTPS id 41be03b00d2f7-b26eafa773fsm719969a12.14.2025.05.21.02.06.41 (version=TLS1_2 cipher=ECDHE-ECDSA-AES128-GCM-SHA256 bits=128/128); Wed, 21 May 2025 02:06:41 -0700 (PDT) X-Relaying-Domain: iol.unh.edu Date: Wed, 21 May 2025 02:06:41 -0700 (PDT) Message-ID: <682d97a1.630a0220.243c12.3d88SMTPIN_ADDED_MISSING@mx.google.com> Received: from [172.21.0.8] (unknown [172.18.0.240]) by postal.iol.unh.edu (Postfix) with ESMTP id 0342F6052471; Wed, 21 May 2025 05:06:41 -0400 (EDT) Subject: |SUCCESS| [GIT MASTER] 4401486b5e30d43a134f80f9802f60b5f43e74a8 From: dpdklab@iol.unh.edu To: Test Report Cc: dpdk-test-reports@iol.unh.edu, Xueming Li , Christian Ehrhardt , Kevin Traynor , Luca Boccassi Content-Type: text/plain X-BeenThere: test-report@dpdk.org X-Mailman-Version: 2.1.29 Precedence: list List-Id: automatic DPDK test reports List-Unsubscribe: , List-Archive: List-Post: List-Help: List-Subscribe: , Errors-To: test-report-bounces@dpdk.org _Testing PASS_ Branch: tags/v22.11 4401486b5e30d43a134f80f9802f60b5f43e74a8 --> testing pass Upstream job id: Generic-DPDK-Compile-Meson#389853 Test environment and result as below: +------------------------------------+--------------------+ | Environment | dpdk_meson_compile | +====================================+====================+ | Ubuntu 20.04 ARM SVE | PASS | +------------------------------------+--------------------+ | RHEL9 (ARM) | PASS | +------------------------------------+--------------------+ | Fedora 40 (ARM Clang) | PASS | +------------------------------------+--------------------+ | Fedora 41 (ARM) | PASS | +------------------------------------+--------------------+ | Debian 12 with MUSDK | PASS | +------------------------------------+--------------------+ | Fedora 40 (ARM) | PASS | +------------------------------------+--------------------+ | Fedora 41 (ARM Clang) | PASS | +------------------------------------+--------------------+ | Ubuntu 20.04 ARM GCC Cross Compile | PASS | +------------------------------------+--------------------+ | Ubuntu 20.04 (ARM) | PASS | +------------------------------------+--------------------+ | CentOS Stream 9 (ARM) | PASS | +------------------------------------+--------------------+ | Debian 12 (arm) | PASS | +------------------------------------+--------------------+ | Ubuntu 24.04 (ARM) | PASS | +------------------------------------+--------------------+ | CentOS Stream 10 (ARM) | PASS | +------------------------------------+--------------------+ | Ubuntu 22.04 (ARM) | PASS | +------------------------------------+--------------------+ Ubuntu 20.04 ARM SVE Kernel: Depends on container host Compiler: gcc (Ubuntu 10.5.0-1ubuntu1~20.04) 10.5.0 RHEL9 (ARM) Kernel: Depends on container host Compiler: gcc 11.5.0 20240719 (Red Hat 11.5.0-2) Fedora 40 (ARM Clang) Kernel: Depends on container host Compiler: clang 18.1.8 (Fedora 18.1.8-1.fc40) Fedora 41 (ARM) Kernel: Depends on container host Compiler: gcc 14.2.1 20240912 (Red Hat 14.2.1-3) Debian 12 with MUSDK Kernel: Depends on container host Compiler: gcc (Debian 12.2.0-14) 12.2.0 Fedora 40 (ARM) Kernel: Depends on container host Compiler: gcc 14.2.1 20240912 (Red Hat 14.2.1-3) Fedora 41 (ARM Clang) Kernel: Depends on container host Compiler: clang 19.1.5 (Fedora 19.1.5-1.fc41) Ubuntu 20.04 ARM GCC Cross Compile Kernel: Depends on container host Compiler: aarch64-linux-gnu-gcc (Ubuntu 9.4.0-1ubuntu1~20.04.2) 9.4.0 Ubuntu 20.04 (ARM) Kernel: Depends on container host Compiler: gcc (Ubuntu 9.4.0-1ubuntu1~20.04.2) 9.4.0 CentOS Stream 9 (ARM) Kernel: Depends on container host Compiler: gcc 11.5.0 20240719 (Red Hat 11.5.0-2) Debian 12 (arm) Kernel: Depends on container host Compiler: gcc (Debian 12.2.0-14) 12.2.0 Ubuntu 24.04 (ARM) Kernel: Depends on container host Compiler: gcc (Ubuntu 13.3.0-6ubuntu2~24.04) 13.3.0 CentOS Stream 10 (ARM) Kernel: Depends on container host Compiler: gcc 14.2.1 20241104 (Red Hat 14.2.1-6) Ubuntu 22.04 (ARM) Kernel: Depends on container host Compiler: gcc (Ubuntu 11.4.0-1ubuntu1~22.04) 11.4.0 To view detailed results, visit: https://lab.dpdk.org/results/dashboard/tarballs/33595/ UNH-IOL DPDK Community Lab To manage your email subscriptions, visit: https://lab.dpdk.org/results/dashboard/preferences/subscriptions/