From mboxrd@z Thu Jan 1 00:00:00 1970 Return-Path: Received: from mails.dpdk.org (mails.dpdk.org [217.70.189.124]) by inbox.dpdk.org (Postfix) with ESMTP id 18D67467AA for ; Wed, 21 May 2025 11:14:20 +0200 (CEST) Received: from mails.dpdk.org (localhost [127.0.0.1]) by mails.dpdk.org (Postfix) with ESMTP id EBC07410DC; Wed, 21 May 2025 11:14:19 +0200 (CEST) Received: from mail-pj1-f99.google.com (mail-pj1-f99.google.com [209.85.216.99]) by mails.dpdk.org (Postfix) with ESMTP id ADE9E40151 for ; Wed, 21 May 2025 11:14:18 +0200 (CEST) Received: by mail-pj1-f99.google.com with SMTP id 98e67ed59e1d1-30e8a968b15so4405957a91.3 for ; Wed, 21 May 2025 02:14:18 -0700 (PDT) DKIM-Signature: v=1; a=rsa-sha256; c=relaxed/relaxed; d=iol.unh.edu; s=unh-iol; t=1747818857; x=1748423657; darn=dpdk.org; h=cc:to:from:subject:message-id:date:from:to:cc:subject:date :message-id:reply-to; bh=tuJMQBBBe9uLCsIecBv+TliSqVMRAr8FHTtPWiL+sCo=; b=R8fSktp5h3uoa9oBPK6g+7NjBdYAi3rlBI4TdGiOMILjzeFabZng5d1i6YbykjD6Im 1OjLmm8p3HV5iIkuJP5QUBp3Nar24w2odzM740ijBFuoA30cI0nRzuNtvkJ7XsDZfFcp c7ye8rNeAzx9NKgMVf0h9Rh/og2GAn8QxMMwM= X-Google-DKIM-Signature: v=1; a=rsa-sha256; c=relaxed/relaxed; d=1e100.net; s=20230601; t=1747818857; x=1748423657; h=cc:to:from:subject:message-id:date:x-gm-message-state:from:to:cc :subject:date:message-id:reply-to; bh=tuJMQBBBe9uLCsIecBv+TliSqVMRAr8FHTtPWiL+sCo=; b=IB9viKNWsp0MlM/9K/lwVJg0kx5Abjs+tHOvURFm8gN24q1QyI3xXAyTYJL3w/ZxOZ S95USLZtCKq35BesXt1aOqjjI2vt632UV7vq5soBJQ5p1GYuHuGVBD2t8cDeuJ1CRH9Q dCQEdUogs5lJPvBpLBU3yGCkzUHuyagdKQjgXK4QJB4PO3lf+qjZWYOW3N1W3snRGAoy k1Gx3vXu5Lw/CX3zx4Qcu/cssVnKOG2YGLLYNXStJ8iDXSai9I44dV6bqaEDfb3SkSei wF/CDUhyA26NVxQ4uXIdTWZ+vz8beGxUbmaZ6KDwz7Hjssemd5PDNVPoj9vu/FRgeoCw Zb1w== X-Gm-Message-State: AOJu0YwjnGeqTdFaK+rYYDGtr0V+iC88b7apn6fJ+vAg01TZqsBhi9mO IfyuHrftZF5kgqdmsO+AYn9at71/qZ+Mahutuk3Oe6tTZ4PMCtup5iPLYXAWx8373EGF+BdLn0G 3JtS5gIUwwTRqnXRj1MXQqPNOG+uQGP09dWDhmKEQzaPxbe5NX+qy X-Gm-Gg: ASbGnctcUy/JPTch3qEtMx4C/vK/P+P13TZ2C8blqrKmF9SBNUJMHGkLAN4jOXW4HrY Ff4i7reEYcdjVBPCWZoGKohLwdL9ZT+2/wtz3d7eowiAUmplhJl68JZ/FlDSahIXh2itlCfTHDL xOXsgRmGhScwgczHBwlOAe9JcPL4q/Wfyd27gbQSsSFrCsyTcJ3gAzA+K64b/xSAi7IA6tb2to/ +As9Kqc21RlqYtkEDWkq5B4YU4rbvTfBLNACwNmx8/5hyNt0HpsJp90wBxicSt8xoqdU+HlOyGF 64inM45h95aM+j9s5WWucaQt+GzDpya5Nkt7 X-Google-Smtp-Source: AGHT+IGaN6Xleapl1w9+qywWNzN74uOgdM7GsIXnafl/pvWiZT0OltCivzH2QFdaRi/YHDg2Jsc2e9pKe5mW X-Received: by 2002:a17:90b:2b45:b0:30e:823f:ef21 with SMTP id 98e67ed59e1d1-30e83228e05mr25660298a91.32.1747818857208; Wed, 21 May 2025 02:14:17 -0700 (PDT) Received: from postal.iol.unh.edu (postal.iol.unh.edu. [2606:4100:3880:1234::84]) by smtp-relay.gmail.com with ESMTPS id 41be03b00d2f7-b26eaf7e5dcsm712268a12.11.2025.05.21.02.14.17 (version=TLS1_2 cipher=ECDHE-ECDSA-AES128-GCM-SHA256 bits=128/128); Wed, 21 May 2025 02:14:17 -0700 (PDT) X-Relaying-Domain: iol.unh.edu Date: Wed, 21 May 2025 02:14:17 -0700 (PDT) Message-ID: <682d9969.630a0220.2747e2.6006SMTPIN_ADDED_MISSING@mx.google.com> Received: from [172.21.0.6] (unknown [172.18.0.240]) by postal.iol.unh.edu (Postfix) with ESMTP id 5ED016052471; Wed, 21 May 2025 05:14:16 -0400 (EDT) Subject: |SUCCESS| [GIT MASTER] 83a7a648344674c0269fcaeb71d8d16468421a0e From: dpdklab@iol.unh.edu To: Test Report Cc: dpdk-test-reports@iol.unh.edu, Xueming Li , Christian Ehrhardt , Kevin Traynor , Luca Boccassi Content-Type: text/plain X-BeenThere: test-report@dpdk.org X-Mailman-Version: 2.1.29 Precedence: list List-Id: automatic DPDK test reports List-Unsubscribe: , List-Archive: List-Post: List-Help: List-Subscribe: , Errors-To: test-report-bounces@dpdk.org _Testing PASS_ Branch: tags/v23.11 83a7a648344674c0269fcaeb71d8d16468421a0e --> testing pass Upstream job id: Generic-Unit-Test-DPDK#339453 Test environment and result as below: +-----------------------------+----------------+--------------+---------------------------+------------------------------+ | Environment | dpdk_unit_test | lpm_autotest | cryptodev_sw_zuc_autotest | cryptodev_sw_snow3g_autotest | +=============================+================+==============+===========================+==============================+ | Fedora 40 (ARM) | PASS | SKIPPED | SKIPPED | SKIPPED | +-----------------------------+----------------+--------------+---------------------------+------------------------------+ | Fedora 41 (ARM) | PASS | SKIPPED | SKIPPED | SKIPPED | +-----------------------------+----------------+--------------+---------------------------+------------------------------+ | CentOS Stream 9 (ARM) | PASS | SKIPPED | SKIPPED | SKIPPED | +-----------------------------+----------------+--------------+---------------------------+------------------------------+ | CentOS Stream 10 (ARM) | PASS | SKIPPED | SKIPPED | SKIPPED | +-----------------------------+----------------+--------------+---------------------------+------------------------------+ | Debian 12 (arm) | PASS | SKIPPED | PASS | PASS | +-----------------------------+----------------+--------------+---------------------------+------------------------------+ | RHEL9 (ARM) | PASS | SKIPPED | SKIPPED | SKIPPED | +-----------------------------+----------------+--------------+---------------------------+------------------------------+ | Fedora 41 (ARM Clang) | PASS | SKIPPED | SKIPPED | SKIPPED | +-----------------------------+----------------+--------------+---------------------------+------------------------------+ | Ubuntu 22.04 (ARM) | PASS | SKIPPED | SKIPPED | SKIPPED | +-----------------------------+----------------+--------------+---------------------------+------------------------------+ | Fedora 40 (ARM Clang) | PASS | SKIPPED | SKIPPED | SKIPPED | +-----------------------------+----------------+--------------+---------------------------+------------------------------+ | Ubuntu 24.04 (ARM) | PASS | SKIPPED | SKIPPED | SKIPPED | +-----------------------------+----------------+--------------+---------------------------+------------------------------+ | Ubuntu 20.04 (ARM) | PASS | SKIPPED | SKIPPED | SKIPPED | +-----------------------------+----------------+--------------+---------------------------+------------------------------+ | 32-bit Ubuntu 22.04.4 (ARM) | PASS | SKIPPED | SKIPPED | SKIPPED | +-----------------------------+----------------+--------------+---------------------------+------------------------------+ | Ubuntu 20.04 ARM SVE | SKIPPED | PASS | SKIPPED | SKIPPED | +-----------------------------+----------------+--------------+---------------------------+------------------------------+ Fedora 40 (ARM) Kernel: Depends on container host Compiler: gcc 14.2.1 20240912 (Red Hat 14.2.1-3) Fedora 41 (ARM) Kernel: Depends on container host Compiler: gcc 14.2.1 20240912 (Red Hat 14.2.1-3) CentOS Stream 9 (ARM) Kernel: Depends on container host Compiler: gcc 11.5.0 20240719 (Red Hat 11.5.0-2) CentOS Stream 10 (ARM) Kernel: Depends on container host Compiler: gcc 14.2.1 20241104 (Red Hat 14.2.1-6) Debian 12 (arm) Kernel: Depends on container host Compiler: gcc (Debian 12.2.0-14) 12.2.0 RHEL9 (ARM) Kernel: Depends on container host Compiler: gcc 11.5.0 20240719 (Red Hat 11.5.0-2) Fedora 41 (ARM Clang) Kernel: Depends on container host Compiler: clang 19.1.5 (Fedora 19.1.5-1.fc41) Ubuntu 22.04 (ARM) Kernel: Depends on container host Compiler: gcc (Ubuntu 11.4.0-1ubuntu1~22.04) 11.4.0 Fedora 40 (ARM Clang) Kernel: Depends on container host Compiler: clang 18.1.8 (Fedora 18.1.8-1.fc40) Ubuntu 24.04 (ARM) Kernel: Depends on container host Compiler: gcc (Ubuntu 13.3.0-6ubuntu2~24.04) 13.3.0 Ubuntu 20.04 (ARM) Kernel: Depends on container host Compiler: gcc (Ubuntu 9.4.0-1ubuntu1~20.04.2) 9.4.0 32-bit Ubuntu 22.04.4 (ARM) Kernel: 5.15.83+ aarch64 Compiler: gcc (Ubuntu 11.4.0-1ubuntu1~22.04) 11.4.0 Ubuntu 20.04 ARM SVE Kernel: Depends on container host Compiler: gcc (Ubuntu 10.5.0-1ubuntu1~20.04) 10.5.0 To view detailed results, visit: https://lab.dpdk.org/results/dashboard/tarballs/33596/ UNH-IOL DPDK Community Lab To manage your email subscriptions, visit: https://lab.dpdk.org/results/dashboard/preferences/subscriptions/