From mboxrd@z Thu Jan 1 00:00:00 1970 Return-Path: Received: from mails.dpdk.org (mails.dpdk.org [217.70.189.124]) by inbox.dpdk.org (Postfix) with ESMTP id B9F9C467AA for ; Wed, 21 May 2025 11:26:24 +0200 (CEST) Received: from mails.dpdk.org (localhost [127.0.0.1]) by mails.dpdk.org (Postfix) with ESMTP id 97B9D41156; Wed, 21 May 2025 11:26:24 +0200 (CEST) Received: from mail-pl1-f226.google.com (mail-pl1-f226.google.com [209.85.214.226]) by mails.dpdk.org (Postfix) with ESMTP id D0D3F40151 for ; Wed, 21 May 2025 11:26:22 +0200 (CEST) Received: by mail-pl1-f226.google.com with SMTP id d9443c01a7336-22c336fcdaaso52284935ad.3 for ; Wed, 21 May 2025 02:26:22 -0700 (PDT) DKIM-Signature: v=1; a=rsa-sha256; c=relaxed/relaxed; d=iol.unh.edu; s=unh-iol; t=1747819581; x=1748424381; darn=dpdk.org; h=cc:to:from:subject:message-id:date:from:to:cc:subject:date :message-id:reply-to; bh=ecLi3Mnxii+vRvH7yp1lpy/Y/k9g8l5/COz4STHPf68=; b=RV0N46nlCCi9Bw/uAeNomItRvhWC43TUHRlK+Bw+xkB9KJfi5MHGhwLQIgXSIyvX8b Xk8eFxxaxGKpRfbTzkKJZ19bEACxTBUd8BsNHN+mt2Y5iOnqMZ0Go3BTC/N941xXsDJH dQ6mdsy2eOJDvnmPb1NdNc+hq2A3qaa05FcOc= X-Google-DKIM-Signature: v=1; a=rsa-sha256; c=relaxed/relaxed; d=1e100.net; s=20230601; t=1747819581; x=1748424381; h=cc:to:from:subject:message-id:date:x-gm-message-state:from:to:cc :subject:date:message-id:reply-to; bh=ecLi3Mnxii+vRvH7yp1lpy/Y/k9g8l5/COz4STHPf68=; b=g4m2l4Q/Z4+zO2qKmBZq9YuRuCh1nyEohZubwZxByw8NeX0KBfL7frx8GQnSfJpmNI cNwU6E30oyR9kc/scqnoVesA/WWDKdGz7WjJ5yE/NcQuvY3J9wAvcuIH1ybS44YJGOrx TLmGgftr2gb7r+rbAzi/C8DRykaUthsJuMf23mhhg46JBvCy0GMa+BJQZSI4kDW2Fslb ywn/oj3J8HWZx7YJ/Ooc1qUt7/iBsIbRc18bjrBAjTCqDguR93hMfZuZzkVsL3obFBs0 5mqE+CQ+XAfAvmcnRj6FB8M2AY7216Bn2A7g+AAOPyowHEjLl8fYScuYe0dNd3ovDh6m koCg== X-Gm-Message-State: AOJu0Yw7oZfxvmZObguvSepi2m6FmIEEjHyW3/uYF1A9DJffct05u5M8 MupVyxFi2l+i2zWdYqNCJv19XyrbnsqIfn5YXITA0Xb+35bLmfuIlLWl2TNA7/H4sjBDYTayKg0 kadf1lYL/buyfNM+m2hKb0fQklrbPQpo6WOmGOtoN0QV0ezrtwU9t X-Gm-Gg: ASbGncueWHMYM4TJ0rAAGPwB+FDIBuYKqkb/f0usJUNV0cy7Euv5QA2TO/Kgc8dtqdt uOsq3MhL66TPFvaGR7uPQuaujeM+R7rE71qMJ1dlNDGfd/bFxOEiOco10wBCnuFp/VOmvaHM5X5 2f9RlXoXW7cu3inLRfdjocyvJiVGS8/MMJTqy8kfO6Wrd74bPnhHxmL+ZpbvLzQMzuntiMDfJm0 P8Wk0GCqXD2Pnhg86mVnFpsJ4UWlDw/1kf4nvf1qDqoX9Q2NfxSf2hABEgqC0OSS+AHntqD972i jDIzeb18fByO84fe2YiYCm4EqTWQVjRYGCah X-Google-Smtp-Source: AGHT+IF4j8kcbe0x0Ex4FjkdXOis65qQ8Bk0MautdTFoPOAiSOAnIdBaV0CxaeMVvYXU4pbJjTuiPEYHgDHT X-Received: by 2002:a17:903:17cc:b0:22e:5389:67fb with SMTP id d9443c01a7336-231d43d9bedmr271032955ad.7.1747819581507; Wed, 21 May 2025 02:26:21 -0700 (PDT) Received: from postal.iol.unh.edu (postal.iol.unh.edu. [2606:4100:3880:1234::84]) by smtp-relay.gmail.com with ESMTPS id d9443c01a7336-231d4aa7702sm5538865ad.17.2025.05.21.02.26.21 (version=TLS1_2 cipher=ECDHE-ECDSA-AES128-GCM-SHA256 bits=128/128); Wed, 21 May 2025 02:26:21 -0700 (PDT) X-Relaying-Domain: iol.unh.edu Date: Wed, 21 May 2025 02:26:21 -0700 (PDT) Message-ID: <682d9c3d.170a0220.270472.d029SMTPIN_ADDED_MISSING@mx.google.com> Received: from [172.21.0.7] (unknown [172.18.0.240]) by postal.iol.unh.edu (Postfix) with ESMTP id EAFFD6052471; Wed, 21 May 2025 05:26:20 -0400 (EDT) Subject: |SUCCESS| [GIT MASTER] 83a7a648344674c0269fcaeb71d8d16468421a0e From: dpdklab@iol.unh.edu To: Test Report Cc: dpdk-test-reports@iol.unh.edu, Xueming Li , Christian Ehrhardt , Kevin Traynor , Luca Boccassi Content-Type: text/plain X-BeenThere: test-report@dpdk.org X-Mailman-Version: 2.1.29 Precedence: list List-Id: automatic DPDK test reports List-Unsubscribe: , List-Archive: List-Post: List-Help: List-Subscribe: , Errors-To: test-report-bounces@dpdk.org _Testing PASS_ Branch: tags/v23.11 83a7a648344674c0269fcaeb71d8d16468421a0e --> testing pass Upstream job id: Generic-DPDK-Compile-Meson#389877 Test environment and result as below: +------------------------------------+--------------------+ | Environment | dpdk_meson_compile | +====================================+====================+ | RHEL9 (ARM) | PASS | +------------------------------------+--------------------+ | Ubuntu 20.04 ARM GCC Cross Compile | PASS | +------------------------------------+--------------------+ | Ubuntu 20.04 ARM SVE | PASS | +------------------------------------+--------------------+ | Debian 12 (arm) | PASS | +------------------------------------+--------------------+ | Fedora 40 (ARM) | PASS | +------------------------------------+--------------------+ | Debian 12 with MUSDK | PASS | +------------------------------------+--------------------+ | Fedora 41 (ARM) | PASS | +------------------------------------+--------------------+ | Fedora 40 (ARM Clang) | PASS | +------------------------------------+--------------------+ | Fedora 41 (ARM Clang) | PASS | +------------------------------------+--------------------+ | Ubuntu 20.04 (ARM) | PASS | +------------------------------------+--------------------+ | CentOS Stream 9 (ARM) | PASS | +------------------------------------+--------------------+ | CentOS Stream 10 (ARM) | PASS | +------------------------------------+--------------------+ | Ubuntu 22.04 (ARM) | PASS | +------------------------------------+--------------------+ | Ubuntu 24.04 (ARM) | PASS | +------------------------------------+--------------------+ RHEL9 (ARM) Kernel: Depends on container host Compiler: gcc 11.5.0 20240719 (Red Hat 11.5.0-2) Ubuntu 20.04 ARM GCC Cross Compile Kernel: Depends on container host Compiler: aarch64-linux-gnu-gcc (Ubuntu 9.4.0-1ubuntu1~20.04.2) 9.4.0 Ubuntu 20.04 ARM SVE Kernel: Depends on container host Compiler: gcc (Ubuntu 10.5.0-1ubuntu1~20.04) 10.5.0 Debian 12 (arm) Kernel: Depends on container host Compiler: gcc (Debian 12.2.0-14) 12.2.0 Fedora 40 (ARM) Kernel: Depends on container host Compiler: gcc 14.2.1 20240912 (Red Hat 14.2.1-3) Debian 12 with MUSDK Kernel: Depends on container host Compiler: gcc (Debian 12.2.0-14) 12.2.0 Fedora 41 (ARM) Kernel: Depends on container host Compiler: gcc 14.2.1 20240912 (Red Hat 14.2.1-3) Fedora 40 (ARM Clang) Kernel: Depends on container host Compiler: clang 18.1.8 (Fedora 18.1.8-1.fc40) Fedora 41 (ARM Clang) Kernel: Depends on container host Compiler: clang 19.1.5 (Fedora 19.1.5-1.fc41) Ubuntu 20.04 (ARM) Kernel: Depends on container host Compiler: gcc (Ubuntu 9.4.0-1ubuntu1~20.04.2) 9.4.0 CentOS Stream 9 (ARM) Kernel: Depends on container host Compiler: gcc 11.5.0 20240719 (Red Hat 11.5.0-2) CentOS Stream 10 (ARM) Kernel: Depends on container host Compiler: gcc 14.2.1 20241104 (Red Hat 14.2.1-6) Ubuntu 22.04 (ARM) Kernel: Depends on container host Compiler: gcc (Ubuntu 11.4.0-1ubuntu1~22.04) 11.4.0 Ubuntu 24.04 (ARM) Kernel: Depends on container host Compiler: gcc (Ubuntu 13.3.0-6ubuntu2~24.04) 13.3.0 To view detailed results, visit: https://lab.dpdk.org/results/dashboard/tarballs/33596/ UNH-IOL DPDK Community Lab To manage your email subscriptions, visit: https://lab.dpdk.org/results/dashboard/preferences/subscriptions/