From mboxrd@z Thu Jan 1 00:00:00 1970 Return-Path: Received: from mails.dpdk.org (mails.dpdk.org [217.70.189.124]) by inbox.dpdk.org (Postfix) with ESMTP id 3FA13467AA for ; Wed, 21 May 2025 11:31:27 +0200 (CEST) Received: from mails.dpdk.org (localhost [127.0.0.1]) by mails.dpdk.org (Postfix) with ESMTP id 3A1F141156; Wed, 21 May 2025 11:31:27 +0200 (CEST) Received: from mail-pf1-f227.google.com (mail-pf1-f227.google.com [209.85.210.227]) by mails.dpdk.org (Postfix) with ESMTP id 445EC40151 for ; Wed, 21 May 2025 11:31:26 +0200 (CEST) Received: by mail-pf1-f227.google.com with SMTP id d2e1a72fcca58-742c2ed0fe1so4027734b3a.1 for ; Wed, 21 May 2025 02:31:26 -0700 (PDT) DKIM-Signature: v=1; a=rsa-sha256; c=relaxed/relaxed; d=iol.unh.edu; s=unh-iol; t=1747819885; x=1748424685; darn=dpdk.org; h=cc:to:from:subject:message-id:date:from:to:cc:subject:date :message-id:reply-to; bh=tPTRBn23OlEMIMILYfDXo55T+/vSY4ic7deX8f5besc=; b=WoqP21dULxBKthfkbHqYXo24BVOcvv/5mkrzNxkv83JPN8+pObkZ5F7OEQhQ5zI7iM hrzw0jlZK1dSJtY6Txp8XNTF6WrEKqD8GneQ2S5HfGnHBJMCVqRtuYwJG0QOtpAcqv3t kPOu6naf7HqRXaGRj+4errc8Ao2FZTGIqERYg= X-Google-DKIM-Signature: v=1; a=rsa-sha256; c=relaxed/relaxed; d=1e100.net; s=20230601; t=1747819885; x=1748424685; h=cc:to:from:subject:message-id:date:x-gm-message-state:from:to:cc :subject:date:message-id:reply-to; bh=tPTRBn23OlEMIMILYfDXo55T+/vSY4ic7deX8f5besc=; b=B0UsWqIGiW6Xxax3JjNSZHT1RsaTM9GZIIkLTre2Whc8IN22khvv32u/+/sRnCUrLa z4aN4akbkQP7iiuCLiutpVeqqeR6L2y/rxUflkgbljiHvY+FbZReFRhQLVtofcsunKZj DFr/pTC/KNsOZQiQMxPyVI4IZZC1H5JKvN0IClQ0EDJYcLT+dOeFCu6gPS/QRaApctnW DTMfiO2t6/FNuTH2OhZKm76A6qC2IYHAycfYKG+qBxRIs9sJUcjYiolqKhvwniL4SXPm QOwbkKsUiSL9MMktGIRNu+v5bZKcEEvu+M1rYaYztxWEom9algRmUoZMQpTApQvN0kLz cTZA== X-Gm-Message-State: AOJu0Yw1oyi/zrNqgYmWuMl5lGh+McwG0aekUmrYJ2EMWwS9LTUFuAoI 2evjSKT9Qxxiw0PuJct6y1AZZ2o+fIyqwDcYmshzq1G2ZluNjZa528HH9TlUEJyKVpJXuWAN8FP qX8wxY2v60xBblfwlesQIUVW/3q0UDy22ck7M X-Gm-Gg: ASbGnctR0I3O+V77mgqhogGCsVJYYVxMQBRWlesU9jsRiQpxjAMJpMhpyZf5WrzL7gt 2hMde1CrYwoWNBYdOX97X4tuZxk6ivumKtKj+uBaDuGhYnIdRkuY1UeiuiItAgnJmZrJU2gizkP nJHhtTl7RBnFCAa70m2vzjoMMwXtr8nR9EcwRFIORKiXv2fkyta5oinhXn7DAtKbHR6ivYVyYK9 a8p9eIxIpx2bI4xrBgxtrL5UYp0Cn2OsXsblKH/3WzZCMsHknS5rT0aa4C0jbR4u7VRJtwdJnKz 4m2lqDNJ7HV8MeA9pp8lRzmGmXZu4iobi449wuKxHNpbSHK++6Gg2qkS8jE= X-Google-Smtp-Source: AGHT+IHdHqcBspoQg6nNxaU6scjB794lOhaNBErUAtYR7tp3klIAR30QBR9LgCgmlYsrxibR72Rht1VTG41b X-Received: by 2002:a05:6a21:33a5:b0:216:20de:52d9 with SMTP id adf61e73a8af0-2162189f109mr30691438637.14.1747819884968; Wed, 21 May 2025 02:31:24 -0700 (PDT) Received: from postal.iol.unh.edu (postal.iol.unh.edu. [132.177.123.84]) by smtp-relay.gmail.com with ESMTPS id 41be03b00d2f7-b26eafb19b4sm711982a12.15.2025.05.21.02.31.24 (version=TLS1_2 cipher=ECDHE-ECDSA-AES128-GCM-SHA256 bits=128/128); Wed, 21 May 2025 02:31:24 -0700 (PDT) X-Relaying-Domain: iol.unh.edu Date: Wed, 21 May 2025 02:31:24 -0700 (PDT) Message-ID: <682d9d6c.630a0220.35b1fb.764cSMTPIN_ADDED_MISSING@mx.google.com> Received: from [172.21.0.5] (unknown [172.18.0.240]) by postal.iol.unh.edu (Postfix) with ESMTP id 352F36052471; Wed, 21 May 2025 05:31:24 -0400 (EDT) Subject: |SUCCESS| [GIT MASTER] 83a7a648344674c0269fcaeb71d8d16468421a0e From: dpdklab@iol.unh.edu To: Test Report Cc: dpdk-test-reports@iol.unh.edu, Xueming Li , Christian Ehrhardt , Kevin Traynor , Luca Boccassi Content-Type: text/plain X-BeenThere: test-report@dpdk.org X-Mailman-Version: 2.1.29 Precedence: list List-Id: automatic DPDK test reports List-Unsubscribe: , List-Archive: List-Post: List-Help: List-Subscribe: , Errors-To: test-report-bounces@dpdk.org _Testing PASS_ Branch: tags/v23.11 83a7a648344674c0269fcaeb71d8d16468421a0e --> testing pass Upstream job id: Generic-Unit-Test-DPDK#339448 Test environment and result as below: +---------------------+----------------+ | Environment | dpdk_unit_test | +=====================+================+ | CentOS Stream 9 | PASS | +---------------------+----------------+ | CentOS Stream 10 | PASS | +---------------------+----------------+ | Fedora 40 | PASS | +---------------------+----------------+ | Debian 12 | PASS | +---------------------+----------------+ | Fedora 40 (Clang) | PASS | +---------------------+----------------+ | Fedora 41 | PASS | +---------------------+----------------+ | RHEL8 | PASS | +---------------------+----------------+ | RHEL9 | PASS | +---------------------+----------------+ | Fedora 41 (Clang) | PASS | +---------------------+----------------+ | Ubuntu 24.04 | PASS | +---------------------+----------------+ | Ubuntu 22.04 | PASS | +---------------------+----------------+ | Ubuntu 20.04 | PASS | +---------------------+----------------+ | Windows Server 2022 | PASS | +---------------------+----------------+ CentOS Stream 9 Kernel: Depends on container host Compiler: gcc 11.5.0 20240719 (Red Hat 11.5.0-2) CentOS Stream 10 Kernel: Depends on container host Compiler: gcc 14.2.1 20241104 (Red Hat 14.2.1-6) Fedora 40 Kernel: Depends on container host Compiler: gcc 14.2.1 20240912 (Red Hat 14.2.1-3) Debian 12 Kernel: Depends on container host Compiler: gcc (Debian 12.2.0-14) 12.2.0 Fedora 40 (Clang) Kernel: Depends on container host Compiler: clang 18.1.8 (Fedora 18.1.8-1.fc40) Fedora 41 Kernel: Depends on container host Compiler: gcc 14.2.1 20240912 (Red Hat 14.2.1-3) RHEL8 Kernel: Depends on container host Compiler: gcc 8.5.0 20210514 (Red Hat 8.5.0-22) RHEL9 Kernel: Depends on container host Compiler: gcc 11.5.0 20240719 (Red Hat 11.5.0-2) Fedora 41 (Clang) Kernel: Depends on container host Compiler: clang 19.1.5 (Fedora 19.1.5-1.fc41) Ubuntu 24.04 Kernel: Depends on container host Compiler: gcc (Ubuntu 13.3.0-6ubuntu2~24.04) 13.3.0 Ubuntu 22.04 Kernel: Depends on container host Compiler: gcc (Ubuntu 11.4.0-1ubuntu1~22.04) 11.4.0 Ubuntu 20.04 Kernel: Depends on container host Compiler: gcc (Ubuntu 9.4.0-1ubuntu1~20.04.2) 9.4.0 Windows Server 2022 Kernel: 10.0.20348.2031 Compiler: clang 15.0.7, gcc 14.1.0 (MinGW), and MSVC VS 19.39.33521 To view detailed results, visit: https://lab.dpdk.org/results/dashboard/tarballs/33596/ UNH-IOL DPDK Community Lab To manage your email subscriptions, visit: https://lab.dpdk.org/results/dashboard/preferences/subscriptions/