From mboxrd@z Thu Jan 1 00:00:00 1970 Return-Path: Received: from mails.dpdk.org (mails.dpdk.org [217.70.189.124]) by inbox.dpdk.org (Postfix) with ESMTP id B4239467AA for ; Wed, 21 May 2025 11:46:40 +0200 (CEST) Received: from mails.dpdk.org (localhost [127.0.0.1]) by mails.dpdk.org (Postfix) with ESMTP id 8EA5F42708; Wed, 21 May 2025 11:46:40 +0200 (CEST) Received: from mail-pg1-f225.google.com (mail-pg1-f225.google.com [209.85.215.225]) by mails.dpdk.org (Postfix) with ESMTP id 6E34240151 for ; Wed, 21 May 2025 11:46:39 +0200 (CEST) Received: by mail-pg1-f225.google.com with SMTP id 41be03b00d2f7-b27015122c4so2615637a12.3 for ; Wed, 21 May 2025 02:46:39 -0700 (PDT) DKIM-Signature: v=1; a=rsa-sha256; c=relaxed/relaxed; d=iol.unh.edu; s=unh-iol; t=1747820798; x=1748425598; darn=dpdk.org; h=references:in-reply-to:cc:to:from:subject:message-id:date:from:to :cc:subject:date:message-id:reply-to; bh=5H/e+JNG1uyZXxAjKkeTHGDeL/vuh6rGVuqY5kt3x0E=; b=bFkf7dADCjotkAPW8lVUr7rvUalzYxYe23BXsjWQGDjb+13Ys3gdI++6U+ntIz9sj7 5SjzXIKiXvhyF4uoRAkGarPI7putXT+7TAlmi0MOzRbaG8CRHuPf4fyXJqzOAU0TY0Kx KtxuBbTSqZvRbn2OlVap1CK+T3dusKF3lsPF4= X-Google-DKIM-Signature: v=1; a=rsa-sha256; c=relaxed/relaxed; d=1e100.net; s=20230601; t=1747820798; x=1748425598; h=references:in-reply-to:cc:to:from:subject:message-id:date :x-gm-message-state:from:to:cc:subject:date:message-id:reply-to; bh=5H/e+JNG1uyZXxAjKkeTHGDeL/vuh6rGVuqY5kt3x0E=; b=MkUOCVRdMQDXuRUtuuy/1OmlvXWSLfmmVaP6T9R92imc6qeVV1A8Yr3YZFWaM7M3bu 96ejKkhjT0JUHCRwPQqfI7GKSJVyk9EL8w+wzbn3n1j3KXF/tuMz26T8WPxbtv5mmE06 ITr8LZVmp5zhRc51ceIueq++AzDr62CUWzXJPg4UO1CXIx39mp/gQO2KrNAj7r7ReB/r kC4rWnWeq/6w34q4W+21iAFW2pnNLNEhyZjTjsiCVZQgJwSSTo8VfwL/sptG2XdrKGOT w3Yfg5suI5EDdWWCR8cMky2HSu7rPsqA38j/dWMpr9SAly4CUYX5Nzc5UEMT0wLNNHxU ZzUw== X-Gm-Message-State: AOJu0YzmFDo0Xr5fwE6NXiYnG+oop8BkHbX/TOEVrqrrwTOMZ/yEj90p UlxTAFfMQXItDU3071eSzHVdEgZZ/m0IMyYiCgxmshLDEOEBwJfYUI/OC9fD0JV1YzEwFDTw1w2 1/nCWpLIQ5p7QCfb6pGmIkPWEd3QrY0k7a0rYwgl06c7t X-Gm-Gg: ASbGnctMRSa/bJ93eZtK14V8xJ6JXSJ93WJquuBaR/eZySrmAlvXkIR8IyWZlO3bp9L v7npWjzK4WPerBQsucbm02iUD3jQrT1qIdkZETX7v6U7DoM2rx39cIXe1uYiY8JD/gVWUtKCupq 3c53XkmbomD2TbJAO20RUJqOeqSHFcmoLd+fReEPpi0Gqs6fMSlLFLMqIErgjZD8I/KuS7Bnypf IVe1K4C5lzSN6ragosQvQHwOqGcECwS5Pfo8tsJDN5lO8CYSwNPLjDlj8aav1X65Zl83okb/nPv GJ35GRSaCNWIIM9U/Qwr0ofsqS1KmmSqFXF9UNZwkhIgmX+7PgRzChAPiz0= X-Google-Smtp-Source: AGHT+IGEAvl0OWwNOaCL0qet83Tara0SFw3u6eEX7VKV5Q517XDKkRDKbj5TFxDiTeKTyJIY98DcN7LXxYA8 X-Received: by 2002:a17:903:230b:b0:223:fabd:4f99 with SMTP id d9443c01a7336-231d43d5592mr285363195ad.5.1747820798487; Wed, 21 May 2025 02:46:38 -0700 (PDT) Received: from postal.iol.unh.edu (postal.iol.unh.edu. [132.177.123.84]) by smtp-relay.gmail.com with ESMTPS id d9443c01a7336-231d4ad32a2sm5921865ad.46.2025.05.21.02.46.38 (version=TLS1_2 cipher=ECDHE-ECDSA-AES128-GCM-SHA256 bits=128/128); Wed, 21 May 2025 02:46:38 -0700 (PDT) X-Relaying-Domain: iol.unh.edu Date: Wed, 21 May 2025 02:46:38 -0700 (PDT) Message-ID: <682da0fe.170a0220.2f114f.ed2fSMTPIN_ADDED_MISSING@mx.google.com> Received: from [172.21.0.7] (unknown [172.18.0.240]) by postal.iol.unh.edu (Postfix) with ESMTP id A87366052471; Wed, 21 May 2025 05:46:37 -0400 (EDT) Subject: |SUCCESS| pw153548-153549 [PATCH] [v2,2/2] app/testpmd: clear stale From: dpdklab@iol.unh.edu To: Test Report Cc: dpdk-test-reports@iol.unh.edu In-Reply-To: <20250521051154.19595-2-skori@marvell.com> References: <20250521051154.19595-2-skori@marvell.com> Content-Type: text/plain X-BeenThere: test-report@dpdk.org X-Mailman-Version: 2.1.29 Precedence: list List-Id: automatic DPDK test reports List-Unsubscribe: , List-Archive: List-Post: List-Help: List-Subscribe: , Errors-To: test-report-bounces@dpdk.org Test-Label: iol-unit-arm64-testing Test-Status: SUCCESS http://dpdk.org/patch/153549 _Testing PASS_ Submitter: Sunil Kumar Kori Date: Wednesday, May 21 2025 05:11:43 DPDK git baseline: Repo:dpdk Branch: master CommitID:a0dde342cc312fd75b63281f63d757db7482cdab 153548-153549 --> testing pass Upstream job id: Generic-Unit-Test-DPDK#339457 Test environment and result as below: +-----------------------------+------------------------------+--------------+---------------------------+----------------+ | Environment | cryptodev_sw_snow3g_autotest | lpm_autotest | cryptodev_sw_zuc_autotest | dpdk_unit_test | +=============================+==============================+==============+===========================+================+ | Debian 12 (arm) | PASS | SKIPPED | PASS | PASS | +-----------------------------+------------------------------+--------------+---------------------------+----------------+ | Ubuntu 20.04 ARM SVE | SKIPPED | PASS | SKIPPED | SKIPPED | +-----------------------------+------------------------------+--------------+---------------------------+----------------+ | Fedora 40 (ARM) | SKIPPED | SKIPPED | SKIPPED | PASS | +-----------------------------+------------------------------+--------------+---------------------------+----------------+ | CentOS Stream 10 (ARM) | SKIPPED | SKIPPED | SKIPPED | PASS | +-----------------------------+------------------------------+--------------+---------------------------+----------------+ | CentOS Stream 9 (ARM) | SKIPPED | SKIPPED | SKIPPED | PASS | +-----------------------------+------------------------------+--------------+---------------------------+----------------+ | Fedora 41 (ARM) | SKIPPED | SKIPPED | SKIPPED | PASS | +-----------------------------+------------------------------+--------------+---------------------------+----------------+ | Fedora 40 (ARM Clang) | SKIPPED | SKIPPED | SKIPPED | PASS | +-----------------------------+------------------------------+--------------+---------------------------+----------------+ | RHEL9 (ARM) | SKIPPED | SKIPPED | SKIPPED | PASS | +-----------------------------+------------------------------+--------------+---------------------------+----------------+ | Fedora 41 (ARM Clang) | SKIPPED | SKIPPED | SKIPPED | PASS | +-----------------------------+------------------------------+--------------+---------------------------+----------------+ | Ubuntu 22.04 (ARM) | SKIPPED | SKIPPED | SKIPPED | PASS | +-----------------------------+------------------------------+--------------+---------------------------+----------------+ | Ubuntu 20.04 (ARM) | SKIPPED | SKIPPED | SKIPPED | PASS | +-----------------------------+------------------------------+--------------+---------------------------+----------------+ | Ubuntu 24.04 (ARM) | SKIPPED | SKIPPED | SKIPPED | PASS | +-----------------------------+------------------------------+--------------+---------------------------+----------------+ | 32-bit Ubuntu 22.04.4 (ARM) | SKIPPED | SKIPPED | SKIPPED | PASS | +-----------------------------+------------------------------+--------------+---------------------------+----------------+ Debian 12 (arm) Kernel: Depends on container host Compiler: gcc (Debian 12.2.0-14) 12.2.0 Ubuntu 20.04 ARM SVE Kernel: Depends on container host Compiler: gcc (Ubuntu 10.5.0-1ubuntu1~20.04) 10.5.0 Fedora 40 (ARM) Kernel: Depends on container host Compiler: gcc 14.2.1 20240912 (Red Hat 14.2.1-3) CentOS Stream 10 (ARM) Kernel: Depends on container host Compiler: gcc 14.2.1 20241104 (Red Hat 14.2.1-6) CentOS Stream 9 (ARM) Kernel: Depends on container host Compiler: gcc 11.5.0 20240719 (Red Hat 11.5.0-2) Fedora 41 (ARM) Kernel: Depends on container host Compiler: gcc 14.2.1 20240912 (Red Hat 14.2.1-3) Fedora 40 (ARM Clang) Kernel: Depends on container host Compiler: clang 18.1.8 (Fedora 18.1.8-1.fc40) RHEL9 (ARM) Kernel: Depends on container host Compiler: gcc 11.5.0 20240719 (Red Hat 11.5.0-2) Fedora 41 (ARM Clang) Kernel: Depends on container host Compiler: clang 19.1.5 (Fedora 19.1.5-1.fc41) Ubuntu 22.04 (ARM) Kernel: Depends on container host Compiler: gcc (Ubuntu 11.4.0-1ubuntu1~22.04) 11.4.0 Ubuntu 20.04 (ARM) Kernel: Depends on container host Compiler: gcc (Ubuntu 9.4.0-1ubuntu1~20.04.2) 9.4.0 Ubuntu 24.04 (ARM) Kernel: Depends on container host Compiler: gcc (Ubuntu 13.3.0-6ubuntu2~24.04) 13.3.0 32-bit Ubuntu 22.04.4 (ARM) Kernel: 5.15.83+ aarch64 Compiler: gcc (Ubuntu 11.4.0-1ubuntu1~22.04) 11.4.0 To view detailed results, visit: https://lab.dpdk.org/results/dashboard/patchsets/33217/ UNH-IOL DPDK Community Lab To manage your email subscriptions, visit: https://lab.dpdk.org/results/dashboard/preferences/subscriptions/