From mboxrd@z Thu Jan 1 00:00:00 1970 Return-Path: Received: from mails.dpdk.org (mails.dpdk.org [217.70.189.124]) by inbox.dpdk.org (Postfix) with ESMTP id C0702467AB for ; Wed, 21 May 2025 12:01:50 +0200 (CEST) Received: from mails.dpdk.org (localhost [127.0.0.1]) by mails.dpdk.org (Postfix) with ESMTP id A04EF42709; Wed, 21 May 2025 12:01:50 +0200 (CEST) Received: from mail-io1-f97.google.com (mail-io1-f97.google.com [209.85.166.97]) by mails.dpdk.org (Postfix) with ESMTP id B745742708 for ; Wed, 21 May 2025 12:01:48 +0200 (CEST) Received: by mail-io1-f97.google.com with SMTP id ca18e2360f4ac-86a55400913so54082039f.1 for ; Wed, 21 May 2025 03:01:48 -0700 (PDT) DKIM-Signature: v=1; a=rsa-sha256; c=relaxed/relaxed; d=iol.unh.edu; s=unh-iol; t=1747821708; x=1748426508; darn=dpdk.org; h=cc:to:from:subject:message-id:date:from:to:cc:subject:date :message-id:reply-to; bh=XwrLUWDRuW35mDvQxphvfdepkHmP57YOL5uCnMz+AM0=; b=beQFr8/YiSEDG8eV/8bsH+A5R+U2R/aVrqusIGl5Yxq6RfMo0CPRvV02TJl7l+txI/ U2969V5RhIKQIzqHcsxitgMncuhXjznVhYavvNDem/6j/wBIFtTgXE2ombLdkaqsF0RF A6oDc1hWLrKhKj7UQxzZPokDog8UlsgfVa+bg= X-Google-DKIM-Signature: v=1; a=rsa-sha256; c=relaxed/relaxed; d=1e100.net; s=20230601; t=1747821708; x=1748426508; h=cc:to:from:subject:message-id:date:x-gm-message-state:from:to:cc :subject:date:message-id:reply-to; bh=XwrLUWDRuW35mDvQxphvfdepkHmP57YOL5uCnMz+AM0=; b=ZY4bgN+vm6jACFNNftl6k4cHCfFjeRjQW2ygqGkMR73Pv3t12r8ODSdM2XEdJYaJAJ Za+M+A0HK4EsmXiC1V7GZ6TMOiKt2jsdwEqJptYs6zF3CBgy8Qd6L1C2rQ65P2HvePlm FZR1nPG53xmvotoyyqcVNe7DNWmnPi3pyTCpciX3bUd1Y5/uHAISoOKXi3dLTuAL3ons Q+8BSRTFf3Jk33bRBq8d7QmVOZsi91lEqYsWFQChiWRiQ3AEodZZJL9JNxPpIgEWq6fB 5BalXwooUU/XfMAYoJNzLE15SCZmMHNy2wXWpFDIi01SJygPn0O3ZQLlr4IQ3SqJrhmi SNKw== X-Gm-Message-State: AOJu0YxIBXM7+3uuEprGUL7eL2qB6GP4iOReNtomRKXCc5kAj105CRLi HLUKth+42kNf7MwgnASO2TZ3e4vquGCDLZhzXVQLKYW2TOBk4cid43etTagWAbD485KshwY0sCg E6zDuEhXfkdcMrYLsVQa/+D46qp4vmGyMZWqtXSXVXbo+ZeFdim4D X-Gm-Gg: ASbGnctxPH0yq4y5MVP1NUy1E02IH5U7Rq6dlqcgUh8X2c+QGtQ2xYxC5ToXOEZZbQ9 L2H0Zfe1U3+C9Pwy+wEN+rNUdUTGo3WtHiZfbln7+wqmCBYaY4JAKTkCJyWkvxM0qnXBDL2qQ0r 8sX7T4cB7Ymu6i7kE+YM4hNEOlHRextuH1lmPQxD8RtVUGuqnnqboXKC5tDFbC33YJqEkBqeKCP 3Ao46bvs0v65QgJzsy25qWlsL690Eo0IAPi2zadErtGdnO03Sq4roFcnQl0jrGrIXl6BNcj/MZ7 7YRfJ63KM4yVFsEbPedGAv2n05Sx+b5b0TK4 X-Google-Smtp-Source: AGHT+IGtZpf0a6gQys4X+D2hRp5R2cktgCOvKxpgqJNL9flXyxLbOEFC189uD0pc96F3lv63MdpjZ87uNrs6 X-Received: by 2002:a05:6602:380e:b0:861:6f49:626 with SMTP id ca18e2360f4ac-86a24be805amr2883003639f.6.1747821707968; Wed, 21 May 2025 03:01:47 -0700 (PDT) Received: from postal.iol.unh.edu (postal.iol.unh.edu. [2606:4100:3880:1234::84]) by smtp-relay.gmail.com with ESMTPS id 8926c6da1cb9f-4fbcc488c34sm549042173.55.2025.05.21.03.01.47 (version=TLS1_2 cipher=ECDHE-ECDSA-AES128-GCM-SHA256 bits=128/128); Wed, 21 May 2025 03:01:47 -0700 (PDT) X-Relaying-Domain: iol.unh.edu Date: Wed, 21 May 2025 03:01:47 -0700 (PDT) Message-ID: <682da48b.050a0220.a6d3b.d112SMTPIN_ADDED_MISSING@mx.google.com> Received: from [172.21.0.5] (unknown [172.18.0.240]) by postal.iol.unh.edu (Postfix) with ESMTP id 6C89E6052471; Wed, 21 May 2025 06:01:47 -0400 (EDT) Subject: |WARNING| [GIT MASTER] 83a7a648344674c0269fcaeb71d8d16468421a0e From: dpdklab@iol.unh.edu To: Test Report Cc: dpdk-test-reports@iol.unh.edu, Xueming Li , Christian Ehrhardt , Kevin Traynor , Luca Boccassi Content-Type: text/plain X-BeenThere: test-report@dpdk.org X-Mailman-Version: 2.1.29 Precedence: list List-Id: automatic DPDK test reports List-Unsubscribe: , List-Archive: List-Post: List-Help: List-Subscribe: , Errors-To: test-report-bounces@dpdk.org _Testing issues_ Branch: tags/v23.11 83a7a648344674c0269fcaeb71d8d16468421a0e --> testing issues Upstream job id: Generic-DPDK-Compile-Meson#389896 Test environment and result as below: +---------------------+--------------------+-------------------+------------------+-------------------+-------------------------+----------------------+ | Environment | dpdk_meson_compile | dpdk_compile_spdk | dpdk_compile_ovs | dpdk_msvc_compile | dpdk_llvm_clang_compile | dpdk_mingw64_compile | +=====================+====================+===================+==================+===================+=========================+======================+ | CentOS Stream 9 | PASS | PASS | SKIPPED | SKIPPED | SKIPPED | SKIPPED | +---------------------+--------------------+-------------------+------------------+-------------------+-------------------------+----------------------+ | CentOS Stream 10 | PASS | SKIPPED | SKIPPED | SKIPPED | SKIPPED | SKIPPED | +---------------------+--------------------+-------------------+------------------+-------------------+-------------------------+----------------------+ | Debian 12 | PASS | PASS | SKIPPED | SKIPPED | SKIPPED | SKIPPED | +---------------------+--------------------+-------------------+------------------+-------------------+-------------------------+----------------------+ | Fedora 40 (Clang) | PASS | WARN | SKIPPED | SKIPPED | SKIPPED | SKIPPED | +---------------------+--------------------+-------------------+------------------+-------------------+-------------------------+----------------------+ | Fedora 40 | PASS | PASS | SKIPPED | SKIPPED | SKIPPED | SKIPPED | +---------------------+--------------------+-------------------+------------------+-------------------+-------------------------+----------------------+ | Fedora 41 (Clang) | PASS | WARN | PASS | SKIPPED | SKIPPED | SKIPPED | +---------------------+--------------------+-------------------+------------------+-------------------+-------------------------+----------------------+ | Fedora 41 | PASS | PASS | PASS | SKIPPED | SKIPPED | SKIPPED | +---------------------+--------------------+-------------------+------------------+-------------------+-------------------------+----------------------+ | openSUSE Leap 15 | PASS | SKIPPED | SKIPPED | SKIPPED | SKIPPED | SKIPPED | +---------------------+--------------------+-------------------+------------------+-------------------+-------------------------+----------------------+ | Ubuntu 20.04 | PASS | SKIPPED | SKIPPED | SKIPPED | SKIPPED | SKIPPED | +---------------------+--------------------+-------------------+------------------+-------------------+-------------------------+----------------------+ | RHEL8 | PASS | SKIPPED | SKIPPED | SKIPPED | SKIPPED | SKIPPED | +---------------------+--------------------+-------------------+------------------+-------------------+-------------------------+----------------------+ | RHEL9 | PASS | SKIPPED | SKIPPED | SKIPPED | SKIPPED | SKIPPED | +---------------------+--------------------+-------------------+------------------+-------------------+-------------------------+----------------------+ | FreeBSD 13.5 | PASS | SKIPPED | SKIPPED | SKIPPED | SKIPPED | SKIPPED | +---------------------+--------------------+-------------------+------------------+-------------------+-------------------------+----------------------+ | Ubuntu 22.04 | PASS | PASS | SKIPPED | SKIPPED | SKIPPED | SKIPPED | +---------------------+--------------------+-------------------+------------------+-------------------+-------------------------+----------------------+ | Ubuntu 24.04 | PASS | PASS | PASS | SKIPPED | SKIPPED | SKIPPED | +---------------------+--------------------+-------------------+------------------+-------------------+-------------------------+----------------------+ | Alpine | PASS | SKIPPED | SKIPPED | SKIPPED | SKIPPED | SKIPPED | +---------------------+--------------------+-------------------+------------------+-------------------+-------------------------+----------------------+ | FreeBSD 14.2 | PASS | SKIPPED | SKIPPED | SKIPPED | SKIPPED | SKIPPED | +---------------------+--------------------+-------------------+------------------+-------------------+-------------------------+----------------------+ | Windows Server 2022 | SKIPPED | SKIPPED | SKIPPED | PASS | PASS | PASS | +---------------------+--------------------+-------------------+------------------+-------------------+-------------------------+----------------------+ ==== 20 line log output for Fedora 41 (Clang) (dpdk_compile_spdk): ==== --- Failed to get log output --- ==== End log output ==== CentOS Stream 9 Kernel: Depends on container host Compiler: gcc 11.5.0 20240719 (Red Hat 11.5.0-2) CentOS Stream 10 Kernel: Depends on container host Compiler: gcc 14.2.1 20241104 (Red Hat 14.2.1-6) Debian 12 Kernel: Depends on container host Compiler: gcc (Debian 12.2.0-14) 12.2.0 Fedora 40 (Clang) Kernel: Depends on container host Compiler: clang 18.1.8 (Fedora 18.1.8-1.fc40) Fedora 40 Kernel: Depends on container host Compiler: gcc 14.2.1 20240912 (Red Hat 14.2.1-3) Fedora 41 (Clang) Kernel: Depends on container host Compiler: clang 19.1.5 (Fedora 19.1.5-1.fc41) Fedora 41 Kernel: Depends on container host Compiler: gcc 14.2.1 20240912 (Red Hat 14.2.1-3) openSUSE Leap 15 Kernel: Depends on container host Compiler: gcc (SUSE Linux) 7.5.0 Ubuntu 20.04 Kernel: 4.19.325-0419325-generic Compiler: gcc (Ubuntu 9.4.0-1ubuntu1~20.04.2) 9.4.0 RHEL8 Kernel: Depends on container host Compiler: gcc 8.5.0 20210514 (Red Hat 8.5.0-22) RHEL9 Kernel: Depends on container host Compiler: gcc 11.5.0 20240719 (Red Hat 11.5.0-2) FreeBSD 13.5 Kernel: 13.5-RELEASE Compiler: clang 19.1.7 Ubuntu 22.04 Kernel: Depends on container host Compiler: gcc (Ubuntu 11.4.0-1ubuntu1~22.04) 11.4.0 Ubuntu 24.04 Kernel: Depends on container host Compiler: gcc (Ubuntu 13.3.0-6ubuntu2~24.04) 13.3.0 Alpine Kernel: Depends on container host Compiler: gcc (Alpine 14.2.0) 14.2.0 FreeBSD 14.2 Kernel: 14.2-RELEASE Compiler: clang 18.1.6 Windows Server 2022 Kernel: 10.0.20348.2031 Compiler: clang 15.0.7, gcc 14.1.0 (MinGW), and MSVC VS 19.39.33521 To view detailed results, visit: https://lab.dpdk.org/results/dashboard/tarballs/33596/ UNH-IOL DPDK Community Lab To manage your email subscriptions, visit: https://lab.dpdk.org/results/dashboard/preferences/subscriptions/