From mboxrd@z Thu Jan 1 00:00:00 1970 Return-Path: Received: from mails.dpdk.org (mails.dpdk.org [217.70.189.124]) by inbox.dpdk.org (Postfix) with ESMTP id EA71F467AB for ; Wed, 21 May 2025 12:33:30 +0200 (CEST) Received: from mails.dpdk.org (localhost [127.0.0.1]) by mails.dpdk.org (Postfix) with ESMTP id D27874275D; Wed, 21 May 2025 12:33:30 +0200 (CEST) Received: from mail-yw1-f228.google.com (mail-yw1-f228.google.com [209.85.128.228]) by mails.dpdk.org (Postfix) with ESMTP id 249C84065D for ; Wed, 21 May 2025 12:33:29 +0200 (CEST) Received: by mail-yw1-f228.google.com with SMTP id 00721157ae682-70dec158cc1so13615757b3.0 for ; Wed, 21 May 2025 03:33:29 -0700 (PDT) DKIM-Signature: v=1; a=rsa-sha256; c=relaxed/relaxed; d=iol.unh.edu; s=unh-iol; t=1747823608; x=1748428408; darn=dpdk.org; h=references:in-reply-to:cc:to:from:subject:message-id:date:from:to :cc:subject:date:message-id:reply-to; bh=JjeKvC6/gTQzOQEkDkS0ITQ9a1pqcKlZN3rnFeCodsw=; b=GLL3k19ijPM7x/qVkMhgEifqB2dXwIyuWvVLgyNo75F9LShLPIXw6dVRt/TkLBgP7y io6jHj68jFYzfVmLVXqmAX7rRtOYjvHqpFiBVgpu95b5KJuA5O/5w95cAn01INsIrUNH Z61D1o4tqyx8oBsHVH4zuQQqk4y5befHAQGDA= X-Google-DKIM-Signature: v=1; a=rsa-sha256; c=relaxed/relaxed; d=1e100.net; s=20230601; t=1747823608; x=1748428408; h=references:in-reply-to:cc:to:from:subject:message-id:date :x-gm-message-state:from:to:cc:subject:date:message-id:reply-to; bh=JjeKvC6/gTQzOQEkDkS0ITQ9a1pqcKlZN3rnFeCodsw=; b=TD2L1ZOIpn/+3tbC/E1BOy/SaE1N8krthUB72V74wPMOlcNKtGz4SQIMukXIkVZf5w nG+TPNtR/QpDm2HVqW4kfy0Wgk1Et/ieA45hCv8Sj1FKtIXaEBCLLSflCjjF/kRjb73H qgEh3MZHK0Om1aaf7ax50ihxC8jPuOrmGUeziV8lL47QEK7BM4MdM//w1e47Ps3ExYmT fn4K4+DXb3Ifa4Fa4XqCLHeULsbSI0TA/pvQjMUSISquMUi/bzGf0kbmM5V5G4sfRAQN VdDGjb1swQK4ffXTibdeDs/HrNtPPPdf9rDAJmXiaif3YacvjQfMtiS9yZEESnzEBycj obhg== X-Gm-Message-State: AOJu0YwlVMNd2tN9xzWQgC8YvHwL969ACPjwvjrvCSvJyPYfIo5R6xIs 2QznXCr7ITmcbXYPqc1LqFoU5HSK/u0KwllRVadZfi2VQDsqWrhMP5M2fRv8CYGnD5SgOopUByr 8jvktihCmRjGBBhC392qqApABuH7bbl+qw66kixKd5odx X-Gm-Gg: ASbGncsGcHOnx3/hq7lrGaJst4U+6T4ceyJq/JTFzTUin7e2LR48FmJjwUQCp6B3R6p jGH/M5SuyJBoDD7j1oZ8lYsMKieZgNzw141kKkEEL2AdD9KKymrjH/Ee/WJq5F/JcLkzE7m4dTg tHvQ0u+2oB+kgatNUGUvd1PyedhSRlms88b/YFy1JX5nooyW8bttalsG3XeuUvoEDSUKDlS4bfj 6ZXuE5Eb5FogI3a7j/M+/fwDEHCTbHMT/ZVfUDp2P1GJhGJt932E684ZOYYEceR1vLEVCGDoiGZ etMp9fNC/BQubdgtGjHamGiwHFgcYFvyFu31qiWlI/pi650sUT3r9pMvpww= X-Google-Smtp-Source: AGHT+IGvvfqVGARO0VXS0i/rsB0vbFLv082lGbhoGhIcEpUX+hNAsgdqabG6+SlF1FKk/XTzNfXre4wlRJ4P X-Received: by 2002:a05:690c:338d:b0:70d:f2be:c30e with SMTP id 00721157ae682-70df2bec910mr29780697b3.3.1747823608142; Wed, 21 May 2025 03:33:28 -0700 (PDT) Received: from postal.iol.unh.edu (postal.iol.unh.edu. [132.177.123.84]) by smtp-relay.gmail.com with ESMTPS id 00721157ae682-70ca836a06asm3983777b3.30.2025.05.21.03.33.28 (version=TLS1_2 cipher=ECDHE-ECDSA-AES128-GCM-SHA256 bits=128/128); Wed, 21 May 2025 03:33:28 -0700 (PDT) X-Relaying-Domain: iol.unh.edu Date: Wed, 21 May 2025 03:33:28 -0700 (PDT) Message-ID: <682dabf8.810a0220.10b482.6987SMTPIN_ADDED_MISSING@mx.google.com> Received: from [172.21.0.6] (unknown [172.18.0.240]) by postal.iol.unh.edu (Postfix) with ESMTP id 96A936052471; Wed, 21 May 2025 06:33:27 -0400 (EDT) Subject: |SUCCESS| pw153548-153549 [PATCH] [v2,2/2] app/testpmd: clear stale From: dpdklab@iol.unh.edu To: Test Report Cc: dpdk-test-reports@iol.unh.edu In-Reply-To: <20250521051154.19595-2-skori@marvell.com> References: <20250521051154.19595-2-skori@marvell.com> Content-Type: text/plain X-BeenThere: test-report@dpdk.org X-Mailman-Version: 2.1.29 Precedence: list List-Id: automatic DPDK test reports List-Unsubscribe: , List-Archive: List-Post: List-Help: List-Subscribe: , Errors-To: test-report-bounces@dpdk.org Test-Label: iol-unit-amd64-testing Test-Status: SUCCESS http://dpdk.org/patch/153549 _Testing PASS_ Submitter: Sunil Kumar Kori Date: Wednesday, May 21 2025 05:11:43 DPDK git baseline: Repo:dpdk Branch: master CommitID:a0dde342cc312fd75b63281f63d757db7482cdab 153548-153549 --> testing pass Upstream job id: Generic-Unit-Test-DPDK#339471 Test environment and result as below: +---------------------+----------------+ | Environment | dpdk_unit_test | +=====================+================+ | CentOS Stream 9 | PASS | +---------------------+----------------+ | Fedora 40 | PASS | +---------------------+----------------+ | Debian 12 | PASS | +---------------------+----------------+ | CentOS Stream 10 | PASS | +---------------------+----------------+ | Fedora 40 (Clang) | PASS | +---------------------+----------------+ | Fedora 41 (Clang) | PASS | +---------------------+----------------+ | RHEL9 | PASS | +---------------------+----------------+ | Ubuntu 22.04 | PASS | +---------------------+----------------+ | RHEL8 | PASS | +---------------------+----------------+ | Fedora 41 | PASS | +---------------------+----------------+ | Ubuntu 20.04 | PASS | +---------------------+----------------+ | Ubuntu 24.04 | PASS | +---------------------+----------------+ | Windows Server 2022 | PASS | +---------------------+----------------+ CentOS Stream 9 Kernel: Depends on container host Compiler: gcc 11.5.0 20240719 (Red Hat 11.5.0-2) Fedora 40 Kernel: Depends on container host Compiler: gcc 14.2.1 20240912 (Red Hat 14.2.1-3) Debian 12 Kernel: Depends on container host Compiler: gcc (Debian 12.2.0-14) 12.2.0 CentOS Stream 10 Kernel: Depends on container host Compiler: gcc 14.2.1 20241104 (Red Hat 14.2.1-6) Fedora 40 (Clang) Kernel: Depends on container host Compiler: clang 18.1.8 (Fedora 18.1.8-1.fc40) Fedora 41 (Clang) Kernel: Depends on container host Compiler: clang 19.1.5 (Fedora 19.1.5-1.fc41) RHEL9 Kernel: Depends on container host Compiler: gcc 11.5.0 20240719 (Red Hat 11.5.0-2) Ubuntu 22.04 Kernel: Depends on container host Compiler: gcc (Ubuntu 11.4.0-1ubuntu1~22.04) 11.4.0 RHEL8 Kernel: Depends on container host Compiler: gcc 8.5.0 20210514 (Red Hat 8.5.0-22) Fedora 41 Kernel: Depends on container host Compiler: gcc 14.2.1 20240912 (Red Hat 14.2.1-3) Ubuntu 20.04 Kernel: Depends on container host Compiler: gcc (Ubuntu 9.4.0-1ubuntu1~20.04.2) 9.4.0 Ubuntu 24.04 Kernel: Depends on container host Compiler: gcc (Ubuntu 13.3.0-6ubuntu2~24.04) 13.3.0 Windows Server 2022 Kernel: 10.0.20348.2031 Compiler: clang 15.0.7, gcc 14.1.0 (MinGW), and MSVC VS 19.39.33521 To view detailed results, visit: https://lab.dpdk.org/results/dashboard/patchsets/33217/ UNH-IOL DPDK Community Lab To manage your email subscriptions, visit: https://lab.dpdk.org/results/dashboard/preferences/subscriptions/