From mboxrd@z Thu Jan 1 00:00:00 1970 Return-Path: Received: from mails.dpdk.org (mails.dpdk.org [217.70.189.124]) by inbox.dpdk.org (Postfix) with ESMTP id E8924467AB for ; Wed, 21 May 2025 12:33:42 +0200 (CEST) Received: from mails.dpdk.org (localhost [127.0.0.1]) by mails.dpdk.org (Postfix) with ESMTP id E45A44275D; Wed, 21 May 2025 12:33:42 +0200 (CEST) Received: from mail-pl1-f226.google.com (mail-pl1-f226.google.com [209.85.214.226]) by mails.dpdk.org (Postfix) with ESMTP id 838814065D for ; Wed, 21 May 2025 12:33:42 +0200 (CEST) Received: by mail-pl1-f226.google.com with SMTP id d9443c01a7336-2320e53167dso44309185ad.3 for ; Wed, 21 May 2025 03:33:42 -0700 (PDT) DKIM-Signature: v=1; a=rsa-sha256; c=relaxed/relaxed; d=iol.unh.edu; s=unh-iol; t=1747823622; x=1748428422; darn=dpdk.org; h=references:in-reply-to:cc:to:from:subject:message-id:date:from:to :cc:subject:date:message-id:reply-to; bh=ij4185UvPZ8eX80Cu+ybr642F6MEtmFjf2JTLQroeck=; b=b75iyclS5qQ4aTQOJph52gHBeXAL3fbxOs+e4I7rEwPH0fNgXa2N+usXz+O5MNw33c Y2t3IQa+wTf0ibMelnwbRAG0mNzULgfbfPJNb3osdBmKqytNgCzPZDZopX8yUMTW6A+E wXjwClZOxHaxnRlmSUsrLfLjX6Q1DJwSpsj98= X-Google-DKIM-Signature: v=1; a=rsa-sha256; c=relaxed/relaxed; d=1e100.net; s=20230601; t=1747823622; x=1748428422; h=references:in-reply-to:cc:to:from:subject:message-id:date :x-gm-message-state:from:to:cc:subject:date:message-id:reply-to; bh=ij4185UvPZ8eX80Cu+ybr642F6MEtmFjf2JTLQroeck=; b=c0543lL3O2v3HNAA4bBafznbwfkCOjtEYp5vfpuepWkotzgnpKaF38QK3Q1GTalRBE ndEz5QkXYPdsCUrjLlO/d4AWIZbb8FBpjKvmn75P18cirH5RHN/XFM47jFkhYT++vH63 chhJg/JNvWreGQ+KoW0cz/1h8zw7/mDOmbUW/sbnKZHpnj1p/0YasNQvsawk/av/VTxj f8Kg5YFMTtXeX5s674wZWqZnviABahOAh9f7Pzk+6OpIkdLEUYq+3sJDCdmO/sRJsoo6 CGQPdf30smHzhBS7v25T51xbNudz5nBypT9ePNMhPZsWrD+vjn8o3hbaGUqdWdT7zrwt DR1Q== X-Gm-Message-State: AOJu0YxjaN9l1l40jjVMZ5ZwTSUJncJfLIlSyNwgdpBlJBXU52LuFwR+ BjfpsusAcRfJ5tsiLpkLapXpcArKFjGSv38sAK9YvA8g4ZYrVRR1IA1hR7LWX7JNytAvEA05OAQ 4ADLkMTkC3AMigA8tNKk2B/LAvwayrMauQloT4UFV+oLq X-Gm-Gg: ASbGncvHAvVkkhQFdpS08XtA9SHep+m88nzr7lTtyVsNGz7JcTKiCi4tQ5VU/Lyd7xT fjnQiPburfCrhKdcI7p/Nk4LL0Vs4LEIKIWb6WrQiP/vTDoV0WCs703hJmiFq54RhexZT1DG3M6 6kAVqyQVhSjeLJyrcC9UrRZlINyHsyU06byxjFRYbiXn82tB8KRLZ9A60dKcziMEP/CN9RM7vkk FYQEb8/ANgBPImz4hwivlVOW0HULAg0AqnHXyuv6NC3m5VEfNPyHXaF+APV3sI26CVgB1xetWc/ kheTN1OeOu6K3pwKlMeWQzOz8XTIxnLU3jaqPR78zZZ4xXTJjQjxXNrlZBo= X-Google-Smtp-Source: AGHT+IEEa3+Gen6aPJUiT31ToXcAAKEMJc83jOikepkvH4+WOqA2SDXwAJH13v8OKWTtAZWCMVwmFzeaGxGX X-Received: by 2002:a17:902:f643:b0:224:1294:1d24 with SMTP id d9443c01a7336-231d43dc980mr234244695ad.3.1747823621598; Wed, 21 May 2025 03:33:41 -0700 (PDT) Received: from postal.iol.unh.edu (postal.iol.unh.edu. [132.177.123.84]) by smtp-relay.gmail.com with ESMTPS id d9443c01a7336-231d4aa7366sm6015605ad.2.2025.05.21.03.33.41 (version=TLS1_2 cipher=ECDHE-ECDSA-AES128-GCM-SHA256 bits=128/128); Wed, 21 May 2025 03:33:41 -0700 (PDT) X-Relaying-Domain: iol.unh.edu Date: Wed, 21 May 2025 03:33:41 -0700 (PDT) Message-ID: <682dac05.170a0220.2ccf22.031cSMTPIN_ADDED_MISSING@mx.google.com> Received: from [172.21.0.7] (unknown [172.18.0.240]) by postal.iol.unh.edu (Postfix) with ESMTP id C6F966052471; Wed, 21 May 2025 06:33:40 -0400 (EDT) Subject: |SUCCESS| pw153548-153549 [PATCH] [v2,2/2] app/testpmd: clear stale From: dpdklab@iol.unh.edu To: Test Report Cc: dpdk-test-reports@iol.unh.edu In-Reply-To: <20250521051154.19595-2-skori@marvell.com> References: <20250521051154.19595-2-skori@marvell.com> Content-Type: text/plain X-BeenThere: test-report@dpdk.org X-Mailman-Version: 2.1.29 Precedence: list List-Id: automatic DPDK test reports List-Unsubscribe: , List-Archive: List-Post: List-Help: List-Subscribe: , Errors-To: test-report-bounces@dpdk.org Test-Label: iol-unit-amd64-testing Test-Status: SUCCESS http://dpdk.org/patch/153549 _Testing PASS_ Submitter: Sunil Kumar Kori Date: Wednesday, May 21 2025 05:11:43 DPDK git baseline: Repo:dpdk Branch: master CommitID:a0dde342cc312fd75b63281f63d757db7482cdab 153548-153549 --> testing pass Upstream job id: Generic-Unit-Test-DPDK#339481 Test environment and result as below: +---------------------+----------------+ | Environment | dpdk_unit_test | +=====================+================+ | CentOS Stream 9 | PASS | +---------------------+----------------+ | Fedora 40 | PASS | +---------------------+----------------+ | Debian 12 | PASS | +---------------------+----------------+ | CentOS Stream 10 | PASS | +---------------------+----------------+ | Fedora 40 (Clang) | PASS | +---------------------+----------------+ | Fedora 41 (Clang) | PASS | +---------------------+----------------+ | RHEL9 | PASS | +---------------------+----------------+ | Ubuntu 22.04 | PASS | +---------------------+----------------+ | RHEL8 | PASS | +---------------------+----------------+ | Fedora 41 | PASS | +---------------------+----------------+ | Ubuntu 20.04 | PASS | +---------------------+----------------+ | Ubuntu 24.04 | PASS | +---------------------+----------------+ | Windows Server 2022 | PASS | +---------------------+----------------+ CentOS Stream 9 Kernel: Depends on container host Compiler: gcc 11.5.0 20240719 (Red Hat 11.5.0-2) Fedora 40 Kernel: Depends on container host Compiler: gcc 14.2.1 20240912 (Red Hat 14.2.1-3) Debian 12 Kernel: Depends on container host Compiler: gcc (Debian 12.2.0-14) 12.2.0 CentOS Stream 10 Kernel: Depends on container host Compiler: gcc 14.2.1 20241104 (Red Hat 14.2.1-6) Fedora 40 (Clang) Kernel: Depends on container host Compiler: clang 18.1.8 (Fedora 18.1.8-1.fc40) Fedora 41 (Clang) Kernel: Depends on container host Compiler: clang 19.1.5 (Fedora 19.1.5-1.fc41) RHEL9 Kernel: Depends on container host Compiler: gcc 11.5.0 20240719 (Red Hat 11.5.0-2) Ubuntu 22.04 Kernel: Depends on container host Compiler: gcc (Ubuntu 11.4.0-1ubuntu1~22.04) 11.4.0 RHEL8 Kernel: Depends on container host Compiler: gcc 8.5.0 20210514 (Red Hat 8.5.0-22) Fedora 41 Kernel: Depends on container host Compiler: gcc 14.2.1 20240912 (Red Hat 14.2.1-3) Ubuntu 20.04 Kernel: Depends on container host Compiler: gcc (Ubuntu 9.4.0-1ubuntu1~20.04.2) 9.4.0 Ubuntu 24.04 Kernel: Depends on container host Compiler: gcc (Ubuntu 13.3.0-6ubuntu2~24.04) 13.3.0 Windows Server 2022 Kernel: 10.0.20348.2031 Compiler: clang 15.0.7, gcc 14.1.0 (MinGW), and MSVC VS 19.39.33521 To view detailed results, visit: https://lab.dpdk.org/results/dashboard/patchsets/33217/ UNH-IOL DPDK Community Lab To manage your email subscriptions, visit: https://lab.dpdk.org/results/dashboard/preferences/subscriptions/