From mboxrd@z Thu Jan 1 00:00:00 1970 Return-Path: Received: from mails.dpdk.org (mails.dpdk.org [217.70.189.124]) by inbox.dpdk.org (Postfix) with ESMTP id 04D71467AB for ; Wed, 21 May 2025 12:33:57 +0200 (CEST) Received: from mails.dpdk.org (localhost [127.0.0.1]) by mails.dpdk.org (Postfix) with ESMTP id 005364275D; Wed, 21 May 2025 12:33:57 +0200 (CEST) Received: from mail-io1-f99.google.com (mail-io1-f99.google.com [209.85.166.99]) by mails.dpdk.org (Postfix) with ESMTP id B441C4065D for ; Wed, 21 May 2025 12:33:55 +0200 (CEST) Received: by mail-io1-f99.google.com with SMTP id ca18e2360f4ac-85e73562577so721465739f.0 for ; Wed, 21 May 2025 03:33:55 -0700 (PDT) DKIM-Signature: v=1; a=rsa-sha256; c=relaxed/relaxed; d=iol.unh.edu; s=unh-iol; t=1747823635; x=1748428435; darn=dpdk.org; h=cc:to:from:subject:message-id:date:from:to:cc:subject:date :message-id:reply-to; bh=RrzX5vhJg+w1Nh1KerUcn+8k9HX/5QYwnywyEGW0wp0=; b=e0bDjZxvNNCF8Sy29GJt/Sntl7hYm4Jn/MJLl1/GZU56iVMMbgkOOPDfqiu4XtZMXw 6shXBQV0bK4tJOA4GzyYjljXsYGE4ou043kC13RO2+/RlCk3uO+pfv+Uwzdis0bT6k6y Hv2TaqsTkIQZInK3j6dMn91TQdhDfQJCkSqkE= X-Google-DKIM-Signature: v=1; a=rsa-sha256; c=relaxed/relaxed; d=1e100.net; s=20230601; t=1747823635; x=1748428435; h=cc:to:from:subject:message-id:date:x-gm-message-state:from:to:cc :subject:date:message-id:reply-to; bh=RrzX5vhJg+w1Nh1KerUcn+8k9HX/5QYwnywyEGW0wp0=; b=KRO1/1b7lpJeo9AxlWa61uw+6QbD/HCb6+VnCwKQImAEqyVMcLAhHwX7BvT85RpvRP 6bF8M9TELvicDyWCegzvYWXWhLHqDQLiSpw18ksgqIHaTOkYsP4AmRgu60fHlkX9X1JA H0cbqnZ1kwNDOKxxDCiMyEbPEEzsYpJ9BjnQ/72A7sUcwgYujj5lR6tMsORS8AHqFzZu vfzxKtL17E0n3aRb1yy6ZROkcMvF0r8mXAOGtsmI7K4QJUkyYvZI37y2VUSoPK9iwoVf T1mdIFY034mn93GGsFZ33sshobroE7Rj0TX1ZYpQH6dRrql2x5pg4qF/QhnlPhXjPQG8 pQHg== X-Gm-Message-State: AOJu0Yxlg1+Q9ycV4OarvOJ3+J+uXC91zKQeVPerQq71hKJLOIhVsx6s zil/OxFiLN5ZHi1uDxOblk0uBNGstQUyXQcptSE3WKG1GI+miL3xECiEeHKtcuIBNVq8g76AT8n Wayar824i2MNCVs+Bl7h8wXKWeOhnLKwfXW3wpQsmO8O/rAqi9yZmWjF3t8Tx X-Gm-Gg: ASbGnctB5eKuC2t76icgr2/TvZSLRdaavyu3tcxvuMYSVxWxCevwJHXW5wP3m9W6O2B tUI4229rUi3duKCpkLDj/ymRgFX/ObR6Z7X8tvaq66f+v16nCdcVP3Y8uZGVS15UMeifXaDfVS2 rciLEuvh0pPadNlWU5TyNLgWm0Th01mKvEXIqYcooVqpbGRpDg24WnAGuAPlWCB0a7h68e+guBK HUIBOeBQWNnf6wJXgrRBGWrvS3+RCqdn69jXN7b/ndSwwwFJjts7QC3sfIiHzUDZ5+XgNmMpcTg vzrmU6yNOFGhPTE2+jEF4/1krQddE2pwI+id X-Google-Smtp-Source: AGHT+IFPb1Vk3nhZ7szXRP8WzMw6rRVDgdEuZiFeBuZgGKCu1PiynvYur4nhlMsknzdQvLfSeZZzJcSp64Ob X-Received: by 2002:a05:6e02:1d89:b0:3dc:7a6d:1e28 with SMTP id e9e14a558f8ab-3dc7a6d1f9amr70160735ab.7.1747823634944; Wed, 21 May 2025 03:33:54 -0700 (PDT) Received: from postal.iol.unh.edu (postal.iol.unh.edu. [2606:4100:3880:1234::84]) by smtp-relay.gmail.com with ESMTPS id 8926c6da1cb9f-4fbcc49fbf8sm550099173.61.2025.05.21.03.33.54 (version=TLS1_2 cipher=ECDHE-ECDSA-AES128-GCM-SHA256 bits=128/128); Wed, 21 May 2025 03:33:54 -0700 (PDT) X-Relaying-Domain: iol.unh.edu Date: Wed, 21 May 2025 03:33:54 -0700 (PDT) Message-ID: <682dac12.050a0220.315adc.e386SMTPIN_ADDED_MISSING@mx.google.com> Received: from [172.21.0.5] (unknown [172.18.0.240]) by postal.iol.unh.edu (Postfix) with ESMTP id 70ECE6052471; Wed, 21 May 2025 06:33:54 -0400 (EDT) Subject: |SUCCESS| [GIT MASTER] a0dde342cc312fd75b63281f63d757db7482cdab From: dpdklab@iol.unh.edu To: Test Report Cc: dpdk-test-reports@iol.unh.edu, Stephen Hemminger Content-Type: text/plain X-BeenThere: test-report@dpdk.org X-Mailman-Version: 2.1.29 Precedence: list List-Id: automatic DPDK test reports List-Unsubscribe: , List-Archive: List-Post: List-Help: List-Subscribe: , Errors-To: test-report-bounces@dpdk.org _Testing PASS_ Branch: dpdk-next-net a0dde342cc312fd75b63281f63d757db7482cdab --> testing pass Upstream job id: Generic-Unit-Test-DPDK#339483 Test environment and result as below: +-----------------------------+------------------------------+--------------+---------------------------+----------------+ | Environment | cryptodev_sw_snow3g_autotest | lpm_autotest | cryptodev_sw_zuc_autotest | dpdk_unit_test | +=============================+==============================+==============+===========================+================+ | Debian 12 (arm) | PASS | SKIPPED | PASS | PASS | +-----------------------------+------------------------------+--------------+---------------------------+----------------+ | Ubuntu 20.04 ARM SVE | SKIPPED | PASS | SKIPPED | SKIPPED | +-----------------------------+------------------------------+--------------+---------------------------+----------------+ | Fedora 41 (ARM) | SKIPPED | SKIPPED | SKIPPED | PASS | +-----------------------------+------------------------------+--------------+---------------------------+----------------+ | Fedora 40 (ARM) | SKIPPED | SKIPPED | SKIPPED | PASS | +-----------------------------+------------------------------+--------------+---------------------------+----------------+ | Fedora 41 (ARM Clang) | SKIPPED | SKIPPED | SKIPPED | PASS | +-----------------------------+------------------------------+--------------+---------------------------+----------------+ | Fedora 40 (ARM Clang) | SKIPPED | SKIPPED | SKIPPED | PASS | +-----------------------------+------------------------------+--------------+---------------------------+----------------+ | CentOS Stream 10 (ARM) | SKIPPED | SKIPPED | SKIPPED | PASS | +-----------------------------+------------------------------+--------------+---------------------------+----------------+ | CentOS Stream 9 (ARM) | SKIPPED | SKIPPED | SKIPPED | PASS | +-----------------------------+------------------------------+--------------+---------------------------+----------------+ | Ubuntu 22.04 (ARM) | SKIPPED | SKIPPED | SKIPPED | PASS | +-----------------------------+------------------------------+--------------+---------------------------+----------------+ | RHEL9 (ARM) | SKIPPED | SKIPPED | SKIPPED | PASS | +-----------------------------+------------------------------+--------------+---------------------------+----------------+ | Ubuntu 24.04 (ARM) | SKIPPED | SKIPPED | SKIPPED | PASS | +-----------------------------+------------------------------+--------------+---------------------------+----------------+ | Ubuntu 20.04 (ARM) | SKIPPED | SKIPPED | SKIPPED | PASS | +-----------------------------+------------------------------+--------------+---------------------------+----------------+ | 32-bit Ubuntu 22.04.4 (ARM) | SKIPPED | SKIPPED | SKIPPED | PASS | +-----------------------------+------------------------------+--------------+---------------------------+----------------+ Debian 12 (arm) Kernel: Depends on container host Compiler: gcc (Debian 12.2.0-14) 12.2.0 Ubuntu 20.04 ARM SVE Kernel: Depends on container host Compiler: gcc (Ubuntu 10.5.0-1ubuntu1~20.04) 10.5.0 Fedora 41 (ARM) Kernel: Depends on container host Compiler: gcc 14.2.1 20240912 (Red Hat 14.2.1-3) Fedora 40 (ARM) Kernel: Depends on container host Compiler: gcc 14.2.1 20240912 (Red Hat 14.2.1-3) Fedora 41 (ARM Clang) Kernel: Depends on container host Compiler: clang 19.1.5 (Fedora 19.1.5-1.fc41) Fedora 40 (ARM Clang) Kernel: Depends on container host Compiler: clang 18.1.8 (Fedora 18.1.8-1.fc40) CentOS Stream 10 (ARM) Kernel: Depends on container host Compiler: gcc 14.2.1 20241104 (Red Hat 14.2.1-6) CentOS Stream 9 (ARM) Kernel: Depends on container host Compiler: gcc 11.5.0 20240719 (Red Hat 11.5.0-2) Ubuntu 22.04 (ARM) Kernel: Depends on container host Compiler: gcc (Ubuntu 11.4.0-1ubuntu1~22.04) 11.4.0 RHEL9 (ARM) Kernel: Depends on container host Compiler: gcc 11.5.0 20240719 (Red Hat 11.5.0-2) Ubuntu 24.04 (ARM) Kernel: Depends on container host Compiler: gcc (Ubuntu 13.3.0-6ubuntu2~24.04) 13.3.0 Ubuntu 20.04 (ARM) Kernel: Depends on container host Compiler: gcc (Ubuntu 9.4.0-1ubuntu1~20.04.2) 9.4.0 32-bit Ubuntu 22.04.4 (ARM) Kernel: 5.15.83+ aarch64 Compiler: gcc (Ubuntu 11.4.0-1ubuntu1~22.04) 11.4.0 To view detailed results, visit: https://lab.dpdk.org/results/dashboard/tarballs/33598/ UNH-IOL DPDK Community Lab To manage your email subscriptions, visit: https://lab.dpdk.org/results/dashboard/preferences/subscriptions/