From mboxrd@z Thu Jan 1 00:00:00 1970 Return-Path: Received: from mails.dpdk.org (mails.dpdk.org [217.70.189.124]) by inbox.dpdk.org (Postfix) with ESMTP id C53CE467AB for ; Wed, 21 May 2025 12:35:07 +0200 (CEST) Received: from mails.dpdk.org (localhost [127.0.0.1]) by mails.dpdk.org (Postfix) with ESMTP id C18C842799; Wed, 21 May 2025 12:35:07 +0200 (CEST) Received: from mail-il1-f228.google.com (mail-il1-f228.google.com [209.85.166.228]) by mails.dpdk.org (Postfix) with ESMTP id E472E4279B for ; Wed, 21 May 2025 12:35:06 +0200 (CEST) Received: by mail-il1-f228.google.com with SMTP id e9e14a558f8ab-3d96d16b369so55645975ab.0 for ; Wed, 21 May 2025 03:35:06 -0700 (PDT) DKIM-Signature: v=1; a=rsa-sha256; c=relaxed/relaxed; d=iol.unh.edu; s=unh-iol; t=1747823706; x=1748428506; darn=dpdk.org; h=references:in-reply-to:cc:to:from:subject:message-id:date:from:to :cc:subject:date:message-id:reply-to; bh=dcmQ/UU2ZRxq71/b7nngLpfJfMUQhINMT3kQiQhzUHQ=; b=TAKbg/CCrn8+MLLjY3YPr5h9MQZZmSWk+hnmaio7OvUyn4lJ7bjgrpx/sH6xaF2/dU nhU0YUIrWyq5JYHrQLVzy2SSGkKeSO5y/++uPpOi3donCOxLIs0BEUZXkp9ZFUWRhPj5 v8UG4mR0xdebTL/p7VvbOT4p0w6B+dE1nW7T4= X-Google-DKIM-Signature: v=1; a=rsa-sha256; c=relaxed/relaxed; d=1e100.net; s=20230601; t=1747823706; x=1748428506; h=references:in-reply-to:cc:to:from:subject:message-id:date :x-gm-message-state:from:to:cc:subject:date:message-id:reply-to; bh=dcmQ/UU2ZRxq71/b7nngLpfJfMUQhINMT3kQiQhzUHQ=; b=GrkJiSUJHA4b7toNdZhRojoD/oCZ2UjKWCDjzC1SgaS4rerwfT1sStjQfnnmkqIJbo 2W4Dwec6bO7ITId4cl5VxT74pg53gW3BSf1Somv9kP39iiQZiZrQEJ2GcLBdbVp2pIYf OXS7O4PIyH1+BS1Ak+AToh70/j+hWvrTrtl5AXkMsRPr9PopBtyrMKM4HPoEmN/f/t5v eyWPelk2U9jnRPI0Tr+rxmkl7YnPadLhzWPwIgfBqeSE1vPuX9s3wGYkRXvQWI34fFKd 0gAI5+lGfW2SfXWg6Ixy/JQcOeErnkhFM76Bi4bM6Su9cyZsG9FBk9OIH0mhd1gk8zYl v6Bg== X-Gm-Message-State: AOJu0YxCB0C8TMKc2ZjPCJGzMUG2/iZx0aylzyObWbYFbMYnyjF3CAhk nFuyS9p6BbCKiUNG5QwiFMbMRsc6HAYChtVi+DJT/gTWXReVlX1M5r+/2CI34LUPCzEBACdmmIe /rVgBKXIm1T9efAQxatB3izw38jowtS91bF8YcsxxN/lo X-Gm-Gg: ASbGncve3E/R+tQr1MhGxFcD7VS36u68TlKpfy4LHqVYr+V0J6mwRKgCu4ptqICmUgf VjVXnPpeEpxwQBfaM3SpIw4T8h0FqZ6cfMXV/jYy8GHD/yubIEqzAL+zZCVrENjDuiuk5vo8zOm AcyaT9Yu13uu1A4e6mwmaMOthBPNdyRNYt76tP9TNf4PjWyyg/28gKZVtje53jhH2L9vM4GAOpi Zbqk+J7SdpNfr0C+MKZ0rp3YzCgRaSiatl+SEgS24YTVxc2inbYANWpxB/pB+WXdsWFQzmgvVw1 8SwJ6CX8bj302QUaobegdN9lCqDrdKMec89BKFKOKVB3VD3X+f/QMqWXGJA= X-Google-Smtp-Source: AGHT+IH2XuPgbJy7hrK9gNbBdWuDfg/26sEgAuqltfzwIVsQ2l6pj9tPjiCibd4TTrmxVTZa1QTVAwWOVPHV X-Received: by 2002:a05:6e02:1745:b0:3db:7b4c:309b with SMTP id e9e14a558f8ab-3db8429768amr244991835ab.2.1747823706159; Wed, 21 May 2025 03:35:06 -0700 (PDT) Received: from postal.iol.unh.edu (postal.iol.unh.edu. [132.177.123.84]) by smtp-relay.gmail.com with ESMTPS id 8926c6da1cb9f-4fbcc488c1bsm535254173.53.2025.05.21.03.35.06 (version=TLS1_2 cipher=ECDHE-ECDSA-AES128-GCM-SHA256 bits=128/128); Wed, 21 May 2025 03:35:06 -0700 (PDT) X-Relaying-Domain: iol.unh.edu Date: Wed, 21 May 2025 03:35:06 -0700 (PDT) Message-ID: <682dac5a.050a0220.5111c.e031SMTPIN_ADDED_MISSING@mx.google.com> Received: from [172.21.0.5] (unknown [172.18.0.240]) by postal.iol.unh.edu (Postfix) with ESMTP id A6A706052471; Wed, 21 May 2025 06:35:05 -0400 (EDT) Subject: |WARNING| pw153548-153549 [PATCH] [v2,2/2] app/testpmd: clear stale From: dpdklab@iol.unh.edu To: Test Report Cc: dpdk-test-reports@iol.unh.edu In-Reply-To: <20250521051154.19595-2-skori@marvell.com> References: <20250521051154.19595-2-skori@marvell.com> Content-Type: text/plain X-BeenThere: test-report@dpdk.org X-Mailman-Version: 2.1.29 Precedence: list List-Id: automatic DPDK test reports List-Unsubscribe: , List-Archive: List-Post: List-Help: List-Subscribe: , Errors-To: test-report-bounces@dpdk.org Test-Label: iol-compile-amd64-testing Test-Status: WARNING http://dpdk.org/patch/153549 _Testing issues_ Submitter: Sunil Kumar Kori Date: Wednesday, May 21 2025 05:11:43 DPDK git baseline: Repo:dpdk Branch: master CommitID:a0dde342cc312fd75b63281f63d757db7482cdab 153548-153549 --> testing issues Upstream job id: Generic-DPDK-Compile-Meson#389901 Test environment and result as below: +-----------------------------------+--------------------+-------------------+-------------------------+----------------------+-------------------+------------------+ | Environment | dpdk_meson_compile | dpdk_msvc_compile | dpdk_llvm_clang_compile | dpdk_mingw64_compile | dpdk_compile_spdk | dpdk_compile_ovs | +===================================+====================+===================+=========================+======================+===================+==================+ | Ubuntu 20.04 | PEND | SKIPPED | SKIPPED | SKIPPED | SKIPPED | SKIPPED | +-----------------------------------+--------------------+-------------------+-------------------------+----------------------+-------------------+------------------+ | FreeBSD 13.5 | PASS | SKIPPED | SKIPPED | SKIPPED | SKIPPED | SKIPPED | +-----------------------------------+--------------------+-------------------+-------------------------+----------------------+-------------------+------------------+ | FreeBSD 14.2 | PASS | SKIPPED | SKIPPED | SKIPPED | SKIPPED | SKIPPED | +-----------------------------------+--------------------+-------------------+-------------------------+----------------------+-------------------+------------------+ | CentOS Stream 9 | PASS | SKIPPED | SKIPPED | SKIPPED | PASS | SKIPPED | +-----------------------------------+--------------------+-------------------+-------------------------+----------------------+-------------------+------------------+ | CentOS Stream 10 | PASS | SKIPPED | SKIPPED | SKIPPED | SKIPPED | SKIPPED | +-----------------------------------+--------------------+-------------------+-------------------------+----------------------+-------------------+------------------+ | Debian 12 | PASS | SKIPPED | SKIPPED | SKIPPED | PASS | SKIPPED | +-----------------------------------+--------------------+-------------------+-------------------------+----------------------+-------------------+------------------+ | Fedora 40 (Clang) | PASS | SKIPPED | SKIPPED | SKIPPED | WARN | SKIPPED | +-----------------------------------+--------------------+-------------------+-------------------------+----------------------+-------------------+------------------+ | Fedora 40 | PASS | SKIPPED | SKIPPED | SKIPPED | PASS | SKIPPED | +-----------------------------------+--------------------+-------------------+-------------------------+----------------------+-------------------+------------------+ | Fedora 41 (Clang) | PEND | SKIPPED | SKIPPED | SKIPPED | PEND | PEND | +-----------------------------------+--------------------+-------------------+-------------------------+----------------------+-------------------+------------------+ | Fedora 41 | PEND | SKIPPED | SKIPPED | SKIPPED | PEND | PEND | +-----------------------------------+--------------------+-------------------+-------------------------+----------------------+-------------------+------------------+ | openSUSE Leap 15 | PASS | SKIPPED | SKIPPED | SKIPPED | SKIPPED | SKIPPED | +-----------------------------------+--------------------+-------------------+-------------------------+----------------------+-------------------+------------------+ | RHEL8 | PASS | SKIPPED | SKIPPED | SKIPPED | SKIPPED | SKIPPED | +-----------------------------------+--------------------+-------------------+-------------------------+----------------------+-------------------+------------------+ | RHEL9 | PEND | SKIPPED | SKIPPED | SKIPPED | SKIPPED | SKIPPED | +-----------------------------------+--------------------+-------------------+-------------------------+----------------------+-------------------+------------------+ | Ubuntu 22.04 | PEND | SKIPPED | SKIPPED | SKIPPED | PEND | SKIPPED | +-----------------------------------+--------------------+-------------------+-------------------------+----------------------+-------------------+------------------+ | Ubuntu 24.04 | PEND | SKIPPED | SKIPPED | SKIPPED | PEND | PEND | +-----------------------------------+--------------------+-------------------+-------------------------+----------------------+-------------------+------------------+ | Alpine | PEND | SKIPPED | SKIPPED | SKIPPED | SKIPPED | SKIPPED | +-----------------------------------+--------------------+-------------------+-------------------------+----------------------+-------------------+------------------+ | Ubuntu 24.04 32 Bit Cross Compile | PEND | SKIPPED | SKIPPED | SKIPPED | SKIPPED | SKIPPED | +-----------------------------------+--------------------+-------------------+-------------------------+----------------------+-------------------+------------------+ | Windows Server 2022 | SKIPPED | PASS | PASS | PASS | SKIPPED | SKIPPED | +-----------------------------------+--------------------+-------------------+-------------------------+----------------------+-------------------+------------------+ ==== 20 line log output for Fedora 40 (Clang) (dpdk_compile_spdk): ==== --- Failed to get log output --- ==== End log output ==== Ubuntu 20.04 Kernel: 4.19.325-0419325-generic Compiler: gcc (Ubuntu 9.4.0-1ubuntu1~20.04.2) 9.4.0 FreeBSD 13.5 Kernel: 13.5-RELEASE Compiler: clang 19.1.7 FreeBSD 14.2 Kernel: 14.2-RELEASE Compiler: clang 18.1.6 CentOS Stream 9 Kernel: Depends on container host Compiler: gcc 11.5.0 20240719 (Red Hat 11.5.0-2) CentOS Stream 10 Kernel: Depends on container host Compiler: gcc 14.2.1 20241104 (Red Hat 14.2.1-6) Debian 12 Kernel: Depends on container host Compiler: gcc (Debian 12.2.0-14) 12.2.0 Fedora 40 (Clang) Kernel: Depends on container host Compiler: clang 18.1.8 (Fedora 18.1.8-1.fc40) Fedora 40 Kernel: Depends on container host Compiler: gcc 14.2.1 20240912 (Red Hat 14.2.1-3) Fedora 41 (Clang) Kernel: Depends on container host Compiler: clang 19.1.5 (Fedora 19.1.5-1.fc41) Fedora 41 Kernel: Depends on container host Compiler: gcc 14.2.1 20240912 (Red Hat 14.2.1-3) openSUSE Leap 15 Kernel: Depends on container host Compiler: gcc (SUSE Linux) 7.5.0 RHEL8 Kernel: Depends on container host Compiler: gcc 8.5.0 20210514 (Red Hat 8.5.0-22) RHEL9 Kernel: Depends on container host Compiler: gcc 11.5.0 20240719 (Red Hat 11.5.0-2) Ubuntu 22.04 Kernel: Depends on container host Compiler: gcc (Ubuntu 11.4.0-1ubuntu1~22.04) 11.4.0 Ubuntu 24.04 Kernel: Depends on container host Compiler: gcc (Ubuntu 13.3.0-6ubuntu2~24.04) 13.3.0 Alpine Kernel: Depends on container host Compiler: gcc (Alpine 14.2.0) 14.2.0 Ubuntu 24.04 32 Bit Cross Compile Kernel: Depends on container host Compiler: gcc (Ubuntu 13.3.0-6ubuntu2~24.04) 13.3.0 Windows Server 2022 Kernel: 10.0.20348.2031 Compiler: clang 15.0.7, gcc 14.1.0 (MinGW), and MSVC VS 19.39.33521 To view detailed results, visit: https://lab.dpdk.org/results/dashboard/patchsets/33217/ UNH-IOL DPDK Community Lab To manage your email subscriptions, visit: https://lab.dpdk.org/results/dashboard/preferences/subscriptions/