From mboxrd@z Thu Jan 1 00:00:00 1970 Return-Path: Received: from mails.dpdk.org (mails.dpdk.org [217.70.189.124]) by inbox.dpdk.org (Postfix) with ESMTP id CC191467AB for ; Wed, 21 May 2025 12:57:15 +0200 (CEST) Received: from mails.dpdk.org (localhost [127.0.0.1]) by mails.dpdk.org (Postfix) with ESMTP id BED83427A6; Wed, 21 May 2025 12:57:15 +0200 (CEST) Received: from mail-il1-f225.google.com (mail-il1-f225.google.com [209.85.166.225]) by mails.dpdk.org (Postfix) with ESMTP id B7620427A5 for ; Wed, 21 May 2025 12:57:14 +0200 (CEST) Received: by mail-il1-f225.google.com with SMTP id e9e14a558f8ab-3d940c7ea71so26667165ab.0 for ; Wed, 21 May 2025 03:57:14 -0700 (PDT) DKIM-Signature: v=1; a=rsa-sha256; c=relaxed/relaxed; d=iol.unh.edu; s=unh-iol; t=1747825034; x=1748429834; darn=dpdk.org; h=references:in-reply-to:cc:to:from:subject:message-id:date:from:to :cc:subject:date:message-id:reply-to; bh=5/GcH0TB6bs2yqRB1L1lA05nNI/DYpL6qWnlTAtmfgQ=; b=VZt6E4pkvBV4U/eQ8X1GDpctnWMaCjmqnec6RfTe+hKPK6+JgX1QeB1ehHBhyhmUdJ DfCcHkg3rg2dtzmX7ZLwpUdcUAxfepuvET4NQdyewrIG0LieQINNoJ8yHBhRvk5Kzq9b wSZhLH0DcKZFghQEj+GPsBL00qNQ7dkaF67ik= X-Google-DKIM-Signature: v=1; a=rsa-sha256; c=relaxed/relaxed; d=1e100.net; s=20230601; t=1747825034; x=1748429834; h=references:in-reply-to:cc:to:from:subject:message-id:date :x-gm-message-state:from:to:cc:subject:date:message-id:reply-to; bh=5/GcH0TB6bs2yqRB1L1lA05nNI/DYpL6qWnlTAtmfgQ=; b=VwkngZ62oiSVON8mbEvzCAqAj/9Kz9xSTdcvZ5gWMjq1xF7RywulGoOgMvfNwEqxBJ epLpRlDVbMRPBvyTsKeRAatg26RiwSJdrFtfHk7suM5RiFoeJutoMira0o8yWw/AkM/Q wOVhWtinsBffVM4KaGA1byzosC++1v0tGeVC9zaI1OlxSFaBrmrInu9/8jdAQvm3ngxZ gH2XgVK1vnBCa3IIRoGtVhvxWZKJByVTBfkeDJBP49+b2WnCq0VCiwfapP8uQxWBcilx l6NlRC8EpTfllD52zG78ppyEOFB6xucQxYEGHav0aAxCZmXLdCl+Y4hv5YyBs/0KDhPT TnLQ== X-Gm-Message-State: AOJu0YzWrV9aFSUPbcv4I+Lcuotzd0ARXLsEaRa55uX8u8xInXn2EVi7 Ykc2LnWXojA08PZh6BKlIF3Jvv3yhVMoUMW5NXNFvcysSor0zpxHrJ7qkj8r/s9muPSgJxAI6nh /+oj1V320P4k2qNKItbDeUr+Kc98gMcf1sszo5kzDDH0Ozbm9VpKwnVti43f4 X-Gm-Gg: ASbGncvg4wu6np1NS7t7QBpDorp9zS83V+uuhiU2QYrFgVnXX02V/LSqTw2etvC/REm rkI68wCk9B6yj0mGEkSJLoSwkUoUhDXSrINty6YTTk4G6WUFjvVd6rlUiKpgoExDdPr57wVO7To CTXH+eQqRdzvehqHhqvdCCG1pnbnC2/CbF2PMK3mnHqNocB/ZK3qG0zlXyLDB6YYtc3hTcqf6h0 SNqtxDI0NF6N9zV2zWvQEvsi97qqnkUJ0HP+ISXbb6s/fz2sB6rb0LCWw1MRiU5u+iQsH27pI19 jvSJYz9BdIv37koqDXAh8+c9XslQ8+VwgRim X-Google-Smtp-Source: AGHT+IFlNZ+Pnk/5HEv8hLBXJZCarOoeX2e+OSyXH3FHOejUIkfQpiGle2xFl3NBXrVu4eo/JiCHDsG3VnWw X-Received: by 2002:a05:6602:489b:b0:864:a2e4:5fff with SMTP id ca18e2360f4ac-86a24bdaaa7mr2635536039f.4.1747825033936; Wed, 21 May 2025 03:57:13 -0700 (PDT) Received: from postal.iol.unh.edu (postal.iol.unh.edu. [2606:4100:3880:1234::84]) by smtp-relay.gmail.com with ESMTPS id 8926c6da1cb9f-4fbcc386b5esm565732173.14.2025.05.21.03.57.13 (version=TLS1_2 cipher=ECDHE-ECDSA-AES128-GCM-SHA256 bits=128/128); Wed, 21 May 2025 03:57:13 -0700 (PDT) X-Relaying-Domain: iol.unh.edu Date: Wed, 21 May 2025 03:57:13 -0700 (PDT) Message-ID: <682db189.050a0220.106e94.ccecSMTPIN_ADDED_MISSING@mx.google.com> Received: from [172.21.0.7] (unknown [172.18.0.240]) by postal.iol.unh.edu (Postfix) with ESMTP id 6C0EC6052471; Wed, 21 May 2025 06:57:13 -0400 (EDT) Subject: |WARNING| pw153548-153549 [PATCH] [v2,2/2] app/testpmd: clear stale From: dpdklab@iol.unh.edu To: Test Report Cc: dpdk-test-reports@iol.unh.edu In-Reply-To: <20250521051154.19595-2-skori@marvell.com> References: <20250521051154.19595-2-skori@marvell.com> Content-Type: text/plain X-BeenThere: test-report@dpdk.org X-Mailman-Version: 2.1.29 Precedence: list List-Id: automatic DPDK test reports List-Unsubscribe: , List-Archive: List-Post: List-Help: List-Subscribe: , Errors-To: test-report-bounces@dpdk.org Test-Label: iol-compile-amd64-testing Test-Status: WARNING http://dpdk.org/patch/153549 _Testing issues_ Submitter: Sunil Kumar Kori Date: Wednesday, May 21 2025 05:11:43 DPDK git baseline: Repo:dpdk Branch: master CommitID:a0dde342cc312fd75b63281f63d757db7482cdab 153548-153549 --> testing issues Upstream job id: Generic-DPDK-Compile-Meson#389909 Test environment and result as below: +-----------------------------------+--------------------+-------------------+-------------------------+----------------------+-------------------+------------------+ | Environment | dpdk_meson_compile | dpdk_msvc_compile | dpdk_llvm_clang_compile | dpdk_mingw64_compile | dpdk_compile_spdk | dpdk_compile_ovs | +===================================+====================+===================+=========================+======================+===================+==================+ | Ubuntu 20.04 | PASS | SKIPPED | SKIPPED | SKIPPED | SKIPPED | SKIPPED | +-----------------------------------+--------------------+-------------------+-------------------------+----------------------+-------------------+------------------+ | FreeBSD 13.5 | PASS | SKIPPED | SKIPPED | SKIPPED | SKIPPED | SKIPPED | +-----------------------------------+--------------------+-------------------+-------------------------+----------------------+-------------------+------------------+ | FreeBSD 14.2 | PASS | SKIPPED | SKIPPED | SKIPPED | SKIPPED | SKIPPED | +-----------------------------------+--------------------+-------------------+-------------------------+----------------------+-------------------+------------------+ | CentOS Stream 9 | PASS | SKIPPED | SKIPPED | SKIPPED | PASS | SKIPPED | +-----------------------------------+--------------------+-------------------+-------------------------+----------------------+-------------------+------------------+ | CentOS Stream 10 | PASS | SKIPPED | SKIPPED | SKIPPED | SKIPPED | SKIPPED | +-----------------------------------+--------------------+-------------------+-------------------------+----------------------+-------------------+------------------+ | Debian 12 | PASS | SKIPPED | SKIPPED | SKIPPED | PASS | SKIPPED | +-----------------------------------+--------------------+-------------------+-------------------------+----------------------+-------------------+------------------+ | Fedora 40 (Clang) | PASS | SKIPPED | SKIPPED | SKIPPED | WARN | SKIPPED | +-----------------------------------+--------------------+-------------------+-------------------------+----------------------+-------------------+------------------+ | Fedora 40 | PASS | SKIPPED | SKIPPED | SKIPPED | PASS | SKIPPED | +-----------------------------------+--------------------+-------------------+-------------------------+----------------------+-------------------+------------------+ | Fedora 41 (Clang) | PASS | SKIPPED | SKIPPED | SKIPPED | WARN | PASS | +-----------------------------------+--------------------+-------------------+-------------------------+----------------------+-------------------+------------------+ | Fedora 41 | PASS | SKIPPED | SKIPPED | SKIPPED | PASS | PASS | +-----------------------------------+--------------------+-------------------+-------------------------+----------------------+-------------------+------------------+ | openSUSE Leap 15 | PASS | SKIPPED | SKIPPED | SKIPPED | SKIPPED | SKIPPED | +-----------------------------------+--------------------+-------------------+-------------------------+----------------------+-------------------+------------------+ | RHEL8 | PASS | SKIPPED | SKIPPED | SKIPPED | SKIPPED | SKIPPED | +-----------------------------------+--------------------+-------------------+-------------------------+----------------------+-------------------+------------------+ | RHEL9 | PASS | SKIPPED | SKIPPED | SKIPPED | SKIPPED | SKIPPED | +-----------------------------------+--------------------+-------------------+-------------------------+----------------------+-------------------+------------------+ | Ubuntu 22.04 | PASS | SKIPPED | SKIPPED | SKIPPED | PASS | SKIPPED | +-----------------------------------+--------------------+-------------------+-------------------------+----------------------+-------------------+------------------+ | Ubuntu 24.04 | PASS | SKIPPED | SKIPPED | SKIPPED | PASS | PASS | +-----------------------------------+--------------------+-------------------+-------------------------+----------------------+-------------------+------------------+ | Alpine | PASS | SKIPPED | SKIPPED | SKIPPED | SKIPPED | SKIPPED | +-----------------------------------+--------------------+-------------------+-------------------------+----------------------+-------------------+------------------+ | Ubuntu 24.04 32 Bit Cross Compile | PASS | SKIPPED | SKIPPED | SKIPPED | SKIPPED | SKIPPED | +-----------------------------------+--------------------+-------------------+-------------------------+----------------------+-------------------+------------------+ | Windows Server 2022 | SKIPPED | PASS | PASS | PASS | SKIPPED | SKIPPED | +-----------------------------------+--------------------+-------------------+-------------------------+----------------------+-------------------+------------------+ ==== 20 line log output for Fedora 41 (Clang) (dpdk_compile_spdk): ==== --- Failed to get log output --- ==== End log output ==== Ubuntu 20.04 Kernel: 4.19.325-0419325-generic Compiler: gcc (Ubuntu 9.4.0-1ubuntu1~20.04.2) 9.4.0 FreeBSD 13.5 Kernel: 13.5-RELEASE Compiler: clang 19.1.7 FreeBSD 14.2 Kernel: 14.2-RELEASE Compiler: clang 18.1.6 CentOS Stream 9 Kernel: Depends on container host Compiler: gcc 11.5.0 20240719 (Red Hat 11.5.0-2) CentOS Stream 10 Kernel: Depends on container host Compiler: gcc 14.2.1 20241104 (Red Hat 14.2.1-6) Debian 12 Kernel: Depends on container host Compiler: gcc (Debian 12.2.0-14) 12.2.0 Fedora 40 (Clang) Kernel: Depends on container host Compiler: clang 18.1.8 (Fedora 18.1.8-1.fc40) Fedora 40 Kernel: Depends on container host Compiler: gcc 14.2.1 20240912 (Red Hat 14.2.1-3) Fedora 41 (Clang) Kernel: Depends on container host Compiler: clang 19.1.5 (Fedora 19.1.5-1.fc41) Fedora 41 Kernel: Depends on container host Compiler: gcc 14.2.1 20240912 (Red Hat 14.2.1-3) openSUSE Leap 15 Kernel: Depends on container host Compiler: gcc (SUSE Linux) 7.5.0 RHEL8 Kernel: Depends on container host Compiler: gcc 8.5.0 20210514 (Red Hat 8.5.0-22) RHEL9 Kernel: Depends on container host Compiler: gcc 11.5.0 20240719 (Red Hat 11.5.0-2) Ubuntu 22.04 Kernel: Depends on container host Compiler: gcc (Ubuntu 11.4.0-1ubuntu1~22.04) 11.4.0 Ubuntu 24.04 Kernel: Depends on container host Compiler: gcc (Ubuntu 13.3.0-6ubuntu2~24.04) 13.3.0 Alpine Kernel: Depends on container host Compiler: gcc (Alpine 14.2.0) 14.2.0 Ubuntu 24.04 32 Bit Cross Compile Kernel: Depends on container host Compiler: gcc (Ubuntu 13.3.0-6ubuntu2~24.04) 13.3.0 Windows Server 2022 Kernel: 10.0.20348.2031 Compiler: clang 15.0.7, gcc 14.1.0 (MinGW), and MSVC VS 19.39.33521 To view detailed results, visit: https://lab.dpdk.org/results/dashboard/patchsets/33217/ UNH-IOL DPDK Community Lab To manage your email subscriptions, visit: https://lab.dpdk.org/results/dashboard/preferences/subscriptions/