From mboxrd@z Thu Jan 1 00:00:00 1970 Return-Path: Received: from mails.dpdk.org (mails.dpdk.org [217.70.189.124]) by inbox.dpdk.org (Postfix) with ESMTP id 459C1467AB for ; Wed, 21 May 2025 13:12:46 +0200 (CEST) Received: from mails.dpdk.org (localhost [127.0.0.1]) by mails.dpdk.org (Postfix) with ESMTP id 229FA427A5; Wed, 21 May 2025 13:12:46 +0200 (CEST) Received: from mail-pg1-f225.google.com (mail-pg1-f225.google.com [209.85.215.225]) by mails.dpdk.org (Postfix) with ESMTP id DFD2E427A4 for ; Wed, 21 May 2025 13:12:44 +0200 (CEST) Received: by mail-pg1-f225.google.com with SMTP id 41be03b00d2f7-b26f67f10ddso3723311a12.3 for ; Wed, 21 May 2025 04:12:44 -0700 (PDT) DKIM-Signature: v=1; a=rsa-sha256; c=relaxed/relaxed; d=iol.unh.edu; s=unh-iol; t=1747825964; x=1748430764; darn=dpdk.org; h=cc:to:from:subject:message-id:date:from:to:cc:subject:date :message-id:reply-to; bh=ByN91LeiSa1u06sLr/B3jwP5ABZjcAC5CVH4PWm15I4=; b=VNMr11MnYBNnByQyX5+fbosover5PyndeIgq79/WNhjN9P3oW5sxHm9QDYGoZ3rFXH 0fudzp81jYekFy7d8wMxXcKgYyMl44yYidRbastCMhX8+lY7m7hXOP+tDXIshHYZR4J5 qN5zfaxR1Br82yO9MKLahbir7yG86rtMf7B2U= X-Google-DKIM-Signature: v=1; a=rsa-sha256; c=relaxed/relaxed; d=1e100.net; s=20230601; t=1747825964; x=1748430764; h=cc:to:from:subject:message-id:date:x-gm-message-state:from:to:cc :subject:date:message-id:reply-to; bh=ByN91LeiSa1u06sLr/B3jwP5ABZjcAC5CVH4PWm15I4=; b=EzloIWi5C5C0HzHZBhIVIvB3bvWIelTXtkE26r142H+flxJJRVRNJkNPQERy4IpInc cUX0F3IKn1AEx+VPPUILwILqYjea6VyF0w/5yZZ7QTW8sGq2lrgHnpmkiOmw9j0U1q10 uOgZWoJ6tSj280ZPeBmMgKEIDwNmuTQanZtWmQYeHk3ycG3xmnL4ezm3TyOEj9viPBkk n+HDs9RRAPPRhW6UD6LkbpsYVxMXPjB2z+kebZRw0qQ0WQeeownmD8lh2ssB05vqyXI6 SQPQd4qhvwgASv8iBkq0xHdug1RxiuusNzIOELgp675ptXlgUgsRqXJKgG+HAEUCehzx QIXw== X-Gm-Message-State: AOJu0YwfBSck9+HxjgIvhRJ3WLna11w+mX0jtfVOT3Zxot/93SRsVjkl iBCfe++LpVJy9UI14C+4Fst+crsZuZl0p+gW3JOI5kyBoiMYE/f5jDCxLd6jsSCHP2MmWBlApE/ 0/2CSIjjzMcMHcRMOqfOFW03EijKzEljfVRV7rguyq8AZzL9fYOZqbAvOEGA0 X-Gm-Gg: ASbGncuwDccUqqa5Vow76SVNcQgaBrhWpqqv9s4Bt+r022fqJ3pq5tsi9NxAjCrnmT1 w6A9j0DZCIcq/IbsJdpCw7b85xqbdOsI5WSzjqFMZS1glzbnQckARWhcsJwhHK5VOdFe+6IqsOZ D/lX6f5bSWSWGYBvJZ23jn983uclc2s8LKKfyTA9XMP11ob5Ht656XTQEkbVLsZz1mOt8Yyct7U 8GBM3Uv2F70qoILa9deaeEBelAo6BEXWfTPWSdvAaXUJRTq34BUM3JbnJQ9bpRYwzA1ts62L6bO bGMujIf7RshfsYttVSM75EHTw6KMM7NVETPP X-Google-Smtp-Source: AGHT+IG6ecN58TN+NOdJDrOGWrcOvxQLdK2O2TJa8RW75wQVmLewQVYJ1mKQ4lGt7MCachnRgfX2o8nykJHN X-Received: by 2002:a17:903:2284:b0:22f:b25b:8e93 with SMTP id d9443c01a7336-231de3b9f2cmr303318315ad.48.1747825963591; Wed, 21 May 2025 04:12:43 -0700 (PDT) Received: from postal.iol.unh.edu (postal.iol.unh.edu. [2606:4100:3880:1234::84]) by smtp-relay.gmail.com with ESMTPS id d9443c01a7336-231d4b0215esm6243225ad.69.2025.05.21.04.12.43 (version=TLS1_2 cipher=ECDHE-ECDSA-AES128-GCM-SHA256 bits=128/128); Wed, 21 May 2025 04:12:43 -0700 (PDT) X-Relaying-Domain: iol.unh.edu Date: Wed, 21 May 2025 04:12:43 -0700 (PDT) Message-ID: <682db52b.170a0220.231756.0a3eSMTPIN_ADDED_MISSING@mx.google.com> Received: from [172.21.0.7] (unknown [172.18.0.240]) by postal.iol.unh.edu (Postfix) with ESMTP id 981386052471; Wed, 21 May 2025 07:12:42 -0400 (EDT) Subject: |SUCCESS| [GIT MASTER] a0dde342cc312fd75b63281f63d757db7482cdab From: dpdklab@iol.unh.edu To: Test Report Cc: dpdk-test-reports@iol.unh.edu, Stephen Hemminger Content-Type: text/plain X-BeenThere: test-report@dpdk.org X-Mailman-Version: 2.1.29 Precedence: list List-Id: automatic DPDK test reports List-Unsubscribe: , List-Archive: List-Post: List-Help: List-Subscribe: , Errors-To: test-report-bounces@dpdk.org _Testing PASS_ Branch: dpdk-next-net a0dde342cc312fd75b63281f63d757db7482cdab --> testing pass Upstream job id: Generic-Unit-Test-DPDK#339506 Test environment and result as below: +---------------------+----------------+ | Environment | dpdk_unit_test | +=====================+================+ | Fedora 40 | PASS | +---------------------+----------------+ | Fedora 41 | PASS | +---------------------+----------------+ | RHEL8 | PASS | +---------------------+----------------+ | Fedora 41 (Clang) | PASS | +---------------------+----------------+ | Debian 12 | PASS | +---------------------+----------------+ | CentOS Stream 9 | PASS | +---------------------+----------------+ | CentOS Stream 10 | PASS | +---------------------+----------------+ | Fedora 40 (Clang) | PASS | +---------------------+----------------+ | Ubuntu 22.04 | PASS | +---------------------+----------------+ | Ubuntu 24.04 | PASS | +---------------------+----------------+ | RHEL9 | PASS | +---------------------+----------------+ | Ubuntu 20.04 | PASS | +---------------------+----------------+ | Windows Server 2022 | PASS | +---------------------+----------------+ Fedora 40 Kernel: Depends on container host Compiler: gcc 14.2.1 20240912 (Red Hat 14.2.1-3) Fedora 41 Kernel: Depends on container host Compiler: gcc 14.2.1 20240912 (Red Hat 14.2.1-3) RHEL8 Kernel: Depends on container host Compiler: gcc 8.5.0 20210514 (Red Hat 8.5.0-22) Fedora 41 (Clang) Kernel: Depends on container host Compiler: clang 19.1.5 (Fedora 19.1.5-1.fc41) Debian 12 Kernel: Depends on container host Compiler: gcc (Debian 12.2.0-14) 12.2.0 CentOS Stream 9 Kernel: Depends on container host Compiler: gcc 11.5.0 20240719 (Red Hat 11.5.0-2) CentOS Stream 10 Kernel: Depends on container host Compiler: gcc 14.2.1 20241104 (Red Hat 14.2.1-6) Fedora 40 (Clang) Kernel: Depends on container host Compiler: clang 18.1.8 (Fedora 18.1.8-1.fc40) Ubuntu 22.04 Kernel: Depends on container host Compiler: gcc (Ubuntu 11.4.0-1ubuntu1~22.04) 11.4.0 Ubuntu 24.04 Kernel: Depends on container host Compiler: gcc (Ubuntu 13.3.0-6ubuntu2~24.04) 13.3.0 RHEL9 Kernel: Depends on container host Compiler: gcc 11.5.0 20240719 (Red Hat 11.5.0-2) Ubuntu 20.04 Kernel: Depends on container host Compiler: gcc (Ubuntu 9.4.0-1ubuntu1~20.04.2) 9.4.0 Windows Server 2022 Kernel: 10.0.20348.2031 Compiler: clang 15.0.7, gcc 14.1.0 (MinGW), and MSVC VS 19.39.33521 To view detailed results, visit: https://lab.dpdk.org/results/dashboard/tarballs/33598/ UNH-IOL DPDK Community Lab To manage your email subscriptions, visit: https://lab.dpdk.org/results/dashboard/preferences/subscriptions/