From mboxrd@z Thu Jan 1 00:00:00 1970 Return-Path: Received: from mails.dpdk.org (mails.dpdk.org [217.70.189.124]) by inbox.dpdk.org (Postfix) with ESMTP id 5FCC8467AB for ; Wed, 21 May 2025 13:18:16 +0200 (CEST) Received: from mails.dpdk.org (localhost [127.0.0.1]) by mails.dpdk.org (Postfix) with ESMTP id 59899427BC; Wed, 21 May 2025 13:18:16 +0200 (CEST) Received: from mail-io1-f99.google.com (mail-io1-f99.google.com [209.85.166.99]) by mails.dpdk.org (Postfix) with ESMTP id 003F140041 for ; Wed, 21 May 2025 13:18:14 +0200 (CEST) Received: by mail-io1-f99.google.com with SMTP id ca18e2360f4ac-85de3e8d0adso150435939f.1 for ; Wed, 21 May 2025 04:18:14 -0700 (PDT) DKIM-Signature: v=1; a=rsa-sha256; c=relaxed/relaxed; d=iol.unh.edu; s=unh-iol; t=1747826294; x=1748431094; darn=dpdk.org; h=references:in-reply-to:cc:to:from:subject:message-id:date:from:to :cc:subject:date:message-id:reply-to; bh=/ImoKu0XLii80pLaAYhYu9jk5gcvAjFCRl+x5VWR2lI=; b=g/XrLbW/O9tEzMi+C72F2KXz7nV1v6+WBCkrTDwyqQyvrTHg4QVNCWXCkVW5xNbuqH 4hT+Qeg4I+lJRwU59Wu5j0so61pjFgDoXnKYmsBh7rguf9f/qbLgBNXcKh7Pb0WA3Oz9 sI7GFgHirDdZgCOaGwoT6TOtx3ymBKwk4GvjU= X-Google-DKIM-Signature: v=1; a=rsa-sha256; c=relaxed/relaxed; d=1e100.net; s=20230601; t=1747826294; x=1748431094; h=references:in-reply-to:cc:to:from:subject:message-id:date :x-gm-message-state:from:to:cc:subject:date:message-id:reply-to; bh=/ImoKu0XLii80pLaAYhYu9jk5gcvAjFCRl+x5VWR2lI=; b=mFAbs3hFREX1m/OK+EV07bbJcof2zUrZP5l5TVRX9e+ZtA+jFPSQzBRkmSCFdmJETu TTPG2ytJN1v+y5xUU+jUUqa8C/rr3Z1jsW3unIoR6d4OKABeD+9hdUYyTmkAwjbZ7IVD MoQTBaA+mx7eY/Xt84zFDqKPnnFh5kaH+WIoIuQPWs3ezMaZkQd1DS2NkcCkBQTncvFK /I9uC483Hlnil7tf9/SUW6t+76H6MBdjJ/xw59MZNlYMIWthHB6N0Oy24lW8OC3QmhSS 7TdMRmpCOedxWpKhaUm7WYka3do+EE+JLEth2lns/iLQl9LKDVo1r0zj2IJSmf61zp80 dMJQ== X-Gm-Message-State: AOJu0Yw4LGvowhnbieGdandVHLSN9rnfAh3R3MKJ6F4ECBTIrZ8AJgzL ZyhBpyCmSKlwix9r4KlAVYZw9TwFUsge3eBFWt/WR1Cv2dkTgIPSyi29gVvKKNVBNP+GiDB62Oz eGSeuqYgXQc5YtXDhTfllNxGrA7avfiXR9XIcfFomh0V/ X-Gm-Gg: ASbGncuUNo5O5xfgsqfhoiD6X+Fmzok71Sr6RAJ2mUoUEulVOxhLormW0uV5vHXYs5J EkzxAkKNs+mgSTlfLs3cUiPV9qOn21IKwPudiPNizIDU426BUVgmNWVBQLGL3ihNF8iAFfs4RQE mNG+alGEgcElGe/hF7BdJ7tx/R4n+zFIrui0Du4AwCldiTwit9x3NGiW1xV5T+ojOItmRYGI5zs cJCeITNjiv/01oCR0f1hkV61I9uAC0YLSBYIY/tiLrWABKJXsEpgJvYT97fDxucljxlycEAcIEL kkAgj91xNgEHavvZdREmqZtz8seAG/Tih2FCw5wNqjOt5rtJCOGmgis0QAQ= X-Google-Smtp-Source: AGHT+IEkRdWXzKA3QmODiFlHABI6tKjxMtEqbQ33tpf43bWUCYuFovnRpmbbAdh9XUcNaMTU/tjqa07m56cy X-Received: by 2002:a05:6602:489b:b0:864:a2e4:5fff with SMTP id ca18e2360f4ac-86a24bdaaa7mr2647120539f.4.1747826294292; Wed, 21 May 2025 04:18:14 -0700 (PDT) Received: from postal.iol.unh.edu (postal.iol.unh.edu. [132.177.123.84]) by smtp-relay.gmail.com with ESMTPS id ca18e2360f4ac-86a3fd07817sm31862939f.27.2025.05.21.04.18.14 (version=TLS1_2 cipher=ECDHE-ECDSA-AES128-GCM-SHA256 bits=128/128); Wed, 21 May 2025 04:18:14 -0700 (PDT) X-Relaying-Domain: iol.unh.edu Date: Wed, 21 May 2025 04:18:14 -0700 (PDT) Message-ID: <682db676.050a0220.32b7c4.0a91SMTPIN_ADDED_MISSING@mx.google.com> Received: from [172.21.0.6] (unknown [172.18.0.240]) by postal.iol.unh.edu (Postfix) with ESMTP id 9EF6B6052471; Wed, 21 May 2025 07:18:13 -0400 (EDT) Subject: |SUCCESS| pw153559 [PATCH] examples/flow_filtering: add re-route to From: dpdklab@iol.unh.edu To: Test Report Cc: dpdk-test-reports@iol.unh.edu In-Reply-To: <20250521072736.141817-1-shperetz@nvidia.com> References: <20250521072736.141817-1-shperetz@nvidia.com> Content-Type: text/plain X-BeenThere: test-report@dpdk.org X-Mailman-Version: 2.1.29 Precedence: list List-Id: automatic DPDK test reports List-Unsubscribe: , List-Archive: List-Post: List-Help: List-Subscribe: , Errors-To: test-report-bounces@dpdk.org Test-Label: iol-unit-arm64-testing Test-Status: SUCCESS http://dpdk.org/patch/153559 _Testing PASS_ Submitter: Shani Peretz Date: Wednesday, May 21 2025 07:27:36 DPDK git baseline: Repo:dpdk Branch: master CommitID:117e86c4b96ed761e9a7ab766261208fe81bf5ca 153559 --> testing pass Upstream job id: Generic-Unit-Test-DPDK#339509 Test environment and result as below: +-----------------------------+--------------+---------------------------+------------------------------+----------------+ | Environment | lpm_autotest | cryptodev_sw_zuc_autotest | cryptodev_sw_snow3g_autotest | dpdk_unit_test | +=============================+==============+===========================+==============================+================+ | Ubuntu 20.04 ARM SVE | PASS | SKIPPED | SKIPPED | SKIPPED | +-----------------------------+--------------+---------------------------+------------------------------+----------------+ | Debian 12 (arm) | SKIPPED | PASS | PASS | PASS | +-----------------------------+--------------+---------------------------+------------------------------+----------------+ | Fedora 41 (ARM) | SKIPPED | SKIPPED | SKIPPED | PASS | +-----------------------------+--------------+---------------------------+------------------------------+----------------+ | Fedora 40 (ARM Clang) | SKIPPED | SKIPPED | SKIPPED | PASS | +-----------------------------+--------------+---------------------------+------------------------------+----------------+ | CentOS Stream 10 (ARM) | SKIPPED | SKIPPED | SKIPPED | PASS | +-----------------------------+--------------+---------------------------+------------------------------+----------------+ | CentOS Stream 9 (ARM) | SKIPPED | SKIPPED | SKIPPED | PASS | +-----------------------------+--------------+---------------------------+------------------------------+----------------+ | Fedora 40 (ARM) | SKIPPED | SKIPPED | SKIPPED | PASS | +-----------------------------+--------------+---------------------------+------------------------------+----------------+ | Ubuntu 20.04 (ARM) | SKIPPED | SKIPPED | SKIPPED | PASS | +-----------------------------+--------------+---------------------------+------------------------------+----------------+ | Fedora 41 (ARM Clang) | SKIPPED | SKIPPED | SKIPPED | PASS | +-----------------------------+--------------+---------------------------+------------------------------+----------------+ | RHEL9 (ARM) | SKIPPED | SKIPPED | SKIPPED | PASS | +-----------------------------+--------------+---------------------------+------------------------------+----------------+ | Ubuntu 22.04 (ARM) | SKIPPED | SKIPPED | SKIPPED | PASS | +-----------------------------+--------------+---------------------------+------------------------------+----------------+ | Ubuntu 24.04 (ARM) | SKIPPED | SKIPPED | SKIPPED | PASS | +-----------------------------+--------------+---------------------------+------------------------------+----------------+ | 32-bit Ubuntu 22.04.4 (ARM) | SKIPPED | SKIPPED | SKIPPED | PASS | +-----------------------------+--------------+---------------------------+------------------------------+----------------+ Ubuntu 20.04 ARM SVE Kernel: Depends on container host Compiler: gcc (Ubuntu 10.5.0-1ubuntu1~20.04) 10.5.0 Debian 12 (arm) Kernel: Depends on container host Compiler: gcc (Debian 12.2.0-14) 12.2.0 Fedora 41 (ARM) Kernel: Depends on container host Compiler: gcc 14.2.1 20240912 (Red Hat 14.2.1-3) Fedora 40 (ARM Clang) Kernel: Depends on container host Compiler: clang 18.1.8 (Fedora 18.1.8-1.fc40) CentOS Stream 10 (ARM) Kernel: Depends on container host Compiler: gcc 14.2.1 20241104 (Red Hat 14.2.1-6) CentOS Stream 9 (ARM) Kernel: Depends on container host Compiler: gcc 11.5.0 20240719 (Red Hat 11.5.0-2) Fedora 40 (ARM) Kernel: Depends on container host Compiler: gcc 14.2.1 20240912 (Red Hat 14.2.1-3) Ubuntu 20.04 (ARM) Kernel: Depends on container host Compiler: gcc (Ubuntu 9.4.0-1ubuntu1~20.04.2) 9.4.0 Fedora 41 (ARM Clang) Kernel: Depends on container host Compiler: clang 19.1.5 (Fedora 19.1.5-1.fc41) RHEL9 (ARM) Kernel: Depends on container host Compiler: gcc 11.5.0 20240719 (Red Hat 11.5.0-2) Ubuntu 22.04 (ARM) Kernel: Depends on container host Compiler: gcc (Ubuntu 11.4.0-1ubuntu1~22.04) 11.4.0 Ubuntu 24.04 (ARM) Kernel: Depends on container host Compiler: gcc (Ubuntu 13.3.0-6ubuntu2~24.04) 13.3.0 32-bit Ubuntu 22.04.4 (ARM) Kernel: 5.15.83+ aarch64 Compiler: gcc (Ubuntu 11.4.0-1ubuntu1~22.04) 11.4.0 To view detailed results, visit: https://lab.dpdk.org/results/dashboard/patchsets/33219/ UNH-IOL DPDK Community Lab To manage your email subscriptions, visit: https://lab.dpdk.org/results/dashboard/preferences/subscriptions/