From mboxrd@z Thu Jan 1 00:00:00 1970 Return-Path: Received: from mails.dpdk.org (mails.dpdk.org [217.70.189.124]) by inbox.dpdk.org (Postfix) with ESMTP id 1C0DD467AE for ; Wed, 21 May 2025 14:06:59 +0200 (CEST) Received: from mails.dpdk.org (localhost [127.0.0.1]) by mails.dpdk.org (Postfix) with ESMTP id ECA73427C7; Wed, 21 May 2025 14:06:58 +0200 (CEST) Received: from mail-pf1-f225.google.com (mail-pf1-f225.google.com [209.85.210.225]) by mails.dpdk.org (Postfix) with ESMTP id 2762D427BC for ; Wed, 21 May 2025 14:06:58 +0200 (CEST) Received: by mail-pf1-f225.google.com with SMTP id d2e1a72fcca58-742c73f82dfso3127672b3a.2 for ; Wed, 21 May 2025 05:06:58 -0700 (PDT) DKIM-Signature: v=1; a=rsa-sha256; c=relaxed/relaxed; d=iol.unh.edu; s=unh-iol; t=1747829217; x=1748434017; darn=dpdk.org; h=references:in-reply-to:cc:to:from:subject:message-id:date:from:to :cc:subject:date:message-id:reply-to; bh=+O6TdSQhk6031cG8S23Xg7KmmtHoZLpvbHteD3JGQVw=; b=XnadaRE89qQ6pKhfWKcy80rLN0qEmugniz5C2II11NGXtXH4iEd8DtUR33lOzi81XZ I00wfH30Q6U4IX5Ukpf4V9mzNDiL9qnd3UTC4trMS7XvDQh04IBXpU2Om96OJf8gbFGY uG/bz1U2jjGHsr1DR4ZRZ52U5Uydemv+YHu+U= X-Google-DKIM-Signature: v=1; a=rsa-sha256; c=relaxed/relaxed; d=1e100.net; s=20230601; t=1747829217; x=1748434017; h=references:in-reply-to:cc:to:from:subject:message-id:date :x-gm-message-state:from:to:cc:subject:date:message-id:reply-to; bh=+O6TdSQhk6031cG8S23Xg7KmmtHoZLpvbHteD3JGQVw=; b=ZCqZ6orjAErrMWA77e/XouOne1pHwVYeaxZGIfT3hSlI6o7Kg462XLsp4R15dj/+TQ twiakZpSl2TF4dp+bJYZA/PstrpY11tgolkR6nOZE7UAu5466o1KOSo1Xff4UYkX8v32 oHEm4yqK8VO+7HbyQcj9xRN2593dKwpKb4G0C06iUsrjUz7314uPIrzr/ia5IdjpU8Xo Vk1KwGEef+cbpnv3YdxKToeokB+QWtPsxGQzEIdZVLqJzJkGBijcaKBegOaB4edaSz8y h9PKbEXHsi0Be87KR0isbmecPeNQ50jVfv2oi4fsoJL2wGniq1R4iJgtNbzDCDbEU7hi 59FA== X-Gm-Message-State: AOJu0YwiTJqgVZvT7fnv9TSOSBZAiwbMAP8FgOJu3ZRcEZOMo3hv5ZxU zlBERM61JxTMzVIMuIzQmCphmGXm29Khvbu393jb0rpW1dRANjwvOjsWVbhwL96dfSDvXMCFW/S S1g+FfzBkdzONf6Fp+iE+4wiAO/YY38jRQYrHBMLNTLDp X-Gm-Gg: ASbGncvTwI43m+H+mMj+VRPZmIK5i1iVo0PFhRi5MZHdCnc3rBKeNbSfo45ZoJ1NucJ LlXFy/l3t2qOJu6R4kp5N3SeZbN2ex+y6vT1EIG31243LQafOYkfCuvtn0i3IGqd8S2Zt/yJocw 5SXqOAfgTheh/BxYqQcVr6y/zi00M1eqOFLQpO6o94WbxSLrBYie/Kym5DYrSw3owJexWqS0IOE 6b7Xdc/umV3Er8701cMc6sQXnYKuB1v01zsol/GvS7RxLkY+2Ckx0kstYP9MDAOdOxaO9f44ltc 4nGX/IpVOzupKiq5TCBtYq1Pvp1ToejCFGqOYvAfGH4cSGbbNYUKKlbUBrI= X-Google-Smtp-Source: AGHT+IG/4+utBLn1WLrSfmSDil/3917wKK0YaFh57NqGixcoDp+Oqz8ROr2f+mt0FyAsbK9r/iui67ovMhRh X-Received: by 2002:a17:90a:c88e:b0:2fe:b937:2a51 with SMTP id 98e67ed59e1d1-30e7d5d91f8mr36323170a91.33.1747829217088; Wed, 21 May 2025 05:06:57 -0700 (PDT) Received: from postal.iol.unh.edu (postal.iol.unh.edu. [132.177.123.84]) by smtp-relay.gmail.com with ESMTPS id 98e67ed59e1d1-3108d71540fsm105919a91.11.2025.05.21.05.06.56 (version=TLS1_2 cipher=ECDHE-ECDSA-AES128-GCM-SHA256 bits=128/128); Wed, 21 May 2025 05:06:57 -0700 (PDT) X-Relaying-Domain: iol.unh.edu Date: Wed, 21 May 2025 05:06:57 -0700 (PDT) Message-ID: <682dc1e1.170a0220.2ed772.5a39SMTPIN_ADDED_MISSING@mx.google.com> Received: from [172.21.0.5] (unknown [172.18.0.240]) by postal.iol.unh.edu (Postfix) with ESMTP id 2F9776052471; Wed, 21 May 2025 08:06:56 -0400 (EDT) Subject: |SUCCESS| pw153559 [PATCH] examples/flow_filtering: add re-route to From: dpdklab@iol.unh.edu To: Test Report Cc: dpdk-test-reports@iol.unh.edu In-Reply-To: <20250521072736.141817-1-shperetz@nvidia.com> References: <20250521072736.141817-1-shperetz@nvidia.com> Content-Type: text/plain X-BeenThere: test-report@dpdk.org X-Mailman-Version: 2.1.29 Precedence: list List-Id: automatic DPDK test reports List-Unsubscribe: , List-Archive: List-Post: List-Help: List-Subscribe: , Errors-To: test-report-bounces@dpdk.org Test-Label: iol-unit-amd64-testing Test-Status: SUCCESS http://dpdk.org/patch/153559 _Testing PASS_ Submitter: Shani Peretz Date: Wednesday, May 21 2025 07:27:36 DPDK git baseline: Repo:dpdk Branch: master CommitID:117e86c4b96ed761e9a7ab766261208fe81bf5ca 153559 --> testing pass Upstream job id: Generic-Unit-Test-DPDK#339529 Test environment and result as below: +---------------------+----------------+ | Environment | dpdk_unit_test | +=====================+================+ | CentOS Stream 9 | PASS | +---------------------+----------------+ | CentOS Stream 10 | PASS | +---------------------+----------------+ | Fedora 41 | PASS | +---------------------+----------------+ | Fedora 40 (Clang) | PASS | +---------------------+----------------+ | Debian 12 | PASS | +---------------------+----------------+ | Fedora 41 (Clang) | PASS | +---------------------+----------------+ | Fedora 40 | PASS | +---------------------+----------------+ | RHEL8 | PASS | +---------------------+----------------+ | RHEL9 | PASS | +---------------------+----------------+ | Ubuntu 24.04 | PASS | +---------------------+----------------+ | Ubuntu 20.04 | PASS | +---------------------+----------------+ | Ubuntu 22.04 | PASS | +---------------------+----------------+ | Windows Server 2022 | PASS | +---------------------+----------------+ CentOS Stream 9 Kernel: Depends on container host Compiler: gcc 11.5.0 20240719 (Red Hat 11.5.0-2) CentOS Stream 10 Kernel: Depends on container host Compiler: gcc 14.2.1 20241104 (Red Hat 14.2.1-6) Fedora 41 Kernel: Depends on container host Compiler: gcc 14.2.1 20240912 (Red Hat 14.2.1-3) Fedora 40 (Clang) Kernel: Depends on container host Compiler: clang 18.1.8 (Fedora 18.1.8-1.fc40) Debian 12 Kernel: Depends on container host Compiler: gcc (Debian 12.2.0-14) 12.2.0 Fedora 41 (Clang) Kernel: Depends on container host Compiler: clang 19.1.5 (Fedora 19.1.5-1.fc41) Fedora 40 Kernel: Depends on container host Compiler: gcc 14.2.1 20240912 (Red Hat 14.2.1-3) RHEL8 Kernel: Depends on container host Compiler: gcc 8.5.0 20210514 (Red Hat 8.5.0-22) RHEL9 Kernel: Depends on container host Compiler: gcc 11.5.0 20240719 (Red Hat 11.5.0-2) Ubuntu 24.04 Kernel: Depends on container host Compiler: gcc (Ubuntu 13.3.0-6ubuntu2~24.04) 13.3.0 Ubuntu 20.04 Kernel: Depends on container host Compiler: gcc (Ubuntu 9.4.0-1ubuntu1~20.04.2) 9.4.0 Ubuntu 22.04 Kernel: Depends on container host Compiler: gcc (Ubuntu 11.4.0-1ubuntu1~22.04) 11.4.0 Windows Server 2022 Kernel: 10.0.20348.2031 Compiler: clang 15.0.7, gcc 14.1.0 (MinGW), and MSVC VS 19.39.33521 To view detailed results, visit: https://lab.dpdk.org/results/dashboard/patchsets/33219/ UNH-IOL DPDK Community Lab To manage your email subscriptions, visit: https://lab.dpdk.org/results/dashboard/preferences/subscriptions/