From mboxrd@z Thu Jan 1 00:00:00 1970 Return-Path: Received: from mails.dpdk.org (mails.dpdk.org [217.70.189.124]) by inbox.dpdk.org (Postfix) with ESMTP id C2C7E467AE for ; Wed, 21 May 2025 14:20:36 +0200 (CEST) Received: from mails.dpdk.org (localhost [127.0.0.1]) by mails.dpdk.org (Postfix) with ESMTP id A94C9427CF; Wed, 21 May 2025 14:20:36 +0200 (CEST) Received: from mail-yw1-f225.google.com (mail-yw1-f225.google.com [209.85.128.225]) by mails.dpdk.org (Postfix) with ESMTP id 4A27A427BC for ; Wed, 21 May 2025 14:20:35 +0200 (CEST) Received: by mail-yw1-f225.google.com with SMTP id 00721157ae682-70dec158cbcso14170117b3.2 for ; Wed, 21 May 2025 05:20:35 -0700 (PDT) DKIM-Signature: v=1; a=rsa-sha256; c=relaxed/relaxed; d=iol.unh.edu; s=unh-iol; t=1747830034; x=1748434834; darn=dpdk.org; h=references:in-reply-to:cc:to:from:subject:message-id:date:from:to :cc:subject:date:message-id:reply-to; bh=IsWVwAnLw0tnZ4tDF9QiaRQGulmm1q4VfAMhdCq+47c=; b=R56WuhZL7DzydQW0A25nngGQHkUNpJR+2PHwZwjAXyW7cWhBkruO3H3PBB0B6ZAT0G hV9eZKxJx40Z3QhVG14AyPai2aTY6a67nSRaFCWoPzxMKxzboMre+j3+GJ4ajcy8kBX7 0P0IdYgfBILZ5pAaGOOCb4gqwcI/yhZYL4lbc= X-Google-DKIM-Signature: v=1; a=rsa-sha256; c=relaxed/relaxed; d=1e100.net; s=20230601; t=1747830034; x=1748434834; h=references:in-reply-to:cc:to:from:subject:message-id:date :x-gm-message-state:from:to:cc:subject:date:message-id:reply-to; bh=IsWVwAnLw0tnZ4tDF9QiaRQGulmm1q4VfAMhdCq+47c=; b=TCUTc03goqVcyyF65XFKjHHMN2/nezJr8z+OVk0KNvrpc7Xu44Oaxe3EX5Ni+TYxqU E7dHxyy9UYB/6a9GB5FRVzyDUf9LnppMXD3OEsV/LinZivnFi6lGFW+TaasUeYydDcty nCtjybJUfEATtQ2XO0Y9ouEumj/9VaufzhcQ1KkSnjM/svZGNvIWjhi3Bt69Gj6Tfz0p NbyhG7N9hQX3yqUspA7Otyip0r/hKWwYMj/oLS6/zEeYFO9G1rcrDJpg3TWNOuoosUmv sqMj6E+I78Oki71DglCt4yqXQrkYMzxI84FG8s4jji2mTa1R9tnMwTL2i4ctPD/+w1X9 pbtA== X-Gm-Message-State: AOJu0YzGDjE7JB8t3vhLLf5b/gNf8vETIJ82B2ZUVhXEiJ0+RPU2ZM3h +WzSw3jcvocx6zTemp2E+mmHgv8v017E6dyeaFJVgqjFG8P1m97SlUwzDS8iX4KNiU9TA9gJHeE wVbwY2RDtla7slamRS0UXAzseOf1Go+/lVePx7wmbghfY X-Gm-Gg: ASbGncs5/utMPmXE774W4T07JCHCJt+WH9XxRNU/MSFNbnInv1dX+y1WjJhkjs53npU x+ST9sdiapZn1mcfBIiXNN4xgqfBEa3kvKR0cVxA0amI57F8JpEGjrycSw6DV8eYu+Wvo8zEcpa WAZS5or62wJRlw/fzzvKd4xcYbcHZbqJSAqxc0sMlCRY/w4iiWVsYV29eL4C7oPjvfWmJEsdS5X I8IomulRLjM+Comgl7FQbreDat1OU2ATe/HPPg3R8gcIv9YOwMs+1L+EgCvg32IeDt2sahBnFPX RnBndCGdhSbHO/v4ldj0mfqLByCVOq0dHmhHZhnLkNmVgYz+oJiyA9LEdxs= X-Google-Smtp-Source: AGHT+IG01RzkPf3Cvx1UjS4Ic4CG/LbJkkJeGbC48OVcu6HWx1dknj+QQy/j3Xh7ft55Jha8PhwecfDk1N5Q X-Received: by 2002:a05:690c:951b:b0:708:35b1:d55b with SMTP id 00721157ae682-70caaf38bc4mr208839727b3.8.1747830034569; Wed, 21 May 2025 05:20:34 -0700 (PDT) Received: from postal.iol.unh.edu (postal.iol.unh.edu. [132.177.123.84]) by smtp-relay.gmail.com with ESMTPS id 00721157ae682-70ca84bf307sm2070607b3.51.2025.05.21.05.20.34 (version=TLS1_2 cipher=ECDHE-ECDSA-AES128-GCM-SHA256 bits=128/128); Wed, 21 May 2025 05:20:34 -0700 (PDT) X-Relaying-Domain: iol.unh.edu Date: Wed, 21 May 2025 05:20:34 -0700 (PDT) Message-ID: <682dc512.050a0220.13e4e3.aa69SMTPIN_ADDED_MISSING@mx.google.com> Received: from [172.21.0.6] (unknown [172.18.0.240]) by postal.iol.unh.edu (Postfix) with ESMTP id 2D5286052471; Wed, 21 May 2025 08:20:34 -0400 (EDT) Subject: |SUCCESS| pw153548-153549 [PATCH] [v2,2/2] app/testpmd: clear stale From: dpdklab@iol.unh.edu To: Test Report Cc: dpdk-test-reports@iol.unh.edu In-Reply-To: <20250521051154.19595-2-skori@marvell.com> References: <20250521051154.19595-2-skori@marvell.com> Content-Type: text/plain X-BeenThere: test-report@dpdk.org X-Mailman-Version: 2.1.29 Precedence: list List-Id: automatic DPDK test reports List-Unsubscribe: , List-Archive: List-Post: List-Help: List-Subscribe: , Errors-To: test-report-bounces@dpdk.org Test-Label: iol-compile-arm64-testing Test-Status: SUCCESS http://dpdk.org/patch/153549 _Testing PASS_ Submitter: Sunil Kumar Kori Date: Wednesday, May 21 2025 05:11:43 DPDK git baseline: Repo:dpdk Branch: master CommitID:a0dde342cc312fd75b63281f63d757db7482cdab 153548-153549 --> testing pass Upstream job id: Generic-DPDK-Compile-Meson#389918 Test environment and result as below: +----------------------------------------+--------------------+ | Environment | dpdk_meson_compile | +========================================+====================+ | RHEL9 (ARM) | PASS | +----------------------------------------+--------------------+ | Ubuntu 20.04 ARM GCC Cross Compile | PASS | +----------------------------------------+--------------------+ | Ubuntu 20.04 ARM SVE | PASS | +----------------------------------------+--------------------+ | Debian 12 with MUSDK | PASS | +----------------------------------------+--------------------+ | Fedora 40 (ARM) | PASS | +----------------------------------------+--------------------+ | Fedora 40 (ARM Clang) | PASS | +----------------------------------------+--------------------+ | Fedora 41 (ARM) | PASS | +----------------------------------------+--------------------+ | Fedora 41 (ARM Clang) | PASS | +----------------------------------------+--------------------+ | Ubuntu 20.04 (ARM) | PASS | +----------------------------------------+--------------------+ | Ubuntu 22.04 (ARM) | PASS | +----------------------------------------+--------------------+ | Ubuntu 24.04 (ARM) | PASS | +----------------------------------------+--------------------+ | CentOS Stream 9 (ARM) | PASS | +----------------------------------------+--------------------+ | CentOS Stream 10 (ARM) | PASS | +----------------------------------------+--------------------+ | Debian 12 (arm) | PASS | +----------------------------------------+--------------------+ | Ubuntu 20.04 aarch32 GCC Cross Compile | PASS | +----------------------------------------+--------------------+ RHEL9 (ARM) Kernel: Depends on container host Compiler: gcc 11.5.0 20240719 (Red Hat 11.5.0-2) Ubuntu 20.04 ARM GCC Cross Compile Kernel: Depends on container host Compiler: aarch64-linux-gnu-gcc (Ubuntu 9.4.0-1ubuntu1~20.04.2) 9.4.0 Ubuntu 20.04 ARM SVE Kernel: Depends on container host Compiler: gcc (Ubuntu 10.5.0-1ubuntu1~20.04) 10.5.0 Debian 12 with MUSDK Kernel: Depends on container host Compiler: gcc (Debian 12.2.0-14) 12.2.0 Fedora 40 (ARM) Kernel: Depends on container host Compiler: gcc 14.2.1 20240912 (Red Hat 14.2.1-3) Fedora 40 (ARM Clang) Kernel: Depends on container host Compiler: clang 18.1.8 (Fedora 18.1.8-1.fc40) Fedora 41 (ARM) Kernel: Depends on container host Compiler: gcc 14.2.1 20240912 (Red Hat 14.2.1-3) Fedora 41 (ARM Clang) Kernel: Depends on container host Compiler: clang 19.1.5 (Fedora 19.1.5-1.fc41) Ubuntu 20.04 (ARM) Kernel: Depends on container host Compiler: gcc (Ubuntu 9.4.0-1ubuntu1~20.04.2) 9.4.0 Ubuntu 22.04 (ARM) Kernel: Depends on container host Compiler: gcc (Ubuntu 11.4.0-1ubuntu1~22.04) 11.4.0 Ubuntu 24.04 (ARM) Kernel: Depends on container host Compiler: gcc (Ubuntu 13.3.0-6ubuntu2~24.04) 13.3.0 CentOS Stream 9 (ARM) Kernel: Depends on container host Compiler: gcc 11.5.0 20240719 (Red Hat 11.5.0-2) CentOS Stream 10 (ARM) Kernel: Depends on container host Compiler: gcc 14.2.1 20241104 (Red Hat 14.2.1-6) Debian 12 (arm) Kernel: Depends on container host Compiler: gcc (Debian 12.2.0-14) 12.2.0 Ubuntu 20.04 aarch32 GCC Cross Compile Kernel: Depends on container host Compiler: gcc 9.4.0 To view detailed results, visit: https://lab.dpdk.org/results/dashboard/patchsets/33217/ UNH-IOL DPDK Community Lab To manage your email subscriptions, visit: https://lab.dpdk.org/results/dashboard/preferences/subscriptions/