From mboxrd@z Thu Jan 1 00:00:00 1970 Return-Path: Received: from mails.dpdk.org (mails.dpdk.org [217.70.189.124]) by inbox.dpdk.org (Postfix) with ESMTP id F1706467AE for ; Wed, 21 May 2025 14:22:23 +0200 (CEST) Received: from mails.dpdk.org (localhost [127.0.0.1]) by mails.dpdk.org (Postfix) with ESMTP id DBE8C427CF; Wed, 21 May 2025 14:22:23 +0200 (CEST) Received: from mail-io1-f99.google.com (mail-io1-f99.google.com [209.85.166.99]) by mails.dpdk.org (Postfix) with ESMTP id 2041E427BC for ; Wed, 21 May 2025 14:22:22 +0200 (CEST) Received: by mail-io1-f99.google.com with SMTP id ca18e2360f4ac-867355d9c4eso163655539f.0 for ; Wed, 21 May 2025 05:22:22 -0700 (PDT) DKIM-Signature: v=1; a=rsa-sha256; c=relaxed/relaxed; d=iol.unh.edu; s=unh-iol; t=1747830141; x=1748434941; darn=dpdk.org; h=references:in-reply-to:cc:to:from:subject:message-id:date:from:to :cc:subject:date:message-id:reply-to; bh=aHt4/zL0Ay2yfBG+m9X/3Y01mAwMyjEb7nL3paq1638=; b=Xis/xWVnJiTpPQp3ctbNf8TebORS7PTo7j02y64Bs7VsY1a8GWvmaMRsO79TXAomaH kHzjOvlCfC8//P5r2casfX0pkd3+5TUpbrRG8pPL9aEYBOzGW7jyw4KaBLPNjE3fkVR9 5VDOVEd42Vd1TQ2pLF2GqP+HIuDyZsrXRjmjk= X-Google-DKIM-Signature: v=1; a=rsa-sha256; c=relaxed/relaxed; d=1e100.net; s=20230601; t=1747830141; x=1748434941; h=references:in-reply-to:cc:to:from:subject:message-id:date :x-gm-message-state:from:to:cc:subject:date:message-id:reply-to; bh=aHt4/zL0Ay2yfBG+m9X/3Y01mAwMyjEb7nL3paq1638=; b=GgFm87ImTOCalJkMWqAyw7ukGp4Sn48TbPxVuBi0MxilPyQ7KoEda+Tu6MCuJmeHWm wcyjpM29tAneMDOjv+LWKFqhwoJC3fr+cgaHisbIS8lsKv72JjBLM7XFn6oRIwlTNTuj EA/8tGI4yOdhGpHhilmtcZmyMPOmegrAY/ZijkY1PCFpLA5gGocC8cOEH0jDvKsooEXV L6SZryj5VmAo+QR1gYPBIzSP6Xxb9oWfCtpUooYsNts1e5MHRR6WQ9azXsM+jVJJZQ6n MaupB3+pTZq7hux+E1C4s+rWDUBnKrbUDLVdIbhP4u8969RVRVMg5Ccs5YyrIUt8csvi Hcxw== X-Gm-Message-State: AOJu0YwdZ8vtIjxlPXXzLvXDObieuMqv+xLOvF/6ntxvQUsXtxrZksBO OdrRRu40by/1dWCD6QeU0HUXWXuU19/gqN68YkE//T3GVErGhBMETQrvV7UtD9hYA6csthoJsUX WS7r4PR1F9PsDI/8NG98h2CJ9/aEyZp6HHltJ+NrO4vkPS3D0SPQwu4vMNuJD X-Gm-Gg: ASbGncslB4VkMa6u7g4UypbNarXCE6lPBtBToutjCD7CuJwMG2koE4IonwVbrx1qGeL zifDo1JsuZSRQMuFPVp7R6Pyc3naBV+iyEwI/MYD34e0bGBCParFeoM+2aIKErABpIJ4lKmNIM9 JpJH+nIzIKAvvBNyJCDNAsAudTIAsEnQANcJdIQZzgqdqQNf+trTd1nOjxubMHSgCHmg4i4gcK2 3P2o4fTZda61EeUiigcmE5OXf6ULPyd8/qjWyUwsdINKzcxtQ75XaaFlH7kRKAUUMHgkmnbQvzV 86eWpxmGIgZeNttwdKMnYs+ra1rWwTKpdMrz X-Google-Smtp-Source: AGHT+IGg68vckDJUoyBpQ4BIsLn4A3oPi+P20DzErDuF7coGUoyyarHYf/SnRxMZXGfjzDUAaP5ld8N3MBag X-Received: by 2002:a05:6602:388b:b0:85b:3e32:9afb with SMTP id ca18e2360f4ac-86a24cd4854mr2663909739f.14.1747830141198; Wed, 21 May 2025 05:22:21 -0700 (PDT) Received: from postal.iol.unh.edu (postal.iol.unh.edu. [2606:4100:3880:1234::84]) by smtp-relay.gmail.com with ESMTPS id ca18e2360f4ac-86a235e7279sm52937439f.5.2025.05.21.05.22.21 (version=TLS1_2 cipher=ECDHE-ECDSA-AES128-GCM-SHA256 bits=128/128); Wed, 21 May 2025 05:22:21 -0700 (PDT) X-Relaying-Domain: iol.unh.edu Date: Wed, 21 May 2025 05:22:21 -0700 (PDT) Message-ID: <682dc57d.050a0220.238dd4.ab7bSMTPIN_ADDED_MISSING@mx.google.com> Received: from [172.21.0.7] (unknown [172.18.0.240]) by postal.iol.unh.edu (Postfix) with ESMTP id 951166052471; Wed, 21 May 2025 08:22:20 -0400 (EDT) Subject: |SUCCESS| pw153548-153549 [PATCH] [v2,2/2] app/testpmd: clear stale From: dpdklab@iol.unh.edu To: Test Report Cc: dpdk-test-reports@iol.unh.edu In-Reply-To: <20250521051154.19595-2-skori@marvell.com> References: <20250521051154.19595-2-skori@marvell.com> Content-Type: text/plain X-BeenThere: test-report@dpdk.org X-Mailman-Version: 2.1.29 Precedence: list List-Id: automatic DPDK test reports List-Unsubscribe: , List-Archive: List-Post: List-Help: List-Subscribe: , Errors-To: test-report-bounces@dpdk.org Test-Label: iol-compile-arm64-testing Test-Status: SUCCESS http://dpdk.org/patch/153549 _Testing PASS_ Submitter: Sunil Kumar Kori Date: Wednesday, May 21 2025 05:11:43 DPDK git baseline: Repo:dpdk Branch: master CommitID:a0dde342cc312fd75b63281f63d757db7482cdab 153548-153549 --> testing pass Upstream job id: Generic-DPDK-Compile-Meson#389914 Test environment and result as below: +----------------------------------------+--------------------+ | Environment | dpdk_meson_compile | +========================================+====================+ | RHEL9 (ARM) | PASS | +----------------------------------------+--------------------+ | Ubuntu 20.04 ARM GCC Cross Compile | PASS | +----------------------------------------+--------------------+ | Ubuntu 20.04 ARM SVE | PASS | +----------------------------------------+--------------------+ | Debian 12 with MUSDK | PASS | +----------------------------------------+--------------------+ | Fedora 40 (ARM) | PASS | +----------------------------------------+--------------------+ | Fedora 40 (ARM Clang) | PASS | +----------------------------------------+--------------------+ | Fedora 41 (ARM) | PASS | +----------------------------------------+--------------------+ | Fedora 41 (ARM Clang) | PASS | +----------------------------------------+--------------------+ | Ubuntu 20.04 (ARM) | PASS | +----------------------------------------+--------------------+ | Ubuntu 22.04 (ARM) | PASS | +----------------------------------------+--------------------+ | Ubuntu 24.04 (ARM) | PASS | +----------------------------------------+--------------------+ | CentOS Stream 9 (ARM) | PASS | +----------------------------------------+--------------------+ | CentOS Stream 10 (ARM) | PASS | +----------------------------------------+--------------------+ | Debian 12 (arm) | PASS | +----------------------------------------+--------------------+ | Ubuntu 20.04 aarch32 GCC Cross Compile | PASS | +----------------------------------------+--------------------+ RHEL9 (ARM) Kernel: Depends on container host Compiler: gcc 11.5.0 20240719 (Red Hat 11.5.0-2) Ubuntu 20.04 ARM GCC Cross Compile Kernel: Depends on container host Compiler: aarch64-linux-gnu-gcc (Ubuntu 9.4.0-1ubuntu1~20.04.2) 9.4.0 Ubuntu 20.04 ARM SVE Kernel: Depends on container host Compiler: gcc (Ubuntu 10.5.0-1ubuntu1~20.04) 10.5.0 Debian 12 with MUSDK Kernel: Depends on container host Compiler: gcc (Debian 12.2.0-14) 12.2.0 Fedora 40 (ARM) Kernel: Depends on container host Compiler: gcc 14.2.1 20240912 (Red Hat 14.2.1-3) Fedora 40 (ARM Clang) Kernel: Depends on container host Compiler: clang 18.1.8 (Fedora 18.1.8-1.fc40) Fedora 41 (ARM) Kernel: Depends on container host Compiler: gcc 14.2.1 20240912 (Red Hat 14.2.1-3) Fedora 41 (ARM Clang) Kernel: Depends on container host Compiler: clang 19.1.5 (Fedora 19.1.5-1.fc41) Ubuntu 20.04 (ARM) Kernel: Depends on container host Compiler: gcc (Ubuntu 9.4.0-1ubuntu1~20.04.2) 9.4.0 Ubuntu 22.04 (ARM) Kernel: Depends on container host Compiler: gcc (Ubuntu 11.4.0-1ubuntu1~22.04) 11.4.0 Ubuntu 24.04 (ARM) Kernel: Depends on container host Compiler: gcc (Ubuntu 13.3.0-6ubuntu2~24.04) 13.3.0 CentOS Stream 9 (ARM) Kernel: Depends on container host Compiler: gcc 11.5.0 20240719 (Red Hat 11.5.0-2) CentOS Stream 10 (ARM) Kernel: Depends on container host Compiler: gcc 14.2.1 20241104 (Red Hat 14.2.1-6) Debian 12 (arm) Kernel: Depends on container host Compiler: gcc (Debian 12.2.0-14) 12.2.0 Ubuntu 20.04 aarch32 GCC Cross Compile Kernel: Depends on container host Compiler: gcc 9.4.0 To view detailed results, visit: https://lab.dpdk.org/results/dashboard/patchsets/33217/ UNH-IOL DPDK Community Lab To manage your email subscriptions, visit: https://lab.dpdk.org/results/dashboard/preferences/subscriptions/