From mboxrd@z Thu Jan 1 00:00:00 1970 Return-Path: Received: from mails.dpdk.org (mails.dpdk.org [217.70.189.124]) by inbox.dpdk.org (Postfix) with ESMTP id 40268467AE for ; Wed, 21 May 2025 14:34:39 +0200 (CEST) Received: from mails.dpdk.org (localhost [127.0.0.1]) by mails.dpdk.org (Postfix) with ESMTP id 1A49540695; Wed, 21 May 2025 14:34:39 +0200 (CEST) Received: from mail-qv1-f99.google.com (mail-qv1-f99.google.com [209.85.219.99]) by mails.dpdk.org (Postfix) with ESMTP id D38D5400EF for ; Wed, 21 May 2025 14:34:37 +0200 (CEST) Received: by mail-qv1-f99.google.com with SMTP id 6a1803df08f44-6f8d663fa22so48539946d6.0 for ; Wed, 21 May 2025 05:34:37 -0700 (PDT) DKIM-Signature: v=1; a=rsa-sha256; c=relaxed/relaxed; d=iol.unh.edu; s=unh-iol; t=1747830877; x=1748435677; darn=dpdk.org; h=references:in-reply-to:cc:to:from:subject:message-id:date:from:to :cc:subject:date:message-id:reply-to; bh=vkyIh4wlh2/tGOTCZ29RNWUvjonNk0VoRBDkYNmWQcs=; b=FLd2DVMgQT5CaGx+Mv8uduvYuGdt9Btj/ipytaJUvhwM8+J18VwArt+XyUycJQV7C4 LUSi4B2BeI5HqU4OGluRZ1f+yDnS5q8i9HBOsngP8UHcLQ8PQsPEiPMonmIxwgdliEyG i+Tzc1gUC4VarQ8k9vyt+C0vqMTxembpqYgRk= X-Google-DKIM-Signature: v=1; a=rsa-sha256; c=relaxed/relaxed; d=1e100.net; s=20230601; t=1747830877; x=1748435677; h=references:in-reply-to:cc:to:from:subject:message-id:date :x-gm-message-state:from:to:cc:subject:date:message-id:reply-to; bh=vkyIh4wlh2/tGOTCZ29RNWUvjonNk0VoRBDkYNmWQcs=; b=JDt/ZGf9IIBnE7ZKpbAznKM5XGbNAApZ2obidPgRjEAFk9puUPuA+MvmHfU2WrE37f O3jLKt2wLuDBylLG8CpBl5FMozd0G9zbIaWac8LVWohqwmco7l6+oS04WZlMjeruLH9H sArwCnbbavxkWWOzF0cdOgzSBA9iQ4chajX+ksIdVA/ILLKDb0CHJDpiDWFeo2X9eYkq k8WQYvRWek+tjufp+bSFPaPwzYemfwgFk7z37YolY8VC2xJuQjCWWv8h4tN80hn8qetv 4LJpyPqHEymw0El+ym18mvAyRzUHzuYTmuQbQ1tyTRWCnJCwo7Gd4vM9EYdGNi0T4VCY EyJg== X-Gm-Message-State: AOJu0YyVSw8GRMsaU+sLybMobLnnVfQKL6xzYY/cbxQZ9kQYPDe9rahb z0YK5X2ykPex5raGKQcBcW4duJuB9MIiDptmvYmvhUfqBOJ27KBcgAHeAteRuLsahQdKKjRhq4Q CEezz+pKLIEKd8ZhpsCXdT+Dfx8JghWt6DJSJR6irMlFoV0uP32ANdK4iuEj3 X-Gm-Gg: ASbGncvcRlQ4vj+bgmt4TS5c1UxpX6SrOc/slBUR6ubOnUuPqO+ymo3Wl0u1KT+bhvW JLrESLROk32HkqgX2F4ps0y06qMGlaiehtiQRy4DleCTfmK9KK+HylurDxYe72mPQ5lBVJff054 rDAnu1O5nB6kmDsCJ6gdl/kLX7gkqLsHukBH37j2l2xgkEdpkHg2E++0NKiMWUfNMCcDGjnP2rz 6loBTEjQJSGDGZRy4mLyWHD8oh2lTR/cyyhRqONRnyLfUGKJrq8GkTK1ZizWwI9DtpnnEP2yuGR GDlQ3xp+Em3DbOGFAYU7DQuNwNeMG1XvZN7z X-Google-Smtp-Source: AGHT+IH/0Mf5i+TFDQLqsPKPNfPVvA1/nOnoTHLaBE3RJOh7jePR4++7T0Ov3oMhiz0EUafmqe7qXK63/pRh X-Received: by 2002:ad4:4eea:0:b0:6ed:19d1:212f with SMTP id 6a1803df08f44-6f8b2c328b3mr344110516d6.5.1747830877061; Wed, 21 May 2025 05:34:37 -0700 (PDT) Received: from postal.iol.unh.edu (postal.iol.unh.edu. [2606:4100:3880:1234::84]) by smtp-relay.gmail.com with ESMTPS id 6a1803df08f44-6f8b07fa1b8sm4286796d6.0.2025.05.21.05.34.36 (version=TLS1_2 cipher=ECDHE-ECDSA-AES128-GCM-SHA256 bits=128/128); Wed, 21 May 2025 05:34:37 -0700 (PDT) X-Relaying-Domain: iol.unh.edu Date: Wed, 21 May 2025 05:34:37 -0700 (PDT) Message-ID: <682dc85d.050a0220.1acd0a.7b23SMTPIN_ADDED_MISSING@mx.google.com> Received: from [172.21.0.7] (unknown [172.18.0.240]) by postal.iol.unh.edu (Postfix) with ESMTP id BE3116052471; Wed, 21 May 2025 08:34:36 -0400 (EDT) Subject: |SUCCESS| pw153550-153558 [PATCH] [v2,9/9] crypto/dpaa2_sec: add sup From: dpdklab@iol.unh.edu To: Test Report Cc: dpdk-test-reports@iol.unh.edu In-Reply-To: <20250521065658.857707-10-g.singh@nxp.com> References: <20250521065658.857707-10-g.singh@nxp.com> Content-Type: text/plain X-BeenThere: test-report@dpdk.org X-Mailman-Version: 2.1.29 Precedence: list List-Id: automatic DPDK test reports List-Unsubscribe: , List-Archive: List-Post: List-Help: List-Subscribe: , Errors-To: test-report-bounces@dpdk.org Test-Label: iol-abi-testing Test-Status: SUCCESS http://dpdk.org/patch/153558 _Testing PASS_ Submitter: Gagandeep Singh Date: Wednesday, May 21 2025 06:56:58 DPDK git baseline: Repo:dpdk Branch: master CommitID:117e86c4b96ed761e9a7ab766261208fe81bf5ca 153550-153558 --> testing pass Upstream job id: Generic-DPDK-Compile-ABI#127170 Test environment and result as below: +-------------------+----------+ | Environment | abi_test | +===================+==========+ | Debian 12 | PASS | +-------------------+----------+ | CentOS Stream 10 | PASS | +-------------------+----------+ | CentOS Stream 9 | PASS | +-------------------+----------+ | Fedora 40 (Clang) | PASS | +-------------------+----------+ | Fedora 41 (Clang) | PASS | +-------------------+----------+ | Fedora 40 | PASS | +-------------------+----------+ | Fedora 41 | PASS | +-------------------+----------+ | openSUSE Leap 15 | PASS | +-------------------+----------+ | RHEL8 | PASS | +-------------------+----------+ | RHEL9 | PASS | +-------------------+----------+ | Ubuntu 24.04 | PASS | +-------------------+----------+ | Ubuntu 22.04 | PASS | +-------------------+----------+ Debian 12 Kernel: Depends on container host Compiler: gcc (Debian 12.2.0-14) 12.2.0 CentOS Stream 10 Kernel: Depends on container host Compiler: gcc 14.2.1 20241104 (Red Hat 14.2.1-6) CentOS Stream 9 Kernel: Depends on container host Compiler: gcc 11.5.0 20240719 (Red Hat 11.5.0-2) Fedora 40 (Clang) Kernel: Depends on container host Compiler: clang 18.1.8 (Fedora 18.1.8-1.fc40) Fedora 41 (Clang) Kernel: Depends on container host Compiler: clang 19.1.5 (Fedora 19.1.5-1.fc41) Fedora 40 Kernel: Depends on container host Compiler: gcc 14.2.1 20240912 (Red Hat 14.2.1-3) Fedora 41 Kernel: Depends on container host Compiler: gcc 14.2.1 20240912 (Red Hat 14.2.1-3) openSUSE Leap 15 Kernel: Depends on container host Compiler: gcc (SUSE Linux) 7.5.0 RHEL8 Kernel: Depends on container host Compiler: gcc 8.5.0 20210514 (Red Hat 8.5.0-22) RHEL9 Kernel: Depends on container host Compiler: gcc 11.5.0 20240719 (Red Hat 11.5.0-2) Ubuntu 24.04 Kernel: Depends on container host Compiler: gcc (Ubuntu 13.3.0-6ubuntu2~24.04) 13.3.0 Ubuntu 22.04 Kernel: Depends on container host Compiler: gcc (Ubuntu 11.4.0-1ubuntu1~22.04) 11.4.0 To view detailed results, visit: https://lab.dpdk.org/results/dashboard/patchsets/33218/ UNH-IOL DPDK Community Lab To manage your email subscriptions, visit: https://lab.dpdk.org/results/dashboard/preferences/subscriptions/