From mboxrd@z Thu Jan 1 00:00:00 1970 Return-Path: Received: from mails.dpdk.org (mails.dpdk.org [217.70.189.124]) by inbox.dpdk.org (Postfix) with ESMTP id A9900467AE for ; Wed, 21 May 2025 14:39:11 +0200 (CEST) Received: from mails.dpdk.org (localhost [127.0.0.1]) by mails.dpdk.org (Postfix) with ESMTP id 86CE84065A; Wed, 21 May 2025 14:39:11 +0200 (CEST) Received: from mail-io1-f97.google.com (mail-io1-f97.google.com [209.85.166.97]) by mails.dpdk.org (Postfix) with ESMTP id 91458400EF for ; Wed, 21 May 2025 14:39:09 +0200 (CEST) Received: by mail-io1-f97.google.com with SMTP id ca18e2360f4ac-867347b8de9so249474439f.0 for ; Wed, 21 May 2025 05:39:09 -0700 (PDT) DKIM-Signature: v=1; a=rsa-sha256; c=relaxed/relaxed; d=iol.unh.edu; s=unh-iol; t=1747831149; x=1748435949; darn=dpdk.org; h=cc:to:from:subject:message-id:date:from:to:cc:subject:date :message-id:reply-to; bh=mdCVjIWg94NzTq28J3L8UNdf+DIUcaXIh9W06UjxawU=; b=c4f6qqStj5y2ml3URv+9GqenDESJg3xPjOmhV2B8D0kNIB969iZcP0czPvnA1Pm19/ +8jFeLFD4cXQemzEq3loKnMffhxI7iFxsHuGy+d/Xf+9bHKq9ibmNbat4pY6re3FQXi1 t42Gu969cVtd/tseETQwo6Qxgla+9F2vlIfYM= X-Google-DKIM-Signature: v=1; a=rsa-sha256; c=relaxed/relaxed; d=1e100.net; s=20230601; t=1747831149; x=1748435949; h=cc:to:from:subject:message-id:date:x-gm-message-state:from:to:cc :subject:date:message-id:reply-to; bh=mdCVjIWg94NzTq28J3L8UNdf+DIUcaXIh9W06UjxawU=; b=frRfA0MnMPCXZnAevlSA2ykD4lQbHhFVOeJOhrTPI1PL42aZnz+5jujE40oy7jQMU+ ynCgHZ6yAFdQpnAdKAW6dYhegzcc1Eme+hz+sdwqZK0NybMdhBYZKaOjX2eYtngQIaVQ ySjnjmhWJC0ASxmdv1cwIqnF9SYFags7WNLB16Aua2bDzYhRS2zVRiLRa9GcBOgYZJKd hchR8IIQwTx9vgXmzrXN6dKolIG3DSdR1AVSUi80Z2Ojvci8XETDmAPQKtvVwi8YGJXN 4kFJF+e1kBKjg7jcagNgYKyHGlzueyvffBqm/8MQCIlL72dv5Q9LH5e1mbQoW5CUftRg 0R9w== X-Gm-Message-State: AOJu0YwySrx0QrWqFeFLMxrBwEqjY7pU/W0zeHRPAcEQLwiQRRVdS0Fz uaidsDLdCF0TFUBRa8RCzW5HxfWZdnr3SWidNMmaN631FhrKbCI+ferA3+qcIOKDnLLOrPqF60B SyZShjHAkFZpFjQwG504AdOiljU5H9t4Wo5u8vonJupkJ X-Gm-Gg: ASbGncv8QsF+C83Mx/C/QzlXUyRWPc3cOz+uYEn+Qc5UJzVpgNOEuh80vRLbDIAgBV2 U3sIXTMoAjnEWppS1kiOH4BSQhtWknMCQytblXF65bLq5SOUAXyNwqFRCP4U6YOZ3SivwbnToh2 H682IQ0Vlm0bN6bLeQhxC42oyYuHGEtRqXIsPcNFPe9nWLBGNRYTG6sXNhiL303PZdQN/jrUEuQ kLywOyrekde7pN3NStPXRO924iArCg3T0lE6JtZWnaNidhQvgmCdcGvlNILoUp2R6FvuWe+BPXu Aup6+vfWKOQp8dgqfML9X+FVUgM6HWI7s8YcOiIRxULPO/J37fnD0bmOk50= X-Google-Smtp-Source: AGHT+IHZqmdWX8ZaKPjppTKGolynD/mVAC6iFuhGCeGcpzAFCYgLTkChQOyWidE4lVaHiIN5PcCpwSJbiDyN X-Received: by 2002:a05:6602:3e8d:b0:85b:4310:a91c with SMTP id ca18e2360f4ac-86a23693337mr2549790339f.1.1747831148804; Wed, 21 May 2025 05:39:08 -0700 (PDT) Received: from postal.iol.unh.edu (postal.iol.unh.edu. [132.177.123.84]) by smtp-relay.gmail.com with ESMTPS id ca18e2360f4ac-86a2361d17csm52611639f.12.2025.05.21.05.39.08 (version=TLS1_2 cipher=ECDHE-ECDSA-AES128-GCM-SHA256 bits=128/128); Wed, 21 May 2025 05:39:08 -0700 (PDT) X-Relaying-Domain: iol.unh.edu Date: Wed, 21 May 2025 05:39:08 -0700 (PDT) Message-ID: <682dc96c.050a0220.9aa4.c1c2SMTPIN_ADDED_MISSING@mx.google.com> Received: from [172.21.0.5] (unknown [172.18.0.240]) by postal.iol.unh.edu (Postfix) with ESMTP id 1301A6052471; Wed, 21 May 2025 08:39:08 -0400 (EDT) Subject: |WARNING| [GIT MASTER] a0dde342cc312fd75b63281f63d757db7482cdab From: dpdklab@iol.unh.edu To: Test Report Cc: dpdk-test-reports@iol.unh.edu, Stephen Hemminger Content-Type: text/plain X-BeenThere: test-report@dpdk.org X-Mailman-Version: 2.1.29 Precedence: list List-Id: automatic DPDK test reports List-Unsubscribe: , List-Archive: List-Post: List-Help: List-Subscribe: , Errors-To: test-report-bounces@dpdk.org _Testing issues_ Branch: dpdk-next-net a0dde342cc312fd75b63281f63d757db7482cdab --> testing issues Upstream job id: Generic-DPDK-Compile-Meson#389932 Test environment and result as below: +-----------------------------------+--------------------+-------------------+-------------------------+----------------------+-------------------+------------------+ | Environment | dpdk_meson_compile | dpdk_msvc_compile | dpdk_llvm_clang_compile | dpdk_mingw64_compile | dpdk_compile_spdk | dpdk_compile_ovs | +===================================+====================+===================+=========================+======================+===================+==================+ | FreeBSD 13.5 | PASS | SKIPPED | SKIPPED | SKIPPED | SKIPPED | SKIPPED | +-----------------------------------+--------------------+-------------------+-------------------------+----------------------+-------------------+------------------+ | FreeBSD 14.2 | PASS | SKIPPED | SKIPPED | SKIPPED | SKIPPED | SKIPPED | +-----------------------------------+--------------------+-------------------+-------------------------+----------------------+-------------------+------------------+ | Ubuntu 20.04 | PASS | SKIPPED | SKIPPED | SKIPPED | SKIPPED | SKIPPED | +-----------------------------------+--------------------+-------------------+-------------------------+----------------------+-------------------+------------------+ | CentOS Stream 9 | PASS | SKIPPED | SKIPPED | SKIPPED | PASS | SKIPPED | +-----------------------------------+--------------------+-------------------+-------------------------+----------------------+-------------------+------------------+ | CentOS Stream 10 | PEND | SKIPPED | SKIPPED | SKIPPED | SKIPPED | SKIPPED | +-----------------------------------+--------------------+-------------------+-------------------------+----------------------+-------------------+------------------+ | Debian 12 | PEND | SKIPPED | SKIPPED | SKIPPED | PEND | SKIPPED | +-----------------------------------+--------------------+-------------------+-------------------------+----------------------+-------------------+------------------+ | Fedora 40 (Clang) | PASS | SKIPPED | SKIPPED | SKIPPED | WARN | SKIPPED | +-----------------------------------+--------------------+-------------------+-------------------------+----------------------+-------------------+------------------+ | Fedora 40 | PASS | SKIPPED | SKIPPED | SKIPPED | PASS | SKIPPED | +-----------------------------------+--------------------+-------------------+-------------------------+----------------------+-------------------+------------------+ | Fedora 41 (Clang) | PEND | SKIPPED | SKIPPED | SKIPPED | PEND | PEND | +-----------------------------------+--------------------+-------------------+-------------------------+----------------------+-------------------+------------------+ | Fedora 41 | PASS | SKIPPED | SKIPPED | SKIPPED | PASS | PASS | +-----------------------------------+--------------------+-------------------+-------------------------+----------------------+-------------------+------------------+ | openSUSE Leap 15 | PASS | SKIPPED | SKIPPED | SKIPPED | SKIPPED | SKIPPED | +-----------------------------------+--------------------+-------------------+-------------------------+----------------------+-------------------+------------------+ | RHEL8 | PASS | SKIPPED | SKIPPED | SKIPPED | SKIPPED | SKIPPED | +-----------------------------------+--------------------+-------------------+-------------------------+----------------------+-------------------+------------------+ | RHEL9 | PASS | SKIPPED | SKIPPED | SKIPPED | SKIPPED | SKIPPED | +-----------------------------------+--------------------+-------------------+-------------------------+----------------------+-------------------+------------------+ | Ubuntu 22.04 | PASS | SKIPPED | SKIPPED | SKIPPED | PASS | SKIPPED | +-----------------------------------+--------------------+-------------------+-------------------------+----------------------+-------------------+------------------+ | Ubuntu 24.04 | PASS | SKIPPED | SKIPPED | SKIPPED | PASS | PASS | +-----------------------------------+--------------------+-------------------+-------------------------+----------------------+-------------------+------------------+ | Alpine | PEND | SKIPPED | SKIPPED | SKIPPED | SKIPPED | SKIPPED | +-----------------------------------+--------------------+-------------------+-------------------------+----------------------+-------------------+------------------+ | Ubuntu 24.04 32 Bit Cross Compile | PEND | SKIPPED | SKIPPED | SKIPPED | SKIPPED | SKIPPED | +-----------------------------------+--------------------+-------------------+-------------------------+----------------------+-------------------+------------------+ | Windows Server 2022 | SKIPPED | PASS | PASS | PASS | SKIPPED | SKIPPED | +-----------------------------------+--------------------+-------------------+-------------------------+----------------------+-------------------+------------------+ ==== 20 line log output for Fedora 40 (Clang) (dpdk_compile_spdk): ==== --- Failed to get log output --- ==== End log output ==== FreeBSD 13.5 Kernel: 13.5-RELEASE Compiler: clang 19.1.7 FreeBSD 14.2 Kernel: 14.2-RELEASE Compiler: clang 18.1.6 Ubuntu 20.04 Kernel: 4.19.325-0419325-generic Compiler: gcc (Ubuntu 9.4.0-1ubuntu1~20.04.2) 9.4.0 CentOS Stream 9 Kernel: Depends on container host Compiler: gcc 11.5.0 20240719 (Red Hat 11.5.0-2) CentOS Stream 10 Kernel: Depends on container host Compiler: gcc 14.2.1 20241104 (Red Hat 14.2.1-6) Debian 12 Kernel: Depends on container host Compiler: gcc (Debian 12.2.0-14) 12.2.0 Fedora 40 (Clang) Kernel: Depends on container host Compiler: clang 18.1.8 (Fedora 18.1.8-1.fc40) Fedora 40 Kernel: Depends on container host Compiler: gcc 14.2.1 20240912 (Red Hat 14.2.1-3) Fedora 41 (Clang) Kernel: Depends on container host Compiler: clang 19.1.5 (Fedora 19.1.5-1.fc41) Fedora 41 Kernel: Depends on container host Compiler: gcc 14.2.1 20240912 (Red Hat 14.2.1-3) openSUSE Leap 15 Kernel: Depends on container host Compiler: gcc (SUSE Linux) 7.5.0 RHEL8 Kernel: Depends on container host Compiler: gcc 8.5.0 20210514 (Red Hat 8.5.0-22) RHEL9 Kernel: Depends on container host Compiler: gcc 11.5.0 20240719 (Red Hat 11.5.0-2) Ubuntu 22.04 Kernel: Depends on container host Compiler: gcc (Ubuntu 11.4.0-1ubuntu1~22.04) 11.4.0 Ubuntu 24.04 Kernel: Depends on container host Compiler: gcc (Ubuntu 13.3.0-6ubuntu2~24.04) 13.3.0 Alpine Kernel: Depends on container host Compiler: gcc (Alpine 14.2.0) 14.2.0 Ubuntu 24.04 32 Bit Cross Compile Kernel: Depends on container host Compiler: gcc (Ubuntu 13.3.0-6ubuntu2~24.04) 13.3.0 Windows Server 2022 Kernel: 10.0.20348.2031 Compiler: clang 15.0.7, gcc 14.1.0 (MinGW), and MSVC VS 19.39.33521 To view detailed results, visit: https://lab.dpdk.org/results/dashboard/tarballs/33598/ UNH-IOL DPDK Community Lab To manage your email subscriptions, visit: https://lab.dpdk.org/results/dashboard/preferences/subscriptions/