From: dpdklab@iol.unh.edu
To: Test Report <test-report@dpdk.org>
Cc: dpdk-test-reports@iol.unh.edu
Subject: |SUCCESS| pw153561 [PATCH] [v2] ethdev: optimize how the values of t
Date: Wed, 21 May 2025 05:47:32 -0700 (PDT) [thread overview]
Message-ID: <682dcb64.170a0220.b69cd.33f6SMTPIN_ADDED_MISSING@mx.google.com> (raw)
In-Reply-To: <20250521101531.34240-1-sunyang.wu@jaguarmicro.com>
Test-Label: iol-sample-apps-testing
Test-Status: SUCCESS
http://dpdk.org/patch/153561
_Testing PASS_
Submitter: Sunyang Wu <sunyang.wu@jaguarmicro.com>
Date: Wednesday, May 21 2025 10:15:31
DPDK git baseline: Repo:dpdk
Branch: master
CommitID:a0dde342cc312fd75b63281f63d757db7482cdab
153561 --> testing pass
Upstream job id: Template-DTS-Pipeline#226951
Test environment and result as below:
+--------------+----------------------+
| Environment | compressdev_zlib_pmd |
+==============+======================+
| Ubuntu 22.04 | PASS |
+--------------+----------------------+
Ubuntu 22.04
Kernel: 5.15.0-100-generic
Compiler: gcc gcc (Ubuntu 11.4.0-1ubuntu1~22.04) 11.4.0
To view detailed results, visit:
https://lab.dpdk.org/results/dashboard/patchsets/33221/
UNH-IOL DPDK Community Lab
To manage your email subscriptions, visit:
https://lab.dpdk.org/results/dashboard/preferences/subscriptions/
next prev parent reply other threads:[~2025-05-21 12:47 UTC|newest]
Thread overview: 27+ messages / expand[flat|nested] mbox.gz Atom feed top
[not found] <20250521101531.34240-1-sunyang.wu@jaguarmicro.com>
2025-05-21 9:41 ` |SUCCESS| pw153561 [PATCH v2] ethdev: optimize how the values of the flag variables are assigned qemudev
2025-05-21 9:45 ` qemudev
2025-05-21 10:16 ` |WARNING| " checkpatch
2025-05-21 11:23 ` |SUCCESS| " 0-day Robot
2025-05-21 11:45 ` |SUCCESS| pw153561 [PATCH] [v2] ethdev: optimize how the values of t dpdklab
2025-05-21 11:57 ` dpdklab
2025-05-21 12:02 ` dpdklab
2025-05-21 12:07 ` dpdklab
2025-05-21 12:11 ` dpdklab
2025-05-21 12:12 ` dpdklab
2025-05-21 12:12 ` dpdklab
2025-05-21 12:29 ` dpdklab
2025-05-21 12:47 ` dpdklab [this message]
2025-05-21 13:22 ` |PENDING| " dpdklab
2025-05-21 13:58 ` dpdklab
2025-05-21 14:10 ` |WARNING| " dpdklab
2025-05-21 14:35 ` |PENDING| " dpdklab
2025-05-21 14:48 ` dpdklab
2025-05-21 14:54 ` |SUCCESS| " dpdklab
2025-05-21 15:13 ` |WARNING| " dpdklab
2025-05-21 15:43 ` |SUCCESS| " dpdklab
2025-05-21 16:02 ` dpdklab
2025-05-21 16:36 ` |WARNING| " dpdklab
2025-05-21 16:37 ` dpdklab
2025-05-21 16:37 ` dpdklab
2025-05-21 17:14 ` dpdklab
2025-05-21 17:21 ` |SUCCESS| " dpdklab
Reply instructions:
You may reply publicly to this message via plain-text email
using any one of the following methods:
* Save the following mbox file, import it into your mail client,
and reply-to-all from there: mbox
Avoid top-posting and favor interleaved quoting:
https://en.wikipedia.org/wiki/Posting_style#Interleaved_style
* Reply using the --to, --cc, and --in-reply-to
switches of git-send-email(1):
git send-email \
--in-reply-to=682dcb64.170a0220.b69cd.33f6SMTPIN_ADDED_MISSING@mx.google.com \
--to=dpdklab@iol.unh.edu \
--cc=dpdk-test-reports@iol.unh.edu \
--cc=test-report@dpdk.org \
/path/to/YOUR_REPLY
https://kernel.org/pub/software/scm/git/docs/git-send-email.html
* If your mail client supports setting the In-Reply-To header
via mailto: links, try the mailto: link
Be sure your reply has a Subject: header at the top and a blank line
before the message body.
This is a public inbox, see mirroring instructions
for how to clone and mirror all data and code used for this inbox;
as well as URLs for NNTP newsgroup(s).