From mboxrd@z Thu Jan 1 00:00:00 1970 Return-Path: Received: from mails.dpdk.org (mails.dpdk.org [217.70.189.124]) by inbox.dpdk.org (Postfix) with ESMTP id 93F2A467AE for ; Wed, 21 May 2025 14:59:11 +0200 (CEST) Received: from mails.dpdk.org (localhost [127.0.0.1]) by mails.dpdk.org (Postfix) with ESMTP id 65BB040144; Wed, 21 May 2025 14:59:11 +0200 (CEST) Received: from mail-il1-f228.google.com (mail-il1-f228.google.com [209.85.166.228]) by mails.dpdk.org (Postfix) with ESMTP id 57BC9400EF for ; Wed, 21 May 2025 14:59:10 +0200 (CEST) Received: by mail-il1-f228.google.com with SMTP id e9e14a558f8ab-3da831c17faso23243055ab.3 for ; Wed, 21 May 2025 05:59:10 -0700 (PDT) DKIM-Signature: v=1; a=rsa-sha256; c=relaxed/relaxed; d=iol.unh.edu; s=unh-iol; t=1747832349; x=1748437149; darn=dpdk.org; h=references:in-reply-to:cc:to:from:subject:message-id:date:from:to :cc:subject:date:message-id:reply-to; bh=dgOYCqrEM9nIeaOc+i3eOSNVaNfbDFyjpMd05SS7s8M=; b=ideEwXM102zpQAkj1PcGQEfUgIq8pLV7u7ZajBgh9kSOjVqcyZhxZWGCQWZQ/anSWc xATv+I/AVvFheCbGWz73KFC7RkAKBYM9zFxejDnJ/o/sMKTyjIx9Jjlr2kf91IqMpENt gi6/rtlkBJSlitZyFIhyjyKTBUKqlypWlY/og= X-Google-DKIM-Signature: v=1; a=rsa-sha256; c=relaxed/relaxed; d=1e100.net; s=20230601; t=1747832349; x=1748437149; h=references:in-reply-to:cc:to:from:subject:message-id:date :x-gm-message-state:from:to:cc:subject:date:message-id:reply-to; bh=dgOYCqrEM9nIeaOc+i3eOSNVaNfbDFyjpMd05SS7s8M=; b=crP/WaRzPyWTyokyVOVmZzsOOthUTCoBUHkzEG/jspSd99sNdbq4WkbRbIh+fLREyt Ac40dF+2SQyZkxgfNKVuzBVTEM0c6w+FD/AwljBQALXJdumpKV8KLp1f1f3MDrxDPKFr X1OQ69PwTta6mXnbddnIVAfpOp5lTOkAIxRe0Q3bJKO+Kq3xl+89sT0h3WZr6S9n/3sS 9NuLdrgNwuUr1PMjYJx3qJ39haAv7+Q6mTB69aZSl43bpV972pA/RqbisxpyA/ubwm5B S5pm4JEc8nvixFQYDi+xZnndNGJaOTGwfo4KFRJwTklUDR3q6Pz2ZEfGUeRwM97FV/Y/ V/kw== X-Gm-Message-State: AOJu0Yxb2afuAhDlDvBPa6IrQX47E59cxWLG14u9yPja0WWM5yAy0JvT H0T8tKxgW0Mci/oqAi6/1M2slWPsB1Njh6QjXhRgvN/iku0eB0wo3FeHZu/3YPKQyBjWL9FeWQf bKS1MvJj+Q0+vRrMV1zbLnWNeN566pagPwMeaUhwdF6ImwmqsZKfx4iuoUei+ X-Gm-Gg: ASbGncvBYA8KUq9tE3QK/jpqx6sVj3rBP11r0NgLvD5tsWoKjXwubMYRdN4KmWeFCui uLNPzxqbY4SIzzaQE7WYZ7ns3d/XgOAgg4hOFZI4oh5kWVfnDbCXdexeblNrmRPAWHendKGvd/i ncjn6O0qnZdjPQ1W81s3Qac0988ZtnAS57m+kJxiF+dzHE403suuQbLS1LOcs3Q9ezLG2rqTi9D zB7Rsx0XAPfDGOtlliELtqmtC14QYtdyZgduKX4wn2it8y8+BxmuVGaQXvvrjKwkk+OBovMGQaD t+/Fi0qqIbPh8+GXXpD+zs6CUr9EyR0oyWKA X-Google-Smtp-Source: AGHT+IH5Rlosox1ruDxHVrlCTh+GU8uG4eSJQ8fs1PoTtRZqTt7vLOSrqAD5ItoBoOOVXO6kBus4Pm9lF7XB X-Received: by 2002:a05:6e02:1489:b0:3d8:1d7c:e197 with SMTP id e9e14a558f8ab-3db842fe965mr216099765ab.7.1747832349629; Wed, 21 May 2025 05:59:09 -0700 (PDT) Received: from postal.iol.unh.edu (postal.iol.unh.edu. [2606:4100:3880:1234::84]) by smtp-relay.gmail.com with ESMTPS id e9e14a558f8ab-3dc7930a54fsm2201915ab.5.2025.05.21.05.59.09 (version=TLS1_2 cipher=ECDHE-ECDSA-AES128-GCM-SHA256 bits=128/128); Wed, 21 May 2025 05:59:09 -0700 (PDT) X-Relaying-Domain: iol.unh.edu Date: Wed, 21 May 2025 05:59:09 -0700 (PDT) Message-ID: <682dce1d.050a0220.1435d4.bddcSMTPIN_ADDED_MISSING@mx.google.com> Received: from [172.21.0.11] (unknown [172.18.0.240]) by postal.iol.unh.edu (Postfix) with ESMTP id 4175C6052471; Wed, 21 May 2025 08:59:09 -0400 (EDT) Subject: |SUCCESS| pw153550-153558 [PATCH] [v2,9/9] crypto/dpaa2_sec: add sup From: dpdklab@iol.unh.edu To: Test Report Cc: dpdk-test-reports@iol.unh.edu In-Reply-To: <20250521065658.857707-10-g.singh@nxp.com> References: <20250521065658.857707-10-g.singh@nxp.com> Content-Type: text/plain X-BeenThere: test-report@dpdk.org X-Mailman-Version: 2.1.29 Precedence: list List-Id: automatic DPDK test reports List-Unsubscribe: , List-Archive: List-Post: List-Help: List-Subscribe: , Errors-To: test-report-bounces@dpdk.org Test-Label: iol-unit-arm64-testing Test-Status: SUCCESS http://dpdk.org/patch/153558 _Testing PASS_ Submitter: Gagandeep Singh Date: Wednesday, May 21 2025 06:56:58 DPDK git baseline: Repo:dpdk Branch: master CommitID:117e86c4b96ed761e9a7ab766261208fe81bf5ca 153550-153558 --> testing pass Upstream job id: Generic-Unit-Test-DPDK#339535 Test environment and result as below: +-----------------------------+------------------------------+---------------------------+--------------+----------------+ | Environment | cryptodev_sw_snow3g_autotest | cryptodev_sw_zuc_autotest | lpm_autotest | dpdk_unit_test | +=============================+==============================+===========================+==============+================+ | Debian 12 (arm) | PASS | PASS | SKIPPED | PASS | +-----------------------------+------------------------------+---------------------------+--------------+----------------+ | Ubuntu 20.04 ARM SVE | SKIPPED | SKIPPED | PASS | SKIPPED | +-----------------------------+------------------------------+---------------------------+--------------+----------------+ | CentOS Stream 9 (ARM) | SKIPPED | SKIPPED | SKIPPED | PASS | +-----------------------------+------------------------------+---------------------------+--------------+----------------+ | CentOS Stream 10 (ARM) | SKIPPED | SKIPPED | SKIPPED | PASS | +-----------------------------+------------------------------+---------------------------+--------------+----------------+ | Fedora 40 (ARM Clang) | SKIPPED | SKIPPED | SKIPPED | PASS | +-----------------------------+------------------------------+---------------------------+--------------+----------------+ | Fedora 40 (ARM) | SKIPPED | SKIPPED | SKIPPED | PASS | +-----------------------------+------------------------------+---------------------------+--------------+----------------+ | Fedora 41 (ARM Clang) | SKIPPED | SKIPPED | SKIPPED | PASS | +-----------------------------+------------------------------+---------------------------+--------------+----------------+ | Fedora 41 (ARM) | SKIPPED | SKIPPED | SKIPPED | PASS | +-----------------------------+------------------------------+---------------------------+--------------+----------------+ | Ubuntu 20.04 (ARM) | SKIPPED | SKIPPED | SKIPPED | PASS | +-----------------------------+------------------------------+---------------------------+--------------+----------------+ | RHEL9 (ARM) | SKIPPED | SKIPPED | SKIPPED | PASS | +-----------------------------+------------------------------+---------------------------+--------------+----------------+ | Ubuntu 22.04 (ARM) | SKIPPED | SKIPPED | SKIPPED | PASS | +-----------------------------+------------------------------+---------------------------+--------------+----------------+ | Ubuntu 24.04 (ARM) | SKIPPED | SKIPPED | SKIPPED | PASS | +-----------------------------+------------------------------+---------------------------+--------------+----------------+ | 32-bit Ubuntu 22.04.4 (ARM) | SKIPPED | SKIPPED | SKIPPED | PASS | +-----------------------------+------------------------------+---------------------------+--------------+----------------+ Debian 12 (arm) Kernel: Depends on container host Compiler: gcc (Debian 12.2.0-14) 12.2.0 Ubuntu 20.04 ARM SVE Kernel: Depends on container host Compiler: gcc (Ubuntu 10.5.0-1ubuntu1~20.04) 10.5.0 CentOS Stream 9 (ARM) Kernel: Depends on container host Compiler: gcc 11.5.0 20240719 (Red Hat 11.5.0-2) CentOS Stream 10 (ARM) Kernel: Depends on container host Compiler: gcc 14.2.1 20241104 (Red Hat 14.2.1-6) Fedora 40 (ARM Clang) Kernel: Depends on container host Compiler: clang 18.1.8 (Fedora 18.1.8-1.fc40) Fedora 40 (ARM) Kernel: Depends on container host Compiler: gcc 14.2.1 20240912 (Red Hat 14.2.1-3) Fedora 41 (ARM Clang) Kernel: Depends on container host Compiler: clang 19.1.5 (Fedora 19.1.5-1.fc41) Fedora 41 (ARM) Kernel: Depends on container host Compiler: gcc 14.2.1 20240912 (Red Hat 14.2.1-3) Ubuntu 20.04 (ARM) Kernel: Depends on container host Compiler: gcc (Ubuntu 9.4.0-1ubuntu1~20.04.2) 9.4.0 RHEL9 (ARM) Kernel: Depends on container host Compiler: gcc 11.5.0 20240719 (Red Hat 11.5.0-2) Ubuntu 22.04 (ARM) Kernel: Depends on container host Compiler: gcc (Ubuntu 11.4.0-1ubuntu1~22.04) 11.4.0 Ubuntu 24.04 (ARM) Kernel: Depends on container host Compiler: gcc (Ubuntu 13.3.0-6ubuntu2~24.04) 13.3.0 32-bit Ubuntu 22.04.4 (ARM) Kernel: 5.15.83+ aarch64 Compiler: gcc (Ubuntu 11.4.0-1ubuntu1~22.04) 11.4.0 To view detailed results, visit: https://lab.dpdk.org/results/dashboard/patchsets/33218/ UNH-IOL DPDK Community Lab To manage your email subscriptions, visit: https://lab.dpdk.org/results/dashboard/preferences/subscriptions/