From mboxrd@z Thu Jan 1 00:00:00 1970 Return-Path: Received: from mails.dpdk.org (mails.dpdk.org [217.70.189.124]) by inbox.dpdk.org (Postfix) with ESMTP id 5BB35467AE for ; Wed, 21 May 2025 15:05:11 +0200 (CEST) Received: from mails.dpdk.org (localhost [127.0.0.1]) by mails.dpdk.org (Postfix) with ESMTP id 5684640144; Wed, 21 May 2025 15:05:11 +0200 (CEST) Received: from mail-qt1-f225.google.com (mail-qt1-f225.google.com [209.85.160.225]) by mails.dpdk.org (Postfix) with ESMTP id D7E65400EF for ; Wed, 21 May 2025 15:05:09 +0200 (CEST) Received: by mail-qt1-f225.google.com with SMTP id d75a77b69052e-47692b9d059so93560001cf.3 for ; Wed, 21 May 2025 06:05:09 -0700 (PDT) DKIM-Signature: v=1; a=rsa-sha256; c=relaxed/relaxed; d=iol.unh.edu; s=unh-iol; t=1747832709; x=1748437509; darn=dpdk.org; h=references:in-reply-to:cc:to:from:subject:message-id:date:from:to :cc:subject:date:message-id:reply-to; bh=LU6kVbTcsNQgc4rryKKYu6/kA1Ln/C149+y5M9I8QaQ=; b=D7CKdwRjqvTWBoGZ9zZwbBTbXx1g96PqmHynyyHj/TI8sh2TlJ/rUB8BsaIHXUNHj4 r5EHcPxK5DZV0QdBZWQy4H8rejB5Q2ljQmfhuU/Fxk+Q0PT1wR2EGURlgpE5Hh7L25lS zrgRr0umm7rt6aTr4dFM33/jUYkJ+FnYRB09c= X-Google-DKIM-Signature: v=1; a=rsa-sha256; c=relaxed/relaxed; d=1e100.net; s=20230601; t=1747832709; x=1748437509; h=references:in-reply-to:cc:to:from:subject:message-id:date :x-gm-message-state:from:to:cc:subject:date:message-id:reply-to; bh=LU6kVbTcsNQgc4rryKKYu6/kA1Ln/C149+y5M9I8QaQ=; b=ooBPwlY4VscubgN+19HIxZqztFq8XCugPd+5ERFSAiI4I0Vj+WB33dfYixPsshyh6B 1/UkKDiV6w+dbL7paooAzs36qA13CPRPz3jtqGbdneQ/QKn2sXUNfhUXHoNgvmVtWX79 FChm4KAaV6ud1/wbRFAvhwugf1e2LWRGDr4N8elosh4JZeffD3VnuXpvzLUZibzFAs0S FcA1Bjd8Rse+ubF10IQubkJoc5BZqNelfAO0zbgR20+I9xi8H/JwqAhwrHTZjE7xaBkd rZZnZDHor1w66qbfJm2NkCOowV3clqT3rD6bep1GgAq2Uf2R3Z8eE52xvGvLC8A/mHcs +ZBA== X-Gm-Message-State: AOJu0Yzhe3Tm9fiIXTQrVjAW3Ix1ps744Btxco8w9D37G2HYMrnjQ1eB dyRfcW5FE3p3peV2IW3mzXzD6XsschqpR1Lb2osOctc1scmnQiVPf3SPLHl4irmCkFwkjZWb7xR hbYAzgSTRG5J7rOQuPgJO23JcJnFrkPO+dNSRnAVh3jTQmgsiQDs26j8fY3qa X-Gm-Gg: ASbGncvv8y2lr8OqhD7EkzoBYcLTPv/tSr3M88tvacyQus18WP5bZxR6fvk8EFprfFu HMlg6phploylHORgJdebPX+tKZabBNDEQnw59v+vbVWsAtOgWmYT/REFFd3Bu+vJWEJx0AZpOMF UVPQADg8VFRK8YNLjARwp9d+M55WFn9/3mOaN2DV7ZWlkZfBd0N96EnzPkmblnIPccTkCg7EI0j waytmsFRCEhEjr1/uDs2yMhXBowaBk2eT+qi45kcKldZ9kYj7xHltBqgfoEDEQBjKLgBnyIBaxO jhtMDg53pv5jh4VhQYpv/AL6e4KReGT3L+Gn X-Google-Smtp-Source: AGHT+IHeocn2wKMnnvcWxfJKg/111buMah0gTfL8lU2JcXx8OOzuv3VYOyfaznmOxlUaqQ8SpQuhyeD7/MIP X-Received: by 2002:a05:6e02:3b05:b0:3dc:5be8:9695 with SMTP id e9e14a558f8ab-3dc5be896a5mr116960605ab.3.1747832697272; Wed, 21 May 2025 06:04:57 -0700 (PDT) Received: from postal.iol.unh.edu (postal.iol.unh.edu. [2606:4100:3880:1234::84]) by smtp-relay.gmail.com with ESMTPS id e9e14a558f8ab-3dc827771b7sm931835ab.43.2025.05.21.06.04.57 (version=TLS1_2 cipher=ECDHE-ECDSA-AES128-GCM-SHA256 bits=128/128); Wed, 21 May 2025 06:04:57 -0700 (PDT) X-Relaying-Domain: iol.unh.edu Date: Wed, 21 May 2025 06:04:57 -0700 (PDT) Message-ID: <682dcf79.050a0220.22b274.4fa1SMTPIN_ADDED_MISSING@mx.google.com> Received: from [172.21.0.6] (unknown [172.18.0.240]) by postal.iol.unh.edu (Postfix) with ESMTP id C31376052471; Wed, 21 May 2025 09:04:56 -0400 (EDT) Subject: |WARNING| pw153559 [PATCH] examples/flow_filtering: add re-route to From: dpdklab@iol.unh.edu To: Test Report Cc: dpdk-test-reports@iol.unh.edu In-Reply-To: <20250521072736.141817-1-shperetz@nvidia.com> References: <20250521072736.141817-1-shperetz@nvidia.com> Content-Type: text/plain X-BeenThere: test-report@dpdk.org X-Mailman-Version: 2.1.29 Precedence: list List-Id: automatic DPDK test reports List-Unsubscribe: , List-Archive: List-Post: List-Help: List-Subscribe: , Errors-To: test-report-bounces@dpdk.org Test-Label: iol-compile-amd64-testing Test-Status: WARNING http://dpdk.org/patch/153559 _Testing issues_ Submitter: Shani Peretz Date: Wednesday, May 21 2025 07:27:36 DPDK git baseline: Repo:dpdk Branch: master CommitID:117e86c4b96ed761e9a7ab766261208fe81bf5ca 153559 --> testing issues Upstream job id: Generic-DPDK-Compile-Meson#389974 Test environment and result as below: +-----------------------------------+--------------------+-------------------+------------------+-------------------+-------------------------+----------------------+ | Environment | dpdk_meson_compile | dpdk_compile_spdk | dpdk_compile_ovs | dpdk_msvc_compile | dpdk_llvm_clang_compile | dpdk_mingw64_compile | +===================================+====================+===================+==================+===================+=========================+======================+ | CentOS Stream 9 | PASS | PASS | SKIPPED | SKIPPED | SKIPPED | SKIPPED | +-----------------------------------+--------------------+-------------------+------------------+-------------------+-------------------------+----------------------+ | CentOS Stream 10 | PASS | SKIPPED | SKIPPED | SKIPPED | SKIPPED | SKIPPED | +-----------------------------------+--------------------+-------------------+------------------+-------------------+-------------------------+----------------------+ | Debian 12 | PASS | PASS | SKIPPED | SKIPPED | SKIPPED | SKIPPED | +-----------------------------------+--------------------+-------------------+------------------+-------------------+-------------------------+----------------------+ | Fedora 40 (Clang) | PASS | WARN | SKIPPED | SKIPPED | SKIPPED | SKIPPED | +-----------------------------------+--------------------+-------------------+------------------+-------------------+-------------------------+----------------------+ | openSUSE Leap 15 | PASS | SKIPPED | SKIPPED | SKIPPED | SKIPPED | SKIPPED | +-----------------------------------+--------------------+-------------------+------------------+-------------------+-------------------------+----------------------+ | RHEL8 | PASS | SKIPPED | SKIPPED | SKIPPED | SKIPPED | SKIPPED | +-----------------------------------+--------------------+-------------------+------------------+-------------------+-------------------------+----------------------+ | Fedora 41 (Clang) | PEND | PEND | PEND | SKIPPED | SKIPPED | SKIPPED | +-----------------------------------+--------------------+-------------------+------------------+-------------------+-------------------------+----------------------+ | Fedora 40 | PASS | PASS | SKIPPED | SKIPPED | SKIPPED | SKIPPED | +-----------------------------------+--------------------+-------------------+------------------+-------------------+-------------------------+----------------------+ | Fedora 41 | PASS | PASS | PASS | SKIPPED | SKIPPED | SKIPPED | +-----------------------------------+--------------------+-------------------+------------------+-------------------+-------------------------+----------------------+ | RHEL9 | PASS | SKIPPED | SKIPPED | SKIPPED | SKIPPED | SKIPPED | +-----------------------------------+--------------------+-------------------+------------------+-------------------+-------------------------+----------------------+ | Ubuntu 20.04 | PASS | SKIPPED | SKIPPED | SKIPPED | SKIPPED | SKIPPED | +-----------------------------------+--------------------+-------------------+------------------+-------------------+-------------------------+----------------------+ | Ubuntu 22.04 | PASS | PASS | SKIPPED | SKIPPED | SKIPPED | SKIPPED | +-----------------------------------+--------------------+-------------------+------------------+-------------------+-------------------------+----------------------+ | Ubuntu 24.04 | PASS | PASS | PASS | SKIPPED | SKIPPED | SKIPPED | +-----------------------------------+--------------------+-------------------+------------------+-------------------+-------------------------+----------------------+ | Alpine | PASS | SKIPPED | SKIPPED | SKIPPED | SKIPPED | SKIPPED | +-----------------------------------+--------------------+-------------------+------------------+-------------------+-------------------------+----------------------+ | Ubuntu 24.04 32 Bit Cross Compile | PASS | SKIPPED | SKIPPED | SKIPPED | SKIPPED | SKIPPED | +-----------------------------------+--------------------+-------------------+------------------+-------------------+-------------------------+----------------------+ | FreeBSD 13.5 | PASS | SKIPPED | SKIPPED | SKIPPED | SKIPPED | SKIPPED | +-----------------------------------+--------------------+-------------------+------------------+-------------------+-------------------------+----------------------+ | FreeBSD 14.2 | PASS | SKIPPED | SKIPPED | SKIPPED | SKIPPED | SKIPPED | +-----------------------------------+--------------------+-------------------+------------------+-------------------+-------------------------+----------------------+ | Windows Server 2022 | SKIPPED | SKIPPED | SKIPPED | PASS | PASS | PASS | +-----------------------------------+--------------------+-------------------+------------------+-------------------+-------------------------+----------------------+ ==== 20 line log output for Fedora 40 (Clang) (dpdk_compile_spdk): ==== --- Failed to get log output --- ==== End log output ==== CentOS Stream 9 Kernel: Depends on container host Compiler: gcc 11.5.0 20240719 (Red Hat 11.5.0-2) CentOS Stream 10 Kernel: Depends on container host Compiler: gcc 14.2.1 20241104 (Red Hat 14.2.1-6) Debian 12 Kernel: Depends on container host Compiler: gcc (Debian 12.2.0-14) 12.2.0 Fedora 40 (Clang) Kernel: Depends on container host Compiler: clang 18.1.8 (Fedora 18.1.8-1.fc40) openSUSE Leap 15 Kernel: Depends on container host Compiler: gcc (SUSE Linux) 7.5.0 RHEL8 Kernel: Depends on container host Compiler: gcc 8.5.0 20210514 (Red Hat 8.5.0-22) Fedora 41 (Clang) Kernel: Depends on container host Compiler: clang 19.1.5 (Fedora 19.1.5-1.fc41) Fedora 40 Kernel: Depends on container host Compiler: gcc 14.2.1 20240912 (Red Hat 14.2.1-3) Fedora 41 Kernel: Depends on container host Compiler: gcc 14.2.1 20240912 (Red Hat 14.2.1-3) RHEL9 Kernel: Depends on container host Compiler: gcc 11.5.0 20240719 (Red Hat 11.5.0-2) Ubuntu 20.04 Kernel: Depends on container host Compiler: gcc (Ubuntu 9.4.0-1ubuntu1~20.04.2) 9.4.0 Ubuntu 22.04 Kernel: Depends on container host Compiler: gcc (Ubuntu 11.4.0-1ubuntu1~22.04) 11.4.0 Ubuntu 24.04 Kernel: Depends on container host Compiler: gcc (Ubuntu 13.3.0-6ubuntu2~24.04) 13.3.0 Alpine Kernel: Depends on container host Compiler: gcc (Alpine 14.2.0) 14.2.0 Ubuntu 24.04 32 Bit Cross Compile Kernel: Depends on container host Compiler: gcc (Ubuntu 13.3.0-6ubuntu2~24.04) 13.3.0 FreeBSD 13.5 Kernel: 13.5-RELEASE Compiler: clang 19.1.7 FreeBSD 14.2 Kernel: 14.2-RELEASE Compiler: clang 18.1.6 Windows Server 2022 Kernel: 10.0.20348.2031 Compiler: clang 15.0.7, gcc 14.1.0 (MinGW), and MSVC VS 19.39.33521 To view detailed results, visit: https://lab.dpdk.org/results/dashboard/patchsets/33219/ UNH-IOL DPDK Community Lab To manage your email subscriptions, visit: https://lab.dpdk.org/results/dashboard/preferences/subscriptions/