From mboxrd@z Thu Jan 1 00:00:00 1970 Return-Path: Received: from mails.dpdk.org (mails.dpdk.org [217.70.189.124]) by inbox.dpdk.org (Postfix) with ESMTP id 52672467AE for ; Wed, 21 May 2025 15:05:06 +0200 (CEST) Received: from mails.dpdk.org (localhost [127.0.0.1]) by mails.dpdk.org (Postfix) with ESMTP id 4B5CF40144; Wed, 21 May 2025 15:05:06 +0200 (CEST) Received: from mail-yw1-f226.google.com (mail-yw1-f226.google.com [209.85.128.226]) by mails.dpdk.org (Postfix) with ESMTP id 38508400EF for ; Wed, 21 May 2025 15:05:05 +0200 (CEST) Received: by mail-yw1-f226.google.com with SMTP id 00721157ae682-70cb6744e1eso44575487b3.3 for ; Wed, 21 May 2025 06:05:05 -0700 (PDT) DKIM-Signature: v=1; a=rsa-sha256; c=relaxed/relaxed; d=iol.unh.edu; s=unh-iol; t=1747832704; x=1748437504; darn=dpdk.org; h=references:in-reply-to:cc:to:from:subject:message-id:date:from:to :cc:subject:date:message-id:reply-to; bh=e8zfd73V/eYMPK5y41w+jULWepZ4CRykSpd8v9bC6RU=; b=BmCqUxla4Dr1GA/+ZvZEj2z8fgmjXGXN5CMQEYKRnBTAGwZEYjCqb1GOMMbM71Hs3H OSIE0vhcVDs3Hg1iJvzmKQzWlfPJjnrNUsXyY3+4R4JpbWs9Dcz8zQrZXwLrqTWMSL5C vjqX1meqH9OiaFxU07ErRi9Ik7ZOpF+FEoIl0= X-Google-DKIM-Signature: v=1; a=rsa-sha256; c=relaxed/relaxed; d=1e100.net; s=20230601; t=1747832704; x=1748437504; h=references:in-reply-to:cc:to:from:subject:message-id:date :x-gm-message-state:from:to:cc:subject:date:message-id:reply-to; bh=e8zfd73V/eYMPK5y41w+jULWepZ4CRykSpd8v9bC6RU=; b=YWWbldHVGRyJ6c8xVFQKHn423pZoAZpbjcqBfM1dao/UKXFVFCZgo0yhk+DcBM4/bK cPucIGJWwRku5o7EPgxjXIx5Woeb6nAl7uJPHiZNQS8GfoNsfPGq68DBTbaP5HIkO7f7 wANhZJT5wTyz0PLVPZLV0IMH9/SP1wBDrrt6N+uSFHDZhgJuVJlUYY9VNc7vMLb4JZ6c f45sflrEsGMCHFMa3vt38454avhoho4ch+8L0dSHn43+Pb29xjxCGGghhyeEI6PG/5sB mor6J41tOJZoi7tAWmBjRXo37K0SS3Cz+c2KcGoeSRpxH0MYz4HlipQcXARelxVR4Mn+ VLFA== X-Gm-Message-State: AOJu0YwvLVNFRwpSDEmsqtHwuapzfBZeu4MECbVQfLML8pZBHHcIzOYF HXYRW5xQU2t3QKbti5heCChakJbBH3FDFg736f8vHjVXdJ+DlE6OZ73b8MeQC7k6uS/FK0bHH1E aY0VtT/Ki4xKloUuWydJAwsqNbFyWz5JqyXrpNg/s//1f X-Gm-Gg: ASbGncu5MtL0jC9/JeQV9Ws677S6jBPvkRWfeOshFY72JaJlE+YvzT42xedwfpBbQaU Lwso33w/44CCdUkbddKFxOgMjfAXdD+izRGgJX4d3hfHv1VSpcrLAd4dhVV3T+XtumERKQbKm2j yiVszcTjLfnskKypCWsp6CRMtuQVUXTnfZ03iIpPv3FHMb9b4ZSVeHSCQaPiXA5pA5FVQmfhhTi YiZUzaTyLVxAzDNnlwF+Af5ZgTbVz+UacULqXJB7qMimSyZaWG3dNRgZkirUVBLBBC+mPeyr6NQ DlbYpwrt5ku+jnW8MYkJErls4JyH+Fbn64iSkgLkAKNlzgYjeelepvicTaw= X-Google-Smtp-Source: AGHT+IHVcjRHKE8/XIoNwyt2xNiKUakwlNSVuEfJOxeXf5fWrSsiE/VKWza5cum6VDYlHvDvZrvzzxyuwmTp X-Received: by 2002:a05:690c:316:b0:709:6f9d:b566 with SMTP id 00721157ae682-70ca7bc6b82mr281721587b3.36.1747832704534; Wed, 21 May 2025 06:05:04 -0700 (PDT) Received: from postal.iol.unh.edu (postal.iol.unh.edu. [132.177.123.84]) by smtp-relay.gmail.com with ESMTPS id 00721157ae682-70df754aca8sm246237b3.42.2025.05.21.06.05.04 (version=TLS1_2 cipher=ECDHE-ECDSA-AES128-GCM-SHA256 bits=128/128); Wed, 21 May 2025 06:05:04 -0700 (PDT) X-Relaying-Domain: iol.unh.edu Date: Wed, 21 May 2025 06:05:04 -0700 (PDT) Message-ID: <682dcf80.050a0220.21271c.133fSMTPIN_ADDED_MISSING@mx.google.com> Received: from [172.21.0.7] (unknown [172.18.0.240]) by postal.iol.unh.edu (Postfix) with ESMTP id 1AE446052471; Wed, 21 May 2025 09:05:04 -0400 (EDT) Subject: |WARNING| pw153559 [PATCH] examples/flow_filtering: add re-route to From: dpdklab@iol.unh.edu To: Test Report Cc: dpdk-test-reports@iol.unh.edu In-Reply-To: <20250521072736.141817-1-shperetz@nvidia.com> References: <20250521072736.141817-1-shperetz@nvidia.com> Content-Type: text/plain X-BeenThere: test-report@dpdk.org X-Mailman-Version: 2.1.29 Precedence: list List-Id: automatic DPDK test reports List-Unsubscribe: , List-Archive: List-Post: List-Help: List-Subscribe: , Errors-To: test-report-bounces@dpdk.org Test-Label: iol-compile-amd64-testing Test-Status: WARNING http://dpdk.org/patch/153559 _Testing issues_ Submitter: Shani Peretz Date: Wednesday, May 21 2025 07:27:36 DPDK git baseline: Repo:dpdk Branch: master CommitID:117e86c4b96ed761e9a7ab766261208fe81bf5ca 153559 --> testing issues Upstream job id: Generic-DPDK-Compile-Meson#389971 Test environment and result as below: +-----------------------------------+--------------------+-------------------+------------------+-------------------+-------------------------+----------------------+ | Environment | dpdk_meson_compile | dpdk_compile_spdk | dpdk_compile_ovs | dpdk_msvc_compile | dpdk_llvm_clang_compile | dpdk_mingw64_compile | +===================================+====================+===================+==================+===================+=========================+======================+ | CentOS Stream 9 | PASS | PASS | SKIPPED | SKIPPED | SKIPPED | SKIPPED | +-----------------------------------+--------------------+-------------------+------------------+-------------------+-------------------------+----------------------+ | CentOS Stream 10 | PASS | SKIPPED | SKIPPED | SKIPPED | SKIPPED | SKIPPED | +-----------------------------------+--------------------+-------------------+------------------+-------------------+-------------------------+----------------------+ | Debian 12 | PASS | PASS | SKIPPED | SKIPPED | SKIPPED | SKIPPED | +-----------------------------------+--------------------+-------------------+------------------+-------------------+-------------------------+----------------------+ | Fedora 40 (Clang) | PASS | WARN | SKIPPED | SKIPPED | SKIPPED | SKIPPED | +-----------------------------------+--------------------+-------------------+------------------+-------------------+-------------------------+----------------------+ | openSUSE Leap 15 | PASS | SKIPPED | SKIPPED | SKIPPED | SKIPPED | SKIPPED | +-----------------------------------+--------------------+-------------------+------------------+-------------------+-------------------------+----------------------+ | RHEL8 | PASS | SKIPPED | SKIPPED | SKIPPED | SKIPPED | SKIPPED | +-----------------------------------+--------------------+-------------------+------------------+-------------------+-------------------------+----------------------+ | Fedora 41 (Clang) | PEND | PEND | PEND | SKIPPED | SKIPPED | SKIPPED | +-----------------------------------+--------------------+-------------------+------------------+-------------------+-------------------------+----------------------+ | Fedora 40 | PASS | PASS | SKIPPED | SKIPPED | SKIPPED | SKIPPED | +-----------------------------------+--------------------+-------------------+------------------+-------------------+-------------------------+----------------------+ | Fedora 41 | PASS | PASS | PASS | SKIPPED | SKIPPED | SKIPPED | +-----------------------------------+--------------------+-------------------+------------------+-------------------+-------------------------+----------------------+ | RHEL9 | PASS | SKIPPED | SKIPPED | SKIPPED | SKIPPED | SKIPPED | +-----------------------------------+--------------------+-------------------+------------------+-------------------+-------------------------+----------------------+ | Ubuntu 20.04 | PASS | SKIPPED | SKIPPED | SKIPPED | SKIPPED | SKIPPED | +-----------------------------------+--------------------+-------------------+------------------+-------------------+-------------------------+----------------------+ | Ubuntu 22.04 | PASS | PASS | SKIPPED | SKIPPED | SKIPPED | SKIPPED | +-----------------------------------+--------------------+-------------------+------------------+-------------------+-------------------------+----------------------+ | Ubuntu 24.04 | PASS | PASS | PASS | SKIPPED | SKIPPED | SKIPPED | +-----------------------------------+--------------------+-------------------+------------------+-------------------+-------------------------+----------------------+ | Alpine | PASS | SKIPPED | SKIPPED | SKIPPED | SKIPPED | SKIPPED | +-----------------------------------+--------------------+-------------------+------------------+-------------------+-------------------------+----------------------+ | Ubuntu 24.04 32 Bit Cross Compile | PASS | SKIPPED | SKIPPED | SKIPPED | SKIPPED | SKIPPED | +-----------------------------------+--------------------+-------------------+------------------+-------------------+-------------------------+----------------------+ | FreeBSD 13.5 | PASS | SKIPPED | SKIPPED | SKIPPED | SKIPPED | SKIPPED | +-----------------------------------+--------------------+-------------------+------------------+-------------------+-------------------------+----------------------+ | FreeBSD 14.2 | PASS | SKIPPED | SKIPPED | SKIPPED | SKIPPED | SKIPPED | +-----------------------------------+--------------------+-------------------+------------------+-------------------+-------------------------+----------------------+ | Windows Server 2022 | SKIPPED | SKIPPED | SKIPPED | PASS | PASS | PASS | +-----------------------------------+--------------------+-------------------+------------------+-------------------+-------------------------+----------------------+ ==== 20 line log output for Fedora 40 (Clang) (dpdk_compile_spdk): ==== --- Failed to get log output --- ==== End log output ==== CentOS Stream 9 Kernel: Depends on container host Compiler: gcc 11.5.0 20240719 (Red Hat 11.5.0-2) CentOS Stream 10 Kernel: Depends on container host Compiler: gcc 14.2.1 20241104 (Red Hat 14.2.1-6) Debian 12 Kernel: Depends on container host Compiler: gcc (Debian 12.2.0-14) 12.2.0 Fedora 40 (Clang) Kernel: Depends on container host Compiler: clang 18.1.8 (Fedora 18.1.8-1.fc40) openSUSE Leap 15 Kernel: Depends on container host Compiler: gcc (SUSE Linux) 7.5.0 RHEL8 Kernel: Depends on container host Compiler: gcc 8.5.0 20210514 (Red Hat 8.5.0-22) Fedora 41 (Clang) Kernel: Depends on container host Compiler: clang 19.1.5 (Fedora 19.1.5-1.fc41) Fedora 40 Kernel: Depends on container host Compiler: gcc 14.2.1 20240912 (Red Hat 14.2.1-3) Fedora 41 Kernel: Depends on container host Compiler: gcc 14.2.1 20240912 (Red Hat 14.2.1-3) RHEL9 Kernel: Depends on container host Compiler: gcc 11.5.0 20240719 (Red Hat 11.5.0-2) Ubuntu 20.04 Kernel: Depends on container host Compiler: gcc (Ubuntu 9.4.0-1ubuntu1~20.04.2) 9.4.0 Ubuntu 22.04 Kernel: Depends on container host Compiler: gcc (Ubuntu 11.4.0-1ubuntu1~22.04) 11.4.0 Ubuntu 24.04 Kernel: Depends on container host Compiler: gcc (Ubuntu 13.3.0-6ubuntu2~24.04) 13.3.0 Alpine Kernel: Depends on container host Compiler: gcc (Alpine 14.2.0) 14.2.0 Ubuntu 24.04 32 Bit Cross Compile Kernel: Depends on container host Compiler: gcc (Ubuntu 13.3.0-6ubuntu2~24.04) 13.3.0 FreeBSD 13.5 Kernel: 13.5-RELEASE Compiler: clang 19.1.7 FreeBSD 14.2 Kernel: 14.2-RELEASE Compiler: clang 18.1.6 Windows Server 2022 Kernel: 10.0.20348.2031 Compiler: clang 15.0.7, gcc 14.1.0 (MinGW), and MSVC VS 19.39.33521 To view detailed results, visit: https://lab.dpdk.org/results/dashboard/patchsets/33219/ UNH-IOL DPDK Community Lab To manage your email subscriptions, visit: https://lab.dpdk.org/results/dashboard/preferences/subscriptions/