From mboxrd@z Thu Jan 1 00:00:00 1970 Return-Path: Received: from mails.dpdk.org (mails.dpdk.org [217.70.189.124]) by inbox.dpdk.org (Postfix) with ESMTP id D82C3467AE for ; Wed, 21 May 2025 15:14:20 +0200 (CEST) Received: from mails.dpdk.org (localhost [127.0.0.1]) by mails.dpdk.org (Postfix) with ESMTP id AE888427D5; Wed, 21 May 2025 15:14:20 +0200 (CEST) Received: from mail-il1-f226.google.com (mail-il1-f226.google.com [209.85.166.226]) by mails.dpdk.org (Postfix) with ESMTP id D2487400EF for ; Wed, 21 May 2025 15:14:18 +0200 (CEST) Received: by mail-il1-f226.google.com with SMTP id e9e14a558f8ab-3dc7ffeb9b8so6155195ab.2 for ; Wed, 21 May 2025 06:14:18 -0700 (PDT) DKIM-Signature: v=1; a=rsa-sha256; c=relaxed/relaxed; d=iol.unh.edu; s=unh-iol; t=1747833258; x=1748438058; darn=dpdk.org; h=references:in-reply-to:cc:to:from:subject:message-id:date:from:to :cc:subject:date:message-id:reply-to; bh=jbFiYcQDe5Ikts4NKy84vHXyW20ekUP8jv/pflWa9Y8=; b=jyDOvLLNI5xZK+HRIS/ZZ32BDz1C1/HpsA3powdlkQT1wCbdpMx8fnD6nUOZzZw7l/ cbYIy1MLD1aPZE4l45nPYq87QIWkM2OcTYjm+71pwojDrmRXVMRaffNadhNDc/2WSFbC dypjVYUAUCFPK7JKV9SlUiQzBusS3oXXMOyfY= X-Google-DKIM-Signature: v=1; a=rsa-sha256; c=relaxed/relaxed; d=1e100.net; s=20230601; t=1747833258; x=1748438058; h=references:in-reply-to:cc:to:from:subject:message-id:date :x-gm-message-state:from:to:cc:subject:date:message-id:reply-to; bh=jbFiYcQDe5Ikts4NKy84vHXyW20ekUP8jv/pflWa9Y8=; b=eVNV1mtWPjDClAPCDJBRPoZ4NV4rjGIaMPkIbSpI2UduB6fhKjSe31byUBRaVqnElV 6p411orCI6TApIutl0qh/2u6nCm3xwuFf2Ef2OC/3LywmB4YF2gzinesGWxMKG0vn5lP 8CNPXaaOr8YTBLd5PUWLlOLj7sr12loSq/S59xSJ5nLpW1PiULrN0nTnpq3sj6MoB9Rs 1u92FPulewPe9Ij7H3SLMirKYoVP3tNvPU71F9Chw1ymeuHK9a1si6dXJi71+dE/mEjn ZaIQQQlowtvlSygdNE937HxAv3ZCj+RHjzIVKtSu84xPHKRFAF6Bwji64OWqtzLvaY+l oBcw== X-Gm-Message-State: AOJu0Yw94f8Rjvlx23S1Jb5eH/w+FHVGIPyaWg1GhRtw1kig9A2Wj10D lD1fl0igkH4lzFuGPnDEkb6SwldeLVTF7vSbw8kpMDmCMpyRsVG4IuPyEyT76BLQNVJmQ5mPLlz KA1rMytVNtNm2diuSvjjHErzf4B1+53spAbkPX/oh+i8IIDQTSUfs1myvDJO3 X-Gm-Gg: ASbGncssGUS/acryO3RSeOPAWMXECeYTK7P03HRklYNWylzE3ClZwUUA44i23xxjk1L D8yIiqMSFlwYyQPefCxQH8BgaU4hkACFOKFOUNxt1iAaNG0XTita337BBvG9m6XWOIKtTKBhHFs rJipxgGam+UQH0eanI6lcVmjUPSfjJeXve76a+nMC5HtxwA48AF/N2UmcUPjuxHeCcAnXv3nGsG 7snmVaRWHw+JtJxC4waz2ehTZKCMWkl22n1riu4GgIGqy8l2cn/XvDo9RLB1UenwwQYMWjVUs/T k+V9e59ZOnLFURw14BPOVHT5MWt//RPbUu1C X-Google-Smtp-Source: AGHT+IHn0VEJL8b3uPTcTNBkOoGDch3ysUzXyi14UTCK0Jcv/NQArkuAFxzvKSsLQBLstJP0dqZwBjwjlj7h X-Received: by 2002:a05:6e02:380c:b0:3dc:7df8:c830 with SMTP id e9e14a558f8ab-3dc7df8cfd2mr57047025ab.7.1747833258074; Wed, 21 May 2025 06:14:18 -0700 (PDT) Received: from postal.iol.unh.edu (postal.iol.unh.edu. [2606:4100:3880:1234::84]) by smtp-relay.gmail.com with ESMTPS id e9e14a558f8ab-3db84435b61sm5337945ab.42.2025.05.21.06.14.17 (version=TLS1_2 cipher=ECDHE-ECDSA-AES128-GCM-SHA256 bits=128/128); Wed, 21 May 2025 06:14:18 -0700 (PDT) X-Relaying-Domain: iol.unh.edu Date: Wed, 21 May 2025 06:14:18 -0700 (PDT) Message-ID: <682dd1aa.050a0220.30272a.c211SMTPIN_ADDED_MISSING@mx.google.com> Received: from [172.21.0.5] (unknown [172.18.0.240]) by postal.iol.unh.edu (Postfix) with ESMTP id A114C6052471; Wed, 21 May 2025 09:14:17 -0400 (EDT) Subject: |WARNING| pw153559 [PATCH] examples/flow_filtering: add re-route to From: dpdklab@iol.unh.edu To: Test Report Cc: dpdk-test-reports@iol.unh.edu In-Reply-To: <20250521072736.141817-1-shperetz@nvidia.com> References: <20250521072736.141817-1-shperetz@nvidia.com> Content-Type: text/plain X-BeenThere: test-report@dpdk.org X-Mailman-Version: 2.1.29 Precedence: list List-Id: automatic DPDK test reports List-Unsubscribe: , List-Archive: List-Post: List-Help: List-Subscribe: , Errors-To: test-report-bounces@dpdk.org Test-Label: iol-compile-amd64-testing Test-Status: WARNING http://dpdk.org/patch/153559 _Testing issues_ Submitter: Shani Peretz Date: Wednesday, May 21 2025 07:27:36 DPDK git baseline: Repo:dpdk Branch: master CommitID:117e86c4b96ed761e9a7ab766261208fe81bf5ca 153559 --> testing issues Upstream job id: Generic-DPDK-Compile-Meson#389965 Test environment and result as below: +-----------------------------------+--------------------+-------------------+------------------+-------------------+-------------------------+----------------------+ | Environment | dpdk_meson_compile | dpdk_compile_spdk | dpdk_compile_ovs | dpdk_msvc_compile | dpdk_llvm_clang_compile | dpdk_mingw64_compile | +===================================+====================+===================+==================+===================+=========================+======================+ | CentOS Stream 9 | PASS | PASS | SKIPPED | SKIPPED | SKIPPED | SKIPPED | +-----------------------------------+--------------------+-------------------+------------------+-------------------+-------------------------+----------------------+ | CentOS Stream 10 | PASS | SKIPPED | SKIPPED | SKIPPED | SKIPPED | SKIPPED | +-----------------------------------+--------------------+-------------------+------------------+-------------------+-------------------------+----------------------+ | Debian 12 | PASS | PASS | SKIPPED | SKIPPED | SKIPPED | SKIPPED | +-----------------------------------+--------------------+-------------------+------------------+-------------------+-------------------------+----------------------+ | Fedora 40 (Clang) | PASS | WARN | SKIPPED | SKIPPED | SKIPPED | SKIPPED | +-----------------------------------+--------------------+-------------------+------------------+-------------------+-------------------------+----------------------+ | openSUSE Leap 15 | PASS | SKIPPED | SKIPPED | SKIPPED | SKIPPED | SKIPPED | +-----------------------------------+--------------------+-------------------+------------------+-------------------+-------------------------+----------------------+ | RHEL8 | PASS | SKIPPED | SKIPPED | SKIPPED | SKIPPED | SKIPPED | +-----------------------------------+--------------------+-------------------+------------------+-------------------+-------------------------+----------------------+ | Fedora 41 (Clang) | PASS | WARN | PASS | SKIPPED | SKIPPED | SKIPPED | +-----------------------------------+--------------------+-------------------+------------------+-------------------+-------------------------+----------------------+ | Fedora 40 | PASS | PASS | SKIPPED | SKIPPED | SKIPPED | SKIPPED | +-----------------------------------+--------------------+-------------------+------------------+-------------------+-------------------------+----------------------+ | Fedora 41 | PASS | PASS | PASS | SKIPPED | SKIPPED | SKIPPED | +-----------------------------------+--------------------+-------------------+------------------+-------------------+-------------------------+----------------------+ | RHEL9 | PASS | SKIPPED | SKIPPED | SKIPPED | SKIPPED | SKIPPED | +-----------------------------------+--------------------+-------------------+------------------+-------------------+-------------------------+----------------------+ | Ubuntu 20.04 | PASS | SKIPPED | SKIPPED | SKIPPED | SKIPPED | SKIPPED | +-----------------------------------+--------------------+-------------------+------------------+-------------------+-------------------------+----------------------+ | Ubuntu 22.04 | PASS | PASS | SKIPPED | SKIPPED | SKIPPED | SKIPPED | +-----------------------------------+--------------------+-------------------+------------------+-------------------+-------------------------+----------------------+ | Ubuntu 24.04 | PASS | PASS | PASS | SKIPPED | SKIPPED | SKIPPED | +-----------------------------------+--------------------+-------------------+------------------+-------------------+-------------------------+----------------------+ | Alpine | PASS | SKIPPED | SKIPPED | SKIPPED | SKIPPED | SKIPPED | +-----------------------------------+--------------------+-------------------+------------------+-------------------+-------------------------+----------------------+ | Ubuntu 24.04 32 Bit Cross Compile | PASS | SKIPPED | SKIPPED | SKIPPED | SKIPPED | SKIPPED | +-----------------------------------+--------------------+-------------------+------------------+-------------------+-------------------------+----------------------+ | FreeBSD 13.5 | PASS | SKIPPED | SKIPPED | SKIPPED | SKIPPED | SKIPPED | +-----------------------------------+--------------------+-------------------+------------------+-------------------+-------------------------+----------------------+ | FreeBSD 14.2 | PASS | SKIPPED | SKIPPED | SKIPPED | SKIPPED | SKIPPED | +-----------------------------------+--------------------+-------------------+------------------+-------------------+-------------------------+----------------------+ | Windows Server 2022 | SKIPPED | SKIPPED | SKIPPED | PASS | PASS | PASS | +-----------------------------------+--------------------+-------------------+------------------+-------------------+-------------------------+----------------------+ ==== 20 line log output for Fedora 41 (Clang) (dpdk_compile_spdk): ==== --- Failed to get log output --- ==== End log output ==== CentOS Stream 9 Kernel: Depends on container host Compiler: gcc 11.5.0 20240719 (Red Hat 11.5.0-2) CentOS Stream 10 Kernel: Depends on container host Compiler: gcc 14.2.1 20241104 (Red Hat 14.2.1-6) Debian 12 Kernel: Depends on container host Compiler: gcc (Debian 12.2.0-14) 12.2.0 Fedora 40 (Clang) Kernel: Depends on container host Compiler: clang 18.1.8 (Fedora 18.1.8-1.fc40) openSUSE Leap 15 Kernel: Depends on container host Compiler: gcc (SUSE Linux) 7.5.0 RHEL8 Kernel: Depends on container host Compiler: gcc 8.5.0 20210514 (Red Hat 8.5.0-22) Fedora 41 (Clang) Kernel: Depends on container host Compiler: clang 19.1.5 (Fedora 19.1.5-1.fc41) Fedora 40 Kernel: Depends on container host Compiler: gcc 14.2.1 20240912 (Red Hat 14.2.1-3) Fedora 41 Kernel: Depends on container host Compiler: gcc 14.2.1 20240912 (Red Hat 14.2.1-3) RHEL9 Kernel: Depends on container host Compiler: gcc 11.5.0 20240719 (Red Hat 11.5.0-2) Ubuntu 20.04 Kernel: Depends on container host Compiler: gcc (Ubuntu 9.4.0-1ubuntu1~20.04.2) 9.4.0 Ubuntu 22.04 Kernel: Depends on container host Compiler: gcc (Ubuntu 11.4.0-1ubuntu1~22.04) 11.4.0 Ubuntu 24.04 Kernel: Depends on container host Compiler: gcc (Ubuntu 13.3.0-6ubuntu2~24.04) 13.3.0 Alpine Kernel: Depends on container host Compiler: gcc (Alpine 14.2.0) 14.2.0 Ubuntu 24.04 32 Bit Cross Compile Kernel: Depends on container host Compiler: gcc (Ubuntu 13.3.0-6ubuntu2~24.04) 13.3.0 FreeBSD 13.5 Kernel: 13.5-RELEASE Compiler: clang 19.1.7 FreeBSD 14.2 Kernel: 14.2-RELEASE Compiler: clang 18.1.6 Windows Server 2022 Kernel: 10.0.20348.2031 Compiler: clang 15.0.7, gcc 14.1.0 (MinGW), and MSVC VS 19.39.33521 To view detailed results, visit: https://lab.dpdk.org/results/dashboard/patchsets/33219/ UNH-IOL DPDK Community Lab To manage your email subscriptions, visit: https://lab.dpdk.org/results/dashboard/preferences/subscriptions/