automatic DPDK test reports
 help / color / mirror / Atom feed
* |WARNING| [GIT MASTER] a0dde342cc312fd75b63281f63d757db7482cdab
@ 2025-05-21 13:20 dpdklab
  0 siblings, 0 replies; 2+ messages in thread
From: dpdklab @ 2025-05-21 13:20 UTC (permalink / raw)
  To: Test Report; +Cc: dpdk-test-reports, Stephen Hemminger

_Testing issues_

Branch: dpdk-next-net

a0dde342cc312fd75b63281f63d757db7482cdab --> testing issues

Upstream job id: Generic-DPDK-Compile-Meson#389943

Test environment and result as below:

+-----------------------------------+--------------------+-------------------+-------------------------+----------------------+-------------------+------------------+
|            Environment            | dpdk_meson_compile | dpdk_msvc_compile | dpdk_llvm_clang_compile | dpdk_mingw64_compile | dpdk_compile_spdk | dpdk_compile_ovs |
+===================================+====================+===================+=========================+======================+===================+==================+
| FreeBSD 13.5                      | PASS               | SKIPPED           | SKIPPED                 | SKIPPED              | SKIPPED           | SKIPPED          |
+-----------------------------------+--------------------+-------------------+-------------------------+----------------------+-------------------+------------------+
| FreeBSD 14.2                      | PASS               | SKIPPED           | SKIPPED                 | SKIPPED              | SKIPPED           | SKIPPED          |
+-----------------------------------+--------------------+-------------------+-------------------------+----------------------+-------------------+------------------+
| Ubuntu 20.04                      | PASS               | SKIPPED           | SKIPPED                 | SKIPPED              | SKIPPED           | SKIPPED          |
+-----------------------------------+--------------------+-------------------+-------------------------+----------------------+-------------------+------------------+
| CentOS Stream 9                   | PASS               | SKIPPED           | SKIPPED                 | SKIPPED              | PASS              | SKIPPED          |
+-----------------------------------+--------------------+-------------------+-------------------------+----------------------+-------------------+------------------+
| CentOS Stream 10                  | PASS               | SKIPPED           | SKIPPED                 | SKIPPED              | SKIPPED           | SKIPPED          |
+-----------------------------------+--------------------+-------------------+-------------------------+----------------------+-------------------+------------------+
| Debian 12                         | PASS               | SKIPPED           | SKIPPED                 | SKIPPED              | PASS              | SKIPPED          |
+-----------------------------------+--------------------+-------------------+-------------------------+----------------------+-------------------+------------------+
| Fedora 40 (Clang)                 | PASS               | SKIPPED           | SKIPPED                 | SKIPPED              | WARN              | SKIPPED          |
+-----------------------------------+--------------------+-------------------+-------------------------+----------------------+-------------------+------------------+
| Fedora 40                         | PASS               | SKIPPED           | SKIPPED                 | SKIPPED              | PASS              | SKIPPED          |
+-----------------------------------+--------------------+-------------------+-------------------------+----------------------+-------------------+------------------+
| Fedora 41 (Clang)                 | PASS               | SKIPPED           | SKIPPED                 | SKIPPED              | WARN              | PASS             |
+-----------------------------------+--------------------+-------------------+-------------------------+----------------------+-------------------+------------------+
| Fedora 41                         | PASS               | SKIPPED           | SKIPPED                 | SKIPPED              | PASS              | PASS             |
+-----------------------------------+--------------------+-------------------+-------------------------+----------------------+-------------------+------------------+
| openSUSE Leap 15                  | PASS               | SKIPPED           | SKIPPED                 | SKIPPED              | SKIPPED           | SKIPPED          |
+-----------------------------------+--------------------+-------------------+-------------------------+----------------------+-------------------+------------------+
| RHEL8                             | PASS               | SKIPPED           | SKIPPED                 | SKIPPED              | SKIPPED           | SKIPPED          |
+-----------------------------------+--------------------+-------------------+-------------------------+----------------------+-------------------+------------------+
| RHEL9                             | PASS               | SKIPPED           | SKIPPED                 | SKIPPED              | SKIPPED           | SKIPPED          |
+-----------------------------------+--------------------+-------------------+-------------------------+----------------------+-------------------+------------------+
| Ubuntu 22.04                      | PASS               | SKIPPED           | SKIPPED                 | SKIPPED              | PASS              | SKIPPED          |
+-----------------------------------+--------------------+-------------------+-------------------------+----------------------+-------------------+------------------+
| Ubuntu 24.04                      | PASS               | SKIPPED           | SKIPPED                 | SKIPPED              | PASS              | PASS             |
+-----------------------------------+--------------------+-------------------+-------------------------+----------------------+-------------------+------------------+
| Alpine                            | PASS               | SKIPPED           | SKIPPED                 | SKIPPED              | SKIPPED           | SKIPPED          |
+-----------------------------------+--------------------+-------------------+-------------------------+----------------------+-------------------+------------------+
| Ubuntu 24.04 32 Bit Cross Compile | PASS               | SKIPPED           | SKIPPED                 | SKIPPED              | SKIPPED           | SKIPPED          |
+-----------------------------------+--------------------+-------------------+-------------------------+----------------------+-------------------+------------------+
| Windows Server 2022               | SKIPPED            | PASS              | PASS                    | PASS                 | SKIPPED           | SKIPPED          |
+-----------------------------------+--------------------+-------------------+-------------------------+----------------------+-------------------+------------------+

==== 20 line log output for Fedora 41 (Clang) (dpdk_compile_spdk): ====
 --- Failed to get log output --- 
==== End log output ====

FreeBSD 13.5
	Kernel: 13.5-RELEASE
	Compiler: clang 19.1.7

FreeBSD 14.2
	Kernel: 14.2-RELEASE
	Compiler: clang 18.1.6

Ubuntu 20.04
	Kernel: 4.19.325-0419325-generic
	Compiler: gcc (Ubuntu 9.4.0-1ubuntu1~20.04.2) 9.4.0

CentOS Stream 9
	Kernel: Depends on container host
	Compiler: gcc 11.5.0 20240719 (Red Hat 11.5.0-2)

CentOS Stream 10
	Kernel: Depends on container host
	Compiler: gcc 14.2.1 20241104 (Red Hat 14.2.1-6)

Debian 12
	Kernel: Depends on container host
	Compiler: gcc (Debian 12.2.0-14) 12.2.0

Fedora 40 (Clang)
	Kernel: Depends on container host
	Compiler: clang 18.1.8 (Fedora 18.1.8-1.fc40)

Fedora 40
	Kernel: Depends on container host
	Compiler: gcc 14.2.1 20240912 (Red Hat 14.2.1-3)

Fedora 41 (Clang)
	Kernel: Depends on container host
	Compiler: clang 19.1.5 (Fedora 19.1.5-1.fc41)

Fedora 41
	Kernel: Depends on container host
	Compiler: gcc 14.2.1 20240912 (Red Hat 14.2.1-3)

openSUSE Leap 15
	Kernel: Depends on container host
	Compiler: gcc (SUSE Linux) 7.5.0

RHEL8
	Kernel: Depends on container host
	Compiler: gcc 8.5.0 20210514 (Red Hat 8.5.0-22)

RHEL9
	Kernel: Depends on container host
	Compiler: gcc 11.5.0 20240719 (Red Hat 11.5.0-2)

Ubuntu 22.04
	Kernel: Depends on container host
	Compiler: gcc (Ubuntu 11.4.0-1ubuntu1~22.04) 11.4.0

Ubuntu 24.04
	Kernel: Depends on container host
	Compiler: gcc (Ubuntu 13.3.0-6ubuntu2~24.04) 13.3.0

Alpine
	Kernel: Depends on container host
	Compiler: gcc (Alpine 14.2.0) 14.2.0

Ubuntu 24.04 32 Bit Cross Compile
	Kernel: Depends on container host
	Compiler: gcc (Ubuntu 13.3.0-6ubuntu2~24.04) 13.3.0

Windows Server 2022
	Kernel: 10.0.20348.2031
	Compiler: clang 15.0.7, gcc 14.1.0 (MinGW), and MSVC VS 19.39.33521

To view detailed results, visit:
https://lab.dpdk.org/results/dashboard/tarballs/33598/

UNH-IOL DPDK Community Lab

To manage your email subscriptions, visit: 
https://lab.dpdk.org/results/dashboard/preferences/subscriptions/

^ permalink raw reply	[flat|nested] 2+ messages in thread

* |WARNING| [GIT MASTER] a0dde342cc312fd75b63281f63d757db7482cdab
@ 2025-05-21 12:39 dpdklab
  0 siblings, 0 replies; 2+ messages in thread
From: dpdklab @ 2025-05-21 12:39 UTC (permalink / raw)
  To: Test Report; +Cc: dpdk-test-reports, Stephen Hemminger

_Testing issues_

Branch: dpdk-next-net

a0dde342cc312fd75b63281f63d757db7482cdab --> testing issues

Upstream job id: Generic-DPDK-Compile-Meson#389932

Test environment and result as below:

+-----------------------------------+--------------------+-------------------+-------------------------+----------------------+-------------------+------------------+
|            Environment            | dpdk_meson_compile | dpdk_msvc_compile | dpdk_llvm_clang_compile | dpdk_mingw64_compile | dpdk_compile_spdk | dpdk_compile_ovs |
+===================================+====================+===================+=========================+======================+===================+==================+
| FreeBSD 13.5                      | PASS               | SKIPPED           | SKIPPED                 | SKIPPED              | SKIPPED           | SKIPPED          |
+-----------------------------------+--------------------+-------------------+-------------------------+----------------------+-------------------+------------------+
| FreeBSD 14.2                      | PASS               | SKIPPED           | SKIPPED                 | SKIPPED              | SKIPPED           | SKIPPED          |
+-----------------------------------+--------------------+-------------------+-------------------------+----------------------+-------------------+------------------+
| Ubuntu 20.04                      | PASS               | SKIPPED           | SKIPPED                 | SKIPPED              | SKIPPED           | SKIPPED          |
+-----------------------------------+--------------------+-------------------+-------------------------+----------------------+-------------------+------------------+
| CentOS Stream 9                   | PASS               | SKIPPED           | SKIPPED                 | SKIPPED              | PASS              | SKIPPED          |
+-----------------------------------+--------------------+-------------------+-------------------------+----------------------+-------------------+------------------+
| CentOS Stream 10                  | PEND               | SKIPPED           | SKIPPED                 | SKIPPED              | SKIPPED           | SKIPPED          |
+-----------------------------------+--------------------+-------------------+-------------------------+----------------------+-------------------+------------------+
| Debian 12                         | PEND               | SKIPPED           | SKIPPED                 | SKIPPED              | PEND              | SKIPPED          |
+-----------------------------------+--------------------+-------------------+-------------------------+----------------------+-------------------+------------------+
| Fedora 40 (Clang)                 | PASS               | SKIPPED           | SKIPPED                 | SKIPPED              | WARN              | SKIPPED          |
+-----------------------------------+--------------------+-------------------+-------------------------+----------------------+-------------------+------------------+
| Fedora 40                         | PASS               | SKIPPED           | SKIPPED                 | SKIPPED              | PASS              | SKIPPED          |
+-----------------------------------+--------------------+-------------------+-------------------------+----------------------+-------------------+------------------+
| Fedora 41 (Clang)                 | PEND               | SKIPPED           | SKIPPED                 | SKIPPED              | PEND              | PEND             |
+-----------------------------------+--------------------+-------------------+-------------------------+----------------------+-------------------+------------------+
| Fedora 41                         | PASS               | SKIPPED           | SKIPPED                 | SKIPPED              | PASS              | PASS             |
+-----------------------------------+--------------------+-------------------+-------------------------+----------------------+-------------------+------------------+
| openSUSE Leap 15                  | PASS               | SKIPPED           | SKIPPED                 | SKIPPED              | SKIPPED           | SKIPPED          |
+-----------------------------------+--------------------+-------------------+-------------------------+----------------------+-------------------+------------------+
| RHEL8                             | PASS               | SKIPPED           | SKIPPED                 | SKIPPED              | SKIPPED           | SKIPPED          |
+-----------------------------------+--------------------+-------------------+-------------------------+----------------------+-------------------+------------------+
| RHEL9                             | PASS               | SKIPPED           | SKIPPED                 | SKIPPED              | SKIPPED           | SKIPPED          |
+-----------------------------------+--------------------+-------------------+-------------------------+----------------------+-------------------+------------------+
| Ubuntu 22.04                      | PASS               | SKIPPED           | SKIPPED                 | SKIPPED              | PASS              | SKIPPED          |
+-----------------------------------+--------------------+-------------------+-------------------------+----------------------+-------------------+------------------+
| Ubuntu 24.04                      | PASS               | SKIPPED           | SKIPPED                 | SKIPPED              | PASS              | PASS             |
+-----------------------------------+--------------------+-------------------+-------------------------+----------------------+-------------------+------------------+
| Alpine                            | PEND               | SKIPPED           | SKIPPED                 | SKIPPED              | SKIPPED           | SKIPPED          |
+-----------------------------------+--------------------+-------------------+-------------------------+----------------------+-------------------+------------------+
| Ubuntu 24.04 32 Bit Cross Compile | PEND               | SKIPPED           | SKIPPED                 | SKIPPED              | SKIPPED           | SKIPPED          |
+-----------------------------------+--------------------+-------------------+-------------------------+----------------------+-------------------+------------------+
| Windows Server 2022               | SKIPPED            | PASS              | PASS                    | PASS                 | SKIPPED           | SKIPPED          |
+-----------------------------------+--------------------+-------------------+-------------------------+----------------------+-------------------+------------------+

==== 20 line log output for Fedora 40 (Clang) (dpdk_compile_spdk): ====
 --- Failed to get log output --- 
==== End log output ====

FreeBSD 13.5
	Kernel: 13.5-RELEASE
	Compiler: clang 19.1.7

FreeBSD 14.2
	Kernel: 14.2-RELEASE
	Compiler: clang 18.1.6

Ubuntu 20.04
	Kernel: 4.19.325-0419325-generic
	Compiler: gcc (Ubuntu 9.4.0-1ubuntu1~20.04.2) 9.4.0

CentOS Stream 9
	Kernel: Depends on container host
	Compiler: gcc 11.5.0 20240719 (Red Hat 11.5.0-2)

CentOS Stream 10
	Kernel: Depends on container host
	Compiler: gcc 14.2.1 20241104 (Red Hat 14.2.1-6)

Debian 12
	Kernel: Depends on container host
	Compiler: gcc (Debian 12.2.0-14) 12.2.0

Fedora 40 (Clang)
	Kernel: Depends on container host
	Compiler: clang 18.1.8 (Fedora 18.1.8-1.fc40)

Fedora 40
	Kernel: Depends on container host
	Compiler: gcc 14.2.1 20240912 (Red Hat 14.2.1-3)

Fedora 41 (Clang)
	Kernel: Depends on container host
	Compiler: clang 19.1.5 (Fedora 19.1.5-1.fc41)

Fedora 41
	Kernel: Depends on container host
	Compiler: gcc 14.2.1 20240912 (Red Hat 14.2.1-3)

openSUSE Leap 15
	Kernel: Depends on container host
	Compiler: gcc (SUSE Linux) 7.5.0

RHEL8
	Kernel: Depends on container host
	Compiler: gcc 8.5.0 20210514 (Red Hat 8.5.0-22)

RHEL9
	Kernel: Depends on container host
	Compiler: gcc 11.5.0 20240719 (Red Hat 11.5.0-2)

Ubuntu 22.04
	Kernel: Depends on container host
	Compiler: gcc (Ubuntu 11.4.0-1ubuntu1~22.04) 11.4.0

Ubuntu 24.04
	Kernel: Depends on container host
	Compiler: gcc (Ubuntu 13.3.0-6ubuntu2~24.04) 13.3.0

Alpine
	Kernel: Depends on container host
	Compiler: gcc (Alpine 14.2.0) 14.2.0

Ubuntu 24.04 32 Bit Cross Compile
	Kernel: Depends on container host
	Compiler: gcc (Ubuntu 13.3.0-6ubuntu2~24.04) 13.3.0

Windows Server 2022
	Kernel: 10.0.20348.2031
	Compiler: clang 15.0.7, gcc 14.1.0 (MinGW), and MSVC VS 19.39.33521

To view detailed results, visit:
https://lab.dpdk.org/results/dashboard/tarballs/33598/

UNH-IOL DPDK Community Lab

To manage your email subscriptions, visit: 
https://lab.dpdk.org/results/dashboard/preferences/subscriptions/

^ permalink raw reply	[flat|nested] 2+ messages in thread

end of thread, other threads:[~2025-05-21 13:20 UTC | newest]

Thread overview: 2+ messages (download: mbox.gz / follow: Atom feed)
-- links below jump to the message on this page --
2025-05-21 13:20 |WARNING| [GIT MASTER] a0dde342cc312fd75b63281f63d757db7482cdab dpdklab
  -- strict thread matches above, loose matches on Subject: below --
2025-05-21 12:39 dpdklab

This is a public inbox, see mirroring instructions
for how to clone and mirror all data and code used for this inbox;
as well as URLs for NNTP newsgroup(s).