From mboxrd@z Thu Jan 1 00:00:00 1970 Return-Path: Received: from mails.dpdk.org (mails.dpdk.org [217.70.189.124]) by inbox.dpdk.org (Postfix) with ESMTP id 242DD467AE for ; Wed, 21 May 2025 15:32:01 +0200 (CEST) Received: from mails.dpdk.org (localhost [127.0.0.1]) by mails.dpdk.org (Postfix) with ESMTP id E5DDA427DC; Wed, 21 May 2025 15:32:00 +0200 (CEST) Received: from mail-pf1-f227.google.com (mail-pf1-f227.google.com [209.85.210.227]) by mails.dpdk.org (Postfix) with ESMTP id 23272427D5 for ; Wed, 21 May 2025 15:31:59 +0200 (CEST) Received: by mail-pf1-f227.google.com with SMTP id d2e1a72fcca58-742c9563fd9so3230371b3a.3 for ; Wed, 21 May 2025 06:31:59 -0700 (PDT) DKIM-Signature: v=1; a=rsa-sha256; c=relaxed/relaxed; d=iol.unh.edu; s=unh-iol; t=1747834318; x=1748439118; darn=dpdk.org; h=references:in-reply-to:cc:to:from:subject:message-id:date:from:to :cc:subject:date:message-id:reply-to; bh=51g5HZBJ3E5goxWnSffn+xyKQUPwcUMpvDT4td7/jvA=; b=ZInxKdjA69Y1Bn8A45EFPjHvLDGDhQHBfnVLyb94xYoZmUUjbOAWmdhDDxfFxJ8CpT QUntEN6vBTKJe/SuibP4PFIo9QYPUzTyrtt0lgcCZSqpExWanFW/anL6mrDmyUxy/DRy glJxd17v38ccFunzxbPozie2Nty3QNWcnGbp4= X-Google-DKIM-Signature: v=1; a=rsa-sha256; c=relaxed/relaxed; d=1e100.net; s=20230601; t=1747834318; x=1748439118; h=references:in-reply-to:cc:to:from:subject:message-id:date :x-gm-message-state:from:to:cc:subject:date:message-id:reply-to; bh=51g5HZBJ3E5goxWnSffn+xyKQUPwcUMpvDT4td7/jvA=; b=VNqJe0wWnBZvMREnecq6J1wWf2SzSIGZ7/gF8ef07e/uUtEeZq+mMT8HU1YvZIxDCP cWSPBQX3nXsnjRPJFs3PYII0nGX0KM+HsQ6kNbGCKE8dvqjmMk1efe90LVwLY8FdEQz4 wZLhM53rqwyuTyKDJ+2/g4bjiSk27RP7dcvh+9cf17Zzx67KzAZ4YXyUYrclCe7yWKVZ vnqcFC6BdMGsD0Z3Zu1tVBjLgiXPJvAE+v3ISje3XfmGm8XKKmLudKhbfCq84hMkv4RB NIA713Jb0mhOFB8r5CEL2iFxJmtg3fQ0fRdzuLDSSeyey46i35r906qXlqwehDZLL7aA v01g== X-Gm-Message-State: AOJu0Yy1sooe0exiS0oeLuHfw4Vr0v3XY5+WQJyUvs5qZy4mNJuEMvDb DnpLlHsTzHhgVGbQMQEJgGuPCiahilk7CnFpId6s9fuCmaIcpD/1Hf9JC63CwDUZ0GdAr/Wxfoy doxel6Vi+Rvs6UaWm/FdAhnzEeB3cXEprT0kaNr/HBOOY X-Gm-Gg: ASbGncv7i1OL9B/rnDiDZbtkfkPgJMXxTGMPxaZuhf3ZXmy03YpRa/Cdp0bn2uTlcPf XexEeaqg7DD0S6EkXQbjZgIWf+GJAk+7h4v1+kpHJPr9XH9pSxAr9fwhMTXaMCqRU7LYFaDyi/Q L8JXoxBt4ToPuAHshqG/f4xnYWCJG0Y6sLoPCmk0CXBH0sVBqLSl/5WKGaEhfj+FSxtXf8VJn/E xUPtIZQyi5JKrXjOw9sSNUtEx8kmQSibBEvlkeWHimsxn5/DUL60q7NKGpK9kWWKcYLocAEQnYy dQJbj5LPfddtg4mRxzjvTrkwnguKpXFwLd3GsZNrhnruunoHPxxfW9Zhd+g= X-Google-Smtp-Source: AGHT+IFH2NAfRlAodZvviOsIijs8IqQMlsDqCD+erW8bQZulWe1v26zspxlCWz32erRPKgg4Q70QqzRD/Y0q X-Received: by 2002:a05:6a21:920d:b0:1f5:6c7b:8920 with SMTP id adf61e73a8af0-2170cafa377mr28871365637.9.1747834317601; Wed, 21 May 2025 06:31:57 -0700 (PDT) Received: from postal.iol.unh.edu (postal.iol.unh.edu. [132.177.123.84]) by smtp-relay.gmail.com with ESMTPS id 41be03b00d2f7-b26eb084403sm339370a12.22.2025.05.21.06.31.57 (version=TLS1_2 cipher=ECDHE-ECDSA-AES128-GCM-SHA256 bits=128/128); Wed, 21 May 2025 06:31:57 -0700 (PDT) X-Relaying-Domain: iol.unh.edu Date: Wed, 21 May 2025 06:31:57 -0700 (PDT) Message-ID: <682dd5cd.050a0220.60772.268bSMTPIN_ADDED_MISSING@mx.google.com> Received: from [172.21.0.5] (unknown [172.18.0.240]) by postal.iol.unh.edu (Postfix) with ESMTP id AFC6B6052471; Wed, 21 May 2025 09:31:56 -0400 (EDT) Subject: |SUCCESS| pw153550-153558 [PATCH] [v2,9/9] crypto/dpaa2_sec: add sup From: dpdklab@iol.unh.edu To: Test Report Cc: dpdk-test-reports@iol.unh.edu In-Reply-To: <20250521065658.857707-10-g.singh@nxp.com> References: <20250521065658.857707-10-g.singh@nxp.com> Content-Type: text/plain X-BeenThere: test-report@dpdk.org X-Mailman-Version: 2.1.29 Precedence: list List-Id: automatic DPDK test reports List-Unsubscribe: , List-Archive: List-Post: List-Help: List-Subscribe: , Errors-To: test-report-bounces@dpdk.org Test-Label: iol-unit-amd64-testing Test-Status: SUCCESS http://dpdk.org/patch/153558 _Testing PASS_ Submitter: Gagandeep Singh Date: Wednesday, May 21 2025 06:56:58 DPDK git baseline: Repo:dpdk Branch: master CommitID:117e86c4b96ed761e9a7ab766261208fe81bf5ca 153550-153558 --> testing pass Upstream job id: Generic-Unit-Test-DPDK#339542 Test environment and result as below: +---------------------+----------------+ | Environment | dpdk_unit_test | +=====================+================+ | CentOS Stream 9 | PASS | +---------------------+----------------+ | Fedora 40 | PASS | +---------------------+----------------+ | CentOS Stream 10 | PASS | +---------------------+----------------+ | Fedora 40 (Clang) | PASS | +---------------------+----------------+ | Fedora 41 | PASS | +---------------------+----------------+ | Debian 12 | PASS | +---------------------+----------------+ | Fedora 41 (Clang) | PASS | +---------------------+----------------+ | RHEL8 | PASS | +---------------------+----------------+ | RHEL9 | PASS | +---------------------+----------------+ | Ubuntu 20.04 | PASS | +---------------------+----------------+ | Ubuntu 22.04 | PASS | +---------------------+----------------+ | Ubuntu 24.04 | PASS | +---------------------+----------------+ | Windows Server 2022 | PASS | +---------------------+----------------+ CentOS Stream 9 Kernel: Depends on container host Compiler: gcc 11.5.0 20240719 (Red Hat 11.5.0-2) Fedora 40 Kernel: Depends on container host Compiler: gcc 14.2.1 20240912 (Red Hat 14.2.1-3) CentOS Stream 10 Kernel: Depends on container host Compiler: gcc 14.2.1 20241104 (Red Hat 14.2.1-6) Fedora 40 (Clang) Kernel: Depends on container host Compiler: clang 18.1.8 (Fedora 18.1.8-1.fc40) Fedora 41 Kernel: Depends on container host Compiler: gcc 14.2.1 20240912 (Red Hat 14.2.1-3) Debian 12 Kernel: Depends on container host Compiler: gcc (Debian 12.2.0-14) 12.2.0 Fedora 41 (Clang) Kernel: Depends on container host Compiler: clang 19.1.5 (Fedora 19.1.5-1.fc41) RHEL8 Kernel: Depends on container host Compiler: gcc 8.5.0 20210514 (Red Hat 8.5.0-22) RHEL9 Kernel: Depends on container host Compiler: gcc 11.5.0 20240719 (Red Hat 11.5.0-2) Ubuntu 20.04 Kernel: Depends on container host Compiler: gcc (Ubuntu 9.4.0-1ubuntu1~20.04.2) 9.4.0 Ubuntu 22.04 Kernel: Depends on container host Compiler: gcc (Ubuntu 11.4.0-1ubuntu1~22.04) 11.4.0 Ubuntu 24.04 Kernel: Depends on container host Compiler: gcc (Ubuntu 13.3.0-6ubuntu2~24.04) 13.3.0 Windows Server 2022 Kernel: 10.0.20348.2031 Compiler: clang 15.0.7, gcc 14.1.0 (MinGW), and MSVC VS 19.39.33521 To view detailed results, visit: https://lab.dpdk.org/results/dashboard/patchsets/33218/ UNH-IOL DPDK Community Lab To manage your email subscriptions, visit: https://lab.dpdk.org/results/dashboard/preferences/subscriptions/