From mboxrd@z Thu Jan 1 00:00:00 1970 Return-Path: Received: from mails.dpdk.org (mails.dpdk.org [217.70.189.124]) by inbox.dpdk.org (Postfix) with ESMTP id 53474467AE for ; Wed, 21 May 2025 15:34:14 +0200 (CEST) Received: from mails.dpdk.org (localhost [127.0.0.1]) by mails.dpdk.org (Postfix) with ESMTP id 2A65B427DC; Wed, 21 May 2025 15:34:14 +0200 (CEST) Received: from mail-io1-f99.google.com (mail-io1-f99.google.com [209.85.166.99]) by mails.dpdk.org (Postfix) with ESMTP id 1D11A427D5 for ; Wed, 21 May 2025 15:34:13 +0200 (CEST) Received: by mail-io1-f99.google.com with SMTP id ca18e2360f4ac-86a052d7897so451332439f.0 for ; Wed, 21 May 2025 06:34:13 -0700 (PDT) DKIM-Signature: v=1; a=rsa-sha256; c=relaxed/relaxed; d=iol.unh.edu; s=unh-iol; t=1747834452; x=1748439252; darn=dpdk.org; h=cc:to:from:subject:message-id:date:from:to:cc:subject:date :message-id:reply-to; bh=QHYRQNaorl842b3+FltknIkVHWHjYnjRvOIfQkQ4ync=; b=imKt4BI/qAR7ExxZLuZXNB4qkG4jdgKLPzv/Hrrkm5/w1jp8Qa+IHQYgy5AbS6kT/Z UuYqSRjH9Lswh+4PDhvPwWWwbU3zEenmYvXGvPUnc8Bt9OcQyCut30E01T8jO6JZKWlX 3Uty/PViN/N1JKdVrICM1koFJuYXgEmINoRvM= X-Google-DKIM-Signature: v=1; a=rsa-sha256; c=relaxed/relaxed; d=1e100.net; s=20230601; t=1747834452; x=1748439252; h=cc:to:from:subject:message-id:date:x-gm-message-state:from:to:cc :subject:date:message-id:reply-to; bh=QHYRQNaorl842b3+FltknIkVHWHjYnjRvOIfQkQ4ync=; b=nRF7NBn1sy42R+nXlpwHAO8tFKX8waDyK5U56+hBcOPMpue5zwXzwM06anCiRio1HM sFFrHYsnBgnAmV8pmxG5agqkTmGxv1Jow1WTEoTA2FjesBMdtkU3dfhXsOAU+3LtHChr 1nS2VYyAsYxHpuSiukHf6lElQxfpb02+v4X0vR8Ld9+o1qYDGFhYrh/OoqJURD5tUVFk i/MY3b2BkQ7VOFZIMFDRcJUJObRtsQR5S64dbjuUOQLFQl3Mqc7zQtMJFzAFEd2/6mce 38AC6+wU6Rz5sCbvaXNksuEMG9pGqjIlFym12USPgep1FpcwatAhd1BZ8N5ZY4yFIDVF iYcg== X-Gm-Message-State: AOJu0Yy4xTw73c7EJI8btZbL2V5kvwDUliMnR6VggEUNQfGNELDj7Y8/ A7vvIkmPwfiVzMCxSaUkPsLf+uOF3Cj2FMDsLnuIrrFJeDF6MDX+qfgRGCsnmIRAHwjtsdbmv+M 05uT48Og9VL+t/g023b1pmzA+AwRIUJXfzAtjRZi2hPle X-Gm-Gg: ASbGncseUMB/UTPgQyeNlJMhAEvFzCtuyZL1vmQnfgJtDoKeM3pdEDHa/IOqRUaS+lV k3KqucU8IUrkNhgZ4AXD3TziNPg1K060jc/E6+eU6sZWFuUTVyr7BmQoLbuOdDUb9W/0LeD8auv 2p7MJ3fXn02C7jF2ClP0NfFDWi8lUAFsKeVuOLvA4mn5FaNj0PxNpEm4a1eRp051mKlomPftjSv 9AsROUwWtZG8mOiE0XbXzgyEhFDNMyk7mzdzB2+0+HeCsqB2v4u436rD6bjRz8spylr3e5yfMik ihGw/VHwYWu9Rn0Ud16iukc+4AEDIK8rn0QzBEu/OM2fqTOm01ub/JRVYRI= X-Google-Smtp-Source: AGHT+IHu72YkZnOqitAsh7cDGsMYtKzYJfDuApTCSMIUfgku1JO6PE7VrJYFD4xNs5jztlk8zLniI/M392Is X-Received: by 2002:a05:6602:750a:b0:85b:43a3:66b2 with SMTP id ca18e2360f4ac-86a231bf7c4mr2728707139f.7.1747834452415; Wed, 21 May 2025 06:34:12 -0700 (PDT) Received: from postal.iol.unh.edu (postal.iol.unh.edu. [132.177.123.84]) by smtp-relay.gmail.com with ESMTPS id ca18e2360f4ac-86a235e9607sm52826739f.1.2025.05.21.06.34.12 (version=TLS1_2 cipher=ECDHE-ECDSA-AES128-GCM-SHA256 bits=128/128); Wed, 21 May 2025 06:34:12 -0700 (PDT) X-Relaying-Domain: iol.unh.edu Date: Wed, 21 May 2025 06:34:12 -0700 (PDT) Message-ID: <682dd654.050a0220.6891c.b2f9SMTPIN_ADDED_MISSING@mx.google.com> Received: from [172.21.0.8] (unknown [172.18.0.240]) by postal.iol.unh.edu (Postfix) with ESMTP id 0C6916052471; Wed, 21 May 2025 09:34:11 -0400 (EDT) Subject: |SUCCESS| [GIT MASTER] a0dde342cc312fd75b63281f63d757db7482cdab From: dpdklab@iol.unh.edu To: Test Report Cc: dpdk-test-reports@iol.unh.edu, Stephen Hemminger Content-Type: text/plain X-BeenThere: test-report@dpdk.org X-Mailman-Version: 2.1.29 Precedence: list List-Id: automatic DPDK test reports List-Unsubscribe: , List-Archive: List-Post: List-Help: List-Subscribe: , Errors-To: test-report-bounces@dpdk.org _Testing PASS_ Branch: dpdk-next-net a0dde342cc312fd75b63281f63d757db7482cdab --> testing pass Upstream job id: Generic-DPDK-Compile-Meson#389945 Test environment and result as below: +----------------------------------------+--------------------+ | Environment | dpdk_meson_compile | +========================================+====================+ | RHEL9 (ARM) | PASS | +----------------------------------------+--------------------+ | Ubuntu 20.04 ARM GCC Cross Compile | PASS | +----------------------------------------+--------------------+ | Ubuntu 20.04 ARM SVE | PASS | +----------------------------------------+--------------------+ | Debian 12 with MUSDK | PASS | +----------------------------------------+--------------------+ | Fedora 40 (ARM) | PASS | +----------------------------------------+--------------------+ | Fedora 40 (ARM Clang) | PASS | +----------------------------------------+--------------------+ | Fedora 41 (ARM) | PASS | +----------------------------------------+--------------------+ | Fedora 41 (ARM Clang) | PASS | +----------------------------------------+--------------------+ | Ubuntu 20.04 (ARM) | PASS | +----------------------------------------+--------------------+ | Ubuntu 22.04 (ARM) | PASS | +----------------------------------------+--------------------+ | Ubuntu 24.04 (ARM) | PASS | +----------------------------------------+--------------------+ | CentOS Stream 9 (ARM) | PASS | +----------------------------------------+--------------------+ | CentOS Stream 10 (ARM) | PASS | +----------------------------------------+--------------------+ | Debian 12 (arm) | PASS | +----------------------------------------+--------------------+ | Ubuntu 20.04 ARM Clang Cross Compile | PASS | +----------------------------------------+--------------------+ | Ubuntu 20.04 aarch32 GCC Cross Compile | PASS | +----------------------------------------+--------------------+ RHEL9 (ARM) Kernel: Depends on container host Compiler: gcc 11.5.0 20240719 (Red Hat 11.5.0-2) Ubuntu 20.04 ARM GCC Cross Compile Kernel: Depends on container host Compiler: aarch64-linux-gnu-gcc (Ubuntu 9.4.0-1ubuntu1~20.04.2) 9.4.0 Ubuntu 20.04 ARM SVE Kernel: Depends on container host Compiler: gcc (Ubuntu 10.5.0-1ubuntu1~20.04) 10.5.0 Debian 12 with MUSDK Kernel: Depends on container host Compiler: gcc (Debian 12.2.0-14) 12.2.0 Fedora 40 (ARM) Kernel: Depends on container host Compiler: gcc 14.2.1 20240912 (Red Hat 14.2.1-3) Fedora 40 (ARM Clang) Kernel: Depends on container host Compiler: clang 18.1.8 (Fedora 18.1.8-1.fc40) Fedora 41 (ARM) Kernel: Depends on container host Compiler: gcc 14.2.1 20240912 (Red Hat 14.2.1-3) Fedora 41 (ARM Clang) Kernel: Depends on container host Compiler: clang 19.1.5 (Fedora 19.1.5-1.fc41) Ubuntu 20.04 (ARM) Kernel: Depends on container host Compiler: gcc (Ubuntu 9.4.0-1ubuntu1~20.04.2) 9.4.0 Ubuntu 22.04 (ARM) Kernel: Depends on container host Compiler: gcc (Ubuntu 11.4.0-1ubuntu1~22.04) 11.4.0 Ubuntu 24.04 (ARM) Kernel: Depends on container host Compiler: gcc (Ubuntu 13.3.0-6ubuntu2~24.04) 13.3.0 CentOS Stream 9 (ARM) Kernel: Depends on container host Compiler: gcc 11.5.0 20240719 (Red Hat 11.5.0-2) CentOS Stream 10 (ARM) Kernel: Depends on container host Compiler: gcc 14.2.1 20241104 (Red Hat 14.2.1-6) Debian 12 (arm) Kernel: Depends on container host Compiler: gcc (Debian 12.2.0-14) 12.2.0 Ubuntu 20.04 ARM Clang Cross Compile Kernel: Depends on container host Compiler: clang 10.0.0-4ubuntu1 Ubuntu 20.04 aarch32 GCC Cross Compile Kernel: Depends on container host Compiler: gcc 9.4.0 To view detailed results, visit: https://lab.dpdk.org/results/dashboard/tarballs/33598/ UNH-IOL DPDK Community Lab To manage your email subscriptions, visit: https://lab.dpdk.org/results/dashboard/preferences/subscriptions/