From mboxrd@z Thu Jan 1 00:00:00 1970 Return-Path: Received: from mails.dpdk.org (mails.dpdk.org [217.70.189.124]) by inbox.dpdk.org (Postfix) with ESMTP id CAB58467AE for ; Wed, 21 May 2025 15:50:24 +0200 (CEST) Received: from mails.dpdk.org (localhost [127.0.0.1]) by mails.dpdk.org (Postfix) with ESMTP id B5FA5427DC; Wed, 21 May 2025 15:50:24 +0200 (CEST) Received: from mail-yw1-f225.google.com (mail-yw1-f225.google.com [209.85.128.225]) by mails.dpdk.org (Postfix) with ESMTP id F2F14427D5 for ; Wed, 21 May 2025 15:50:22 +0200 (CEST) Received: by mail-yw1-f225.google.com with SMTP id 00721157ae682-70b4e497d96so64030807b3.2 for ; Wed, 21 May 2025 06:50:22 -0700 (PDT) DKIM-Signature: v=1; a=rsa-sha256; c=relaxed/relaxed; d=iol.unh.edu; s=unh-iol; t=1747835422; x=1748440222; darn=dpdk.org; h=references:in-reply-to:cc:to:from:subject:message-id:date:from:to :cc:subject:date:message-id:reply-to; bh=6QXUB83GZTBpO215gr1sfdGaIAooEmuwtCUSRDbdHBE=; b=PxTgO8zm/IUDX3nYcc+mQhD8TQ9K+iH7jQBEQ57YoTVqRqZVgIoYASvmiyDm1TLy5K fFU52rNb28H0FeKAguwaK7cRWu3udirS5wJCKvnwmhrEZDcOyhG0YYrf8MpkY2aOdZIu G6mCfIcrm2LRWeMRzfx5rk7RfWMfUO0DUbx+Q= X-Google-DKIM-Signature: v=1; a=rsa-sha256; c=relaxed/relaxed; d=1e100.net; s=20230601; t=1747835422; x=1748440222; h=references:in-reply-to:cc:to:from:subject:message-id:date :x-gm-message-state:from:to:cc:subject:date:message-id:reply-to; bh=6QXUB83GZTBpO215gr1sfdGaIAooEmuwtCUSRDbdHBE=; b=pSBsz3KQZrsgbxuyN9n3qaZol8non61A/7tZPjZYcYWy5SiUSMnMJP3t+YXMLuPxRU /VcuLxv/HS/sle+nrrlvZGud8m21xK2EMMWeQYvtmT64Py2Yrwp+j2n8Ukh3YwJ+FUwX PKHvLDUDSpiYXKmu6g7Y3oNMNBNaI6nO3jR6uFhI36ycZILOoa4gwauQmjULrcaNFItB NB4UDFJCXSmVboYbrujwvH9UTE5DP1ygyirgCWbRPjgT36qPbYsj8t89/sEThazoEt2e TW8ewmbXrYrfWaDDdKcHd2zaoBdboufFLiR6QYHisPetB1VncEPIZ09I52KIUB3tjN6V VfJg== X-Gm-Message-State: AOJu0YyYcmdwIXaPCojJqVL17qPP15sMNJP+XFkmj+BovXTFuoLBnywU 2VlekvpYgOp5Lt/93RoYaM2lRE3RFPnRSrmTCj5nPh3G+ZxzXpm4qJzf2kSm8l3zpCtzW6307eF Qt+Bh8SUNSjqq0SAQANIycgOF76y1BY9Hnp6MXX9e6itY X-Gm-Gg: ASbGncumxDDypjd0fYXyf+DaH1vi3I8pef9cD8jHAkKUhSvEQ0DXLjah7yxt2Cb+K4V ZXQd+5RKuv8jzGhswsRscuTc5Eii88s8ivzWsAWzO7MxM40ixof5tv/47VYl1aF7SjPMGM7LYAK vlOyQy7ywaGKYIQt0vwsSqJcMZ7Pg/aREjJum8ytrt8C6nfyr2Qk790JQ9DXk0iUZuKA2UXovDR 6VZsfLiJKcTtwoWM512mwQn/vwkjzzWaZSwBpQNZBZatjgQmUsmp6F+2hsv3IQDAbg80x0O3CZG bJ0g5roaJpW2JT8ZWfx6nO6nWQ3rK+4UEEW6NGIvMRyAaznahXtM5wGBV8g= X-Google-Smtp-Source: AGHT+IEdaKVTXvsuqhKNv8p3L0FQLsYqPvBkilHN+z6Szv1SVXhYQF1MxGcLqHLCnRNBLwqp+G8SumnpPQ6J X-Received: by 2002:a05:690c:6385:b0:70c:a41f:8a9d with SMTP id 00721157ae682-70ca7bb0667mr292439577b3.35.1747835422254; Wed, 21 May 2025 06:50:22 -0700 (PDT) Received: from postal.iol.unh.edu (postal.iol.unh.edu. [132.177.123.84]) by smtp-relay.gmail.com with ESMTPS id 00721157ae682-70ca84f3169sm2262937b3.66.2025.05.21.06.50.22 (version=TLS1_2 cipher=ECDHE-ECDSA-AES128-GCM-SHA256 bits=128/128); Wed, 21 May 2025 06:50:22 -0700 (PDT) X-Relaying-Domain: iol.unh.edu Date: Wed, 21 May 2025 06:50:22 -0700 (PDT) Message-ID: <682dda1e.050a0220.1dedfb.bc6cSMTPIN_ADDED_MISSING@mx.google.com> Received: from [172.21.0.5] (unknown [172.18.0.240]) by postal.iol.unh.edu (Postfix) with ESMTP id 8B7A96052471; Wed, 21 May 2025 09:50:21 -0400 (EDT) Subject: |WARNING| pw153550-153558 [PATCH] [v2,9/9] crypto/dpaa2_sec: add sup From: dpdklab@iol.unh.edu To: Test Report Cc: dpdk-test-reports@iol.unh.edu In-Reply-To: <20250521065658.857707-10-g.singh@nxp.com> References: <20250521065658.857707-10-g.singh@nxp.com> Content-Type: text/plain X-BeenThere: test-report@dpdk.org X-Mailman-Version: 2.1.29 Precedence: list List-Id: automatic DPDK test reports List-Unsubscribe: , List-Archive: List-Post: List-Help: List-Subscribe: , Errors-To: test-report-bounces@dpdk.org Test-Label: iol-compile-amd64-testing Test-Status: WARNING http://dpdk.org/patch/153558 _Testing issues_ Submitter: Gagandeep Singh Date: Wednesday, May 21 2025 06:56:58 DPDK git baseline: Repo:dpdk Branch: master CommitID:117e86c4b96ed761e9a7ab766261208fe81bf5ca 153550-153558 --> testing issues Upstream job id: Generic-DPDK-Compile-Meson#390021 Test environment and result as below: +-----------------------------------+--------------------+-------------------+-------------------------+-------------------+------------------+----------------------+ | Environment | dpdk_meson_compile | dpdk_msvc_compile | dpdk_llvm_clang_compile | dpdk_compile_spdk | dpdk_compile_ovs | dpdk_mingw64_compile | +===================================+====================+===================+=========================+===================+==================+======================+ | Ubuntu 20.04 | PASS | SKIPPED | SKIPPED | SKIPPED | SKIPPED | SKIPPED | +-----------------------------------+--------------------+-------------------+-------------------------+-------------------+------------------+----------------------+ | FreeBSD 13.5 | PASS | SKIPPED | SKIPPED | SKIPPED | SKIPPED | SKIPPED | +-----------------------------------+--------------------+-------------------+-------------------------+-------------------+------------------+----------------------+ | FreeBSD 14.2 | PASS | SKIPPED | SKIPPED | SKIPPED | SKIPPED | SKIPPED | +-----------------------------------+--------------------+-------------------+-------------------------+-------------------+------------------+----------------------+ | CentOS Stream 9 | PASS | SKIPPED | SKIPPED | PASS | SKIPPED | SKIPPED | +-----------------------------------+--------------------+-------------------+-------------------------+-------------------+------------------+----------------------+ | CentOS Stream 10 | PASS | SKIPPED | SKIPPED | SKIPPED | SKIPPED | SKIPPED | +-----------------------------------+--------------------+-------------------+-------------------------+-------------------+------------------+----------------------+ | Debian 12 | PASS | SKIPPED | SKIPPED | PASS | SKIPPED | SKIPPED | +-----------------------------------+--------------------+-------------------+-------------------------+-------------------+------------------+----------------------+ | Fedora 40 (Clang) | PEND | SKIPPED | SKIPPED | PEND | SKIPPED | SKIPPED | +-----------------------------------+--------------------+-------------------+-------------------------+-------------------+------------------+----------------------+ | Fedora 40 | PEND | SKIPPED | SKIPPED | PEND | SKIPPED | SKIPPED | +-----------------------------------+--------------------+-------------------+-------------------------+-------------------+------------------+----------------------+ | Fedora 41 (Clang) | PASS | SKIPPED | SKIPPED | WARN | PASS | SKIPPED | +-----------------------------------+--------------------+-------------------+-------------------------+-------------------+------------------+----------------------+ | Fedora 41 | PEND | SKIPPED | SKIPPED | PEND | PEND | SKIPPED | +-----------------------------------+--------------------+-------------------+-------------------------+-------------------+------------------+----------------------+ | openSUSE Leap 15 | PEND | SKIPPED | SKIPPED | SKIPPED | SKIPPED | SKIPPED | +-----------------------------------+--------------------+-------------------+-------------------------+-------------------+------------------+----------------------+ | RHEL8 | PASS | SKIPPED | SKIPPED | SKIPPED | SKIPPED | SKIPPED | +-----------------------------------+--------------------+-------------------+-------------------------+-------------------+------------------+----------------------+ | RHEL9 | PASS | SKIPPED | SKIPPED | SKIPPED | SKIPPED | SKIPPED | +-----------------------------------+--------------------+-------------------+-------------------------+-------------------+------------------+----------------------+ | Ubuntu 22.04 | PASS | SKIPPED | SKIPPED | PASS | SKIPPED | SKIPPED | +-----------------------------------+--------------------+-------------------+-------------------------+-------------------+------------------+----------------------+ | Ubuntu 24.04 | PEND | SKIPPED | SKIPPED | PEND | PEND | SKIPPED | +-----------------------------------+--------------------+-------------------+-------------------------+-------------------+------------------+----------------------+ | Alpine | PEND | SKIPPED | SKIPPED | SKIPPED | SKIPPED | SKIPPED | +-----------------------------------+--------------------+-------------------+-------------------------+-------------------+------------------+----------------------+ | Ubuntu 24.04 32 Bit Cross Compile | PASS | SKIPPED | SKIPPED | SKIPPED | SKIPPED | SKIPPED | +-----------------------------------+--------------------+-------------------+-------------------------+-------------------+------------------+----------------------+ | Windows Server 2022 | SKIPPED | PASS | PASS | SKIPPED | SKIPPED | PASS | +-----------------------------------+--------------------+-------------------+-------------------------+-------------------+------------------+----------------------+ ==== 20 line log output for Fedora 41 (Clang) (dpdk_compile_spdk): ==== --- Failed to get log output --- ==== End log output ==== Ubuntu 20.04 Kernel: 4.19.325-0419325-generic Compiler: gcc (Ubuntu 9.4.0-1ubuntu1~20.04.2) 9.4.0 FreeBSD 13.5 Kernel: 13.5-RELEASE Compiler: clang 19.1.7 FreeBSD 14.2 Kernel: 14.2-RELEASE Compiler: clang 18.1.6 CentOS Stream 9 Kernel: Depends on container host Compiler: gcc 11.5.0 20240719 (Red Hat 11.5.0-2) CentOS Stream 10 Kernel: Depends on container host Compiler: gcc 14.2.1 20241104 (Red Hat 14.2.1-6) Debian 12 Kernel: Depends on container host Compiler: gcc (Debian 12.2.0-14) 12.2.0 Fedora 40 (Clang) Kernel: Depends on container host Compiler: clang 18.1.8 (Fedora 18.1.8-1.fc40) Fedora 40 Kernel: Depends on container host Compiler: gcc 14.2.1 20240912 (Red Hat 14.2.1-3) Fedora 41 (Clang) Kernel: Depends on container host Compiler: clang 19.1.5 (Fedora 19.1.5-1.fc41) Fedora 41 Kernel: Depends on container host Compiler: gcc 14.2.1 20240912 (Red Hat 14.2.1-3) openSUSE Leap 15 Kernel: Depends on container host Compiler: gcc (SUSE Linux) 7.5.0 RHEL8 Kernel: Depends on container host Compiler: gcc 8.5.0 20210514 (Red Hat 8.5.0-22) RHEL9 Kernel: Depends on container host Compiler: gcc 11.5.0 20240719 (Red Hat 11.5.0-2) Ubuntu 22.04 Kernel: Depends on container host Compiler: gcc (Ubuntu 11.4.0-1ubuntu1~22.04) 11.4.0 Ubuntu 24.04 Kernel: Depends on container host Compiler: gcc (Ubuntu 13.3.0-6ubuntu2~24.04) 13.3.0 Alpine Kernel: Depends on container host Compiler: gcc (Alpine 14.2.0) 14.2.0 Ubuntu 24.04 32 Bit Cross Compile Kernel: Depends on container host Compiler: gcc (Ubuntu 13.3.0-6ubuntu2~24.04) 13.3.0 Windows Server 2022 Kernel: 10.0.20348.2031 Compiler: clang 15.0.7, gcc 14.1.0 (MinGW), and MSVC VS 19.39.33521 To view detailed results, visit: https://lab.dpdk.org/results/dashboard/patchsets/33218/ UNH-IOL DPDK Community Lab To manage your email subscriptions, visit: https://lab.dpdk.org/results/dashboard/preferences/subscriptions/