From mboxrd@z Thu Jan 1 00:00:00 1970 Return-Path: Received: from mails.dpdk.org (mails.dpdk.org [217.70.189.124]) by inbox.dpdk.org (Postfix) with ESMTP id 8E4E8467AF for ; Wed, 21 May 2025 16:07:57 +0200 (CEST) Received: from mails.dpdk.org (localhost [127.0.0.1]) by mails.dpdk.org (Postfix) with ESMTP id 8961142D6A; Wed, 21 May 2025 16:07:57 +0200 (CEST) Received: from mail-il1-f226.google.com (mail-il1-f226.google.com [209.85.166.226]) by mails.dpdk.org (Postfix) with ESMTP id 335F342D68 for ; Wed, 21 May 2025 16:07:56 +0200 (CEST) Received: by mail-il1-f226.google.com with SMTP id e9e14a558f8ab-3da73e9cf17so58746365ab.2 for ; Wed, 21 May 2025 07:07:56 -0700 (PDT) DKIM-Signature: v=1; a=rsa-sha256; c=relaxed/relaxed; d=iol.unh.edu; s=unh-iol; t=1747836475; x=1748441275; darn=dpdk.org; h=cc:to:from:subject:message-id:date:from:to:cc:subject:date :message-id:reply-to; bh=FYrYe/6tWpyrTPjE2WMKM24a+d+CtWQmaIs6GGBhTmA=; b=Ii4r1RlCvwEnXD+8LgMp6Mb8+r4HVUpwfJQtFO2fsYzjMmnwq/PqWeqKEBpVjlZR9D VJ8cO9dg6O1DIe9gBm4gCP51MDhUmEu774yjKaqNeV6oGnw8ozjkRpSjp7xj+CnhbcgW ORyYu14dEunLUowLlVYUT/9K/j5q7HVhLv4pU= X-Google-DKIM-Signature: v=1; a=rsa-sha256; c=relaxed/relaxed; d=1e100.net; s=20230601; t=1747836475; x=1748441275; h=cc:to:from:subject:message-id:date:x-gm-message-state:from:to:cc :subject:date:message-id:reply-to; bh=FYrYe/6tWpyrTPjE2WMKM24a+d+CtWQmaIs6GGBhTmA=; b=pVuucO1ZJwSpwCyTzLe2nOuxjfNyBbwiMoZswULJtizDmzBEzSgEbvRFUlRLAmHmJX ozCKpwpLsyoJBiEeRX00tey+4qgpu7s+PtRclsYz7ELGyRxHRuQ7T2pR/pEK6Nd6yW5b KhUyOX1/t4UMqe+kneEkLgjcMDcoYbtWsN7cLYXxFFwCos8bJHOR+qgU+DFOw8A1NCIp VGDN/hiY1Lmxs6sSfeUsTv7cfRjhzn8NBzE6ZmEHp1trGF6as96aGk35mTf8qP6Cq2Fa py1zR/1E/Hj0fh3J50hRADHUhMM3P0MHCzxuFCTJHfTyGyFipyGbgjFdIDdTOV71lXCF oISw== X-Gm-Message-State: AOJu0YxnZX8bhC/UpvftLdfOhmyHN76FogKgd2np48DZEhzjkB0751EJ 6cNBLdtRV35HLBgL2rz5d47oGCii6RZKjHd9pfH200QHm7RiIYtVspoKcsKn7x4gtH3tD0GziDw mO8hernEBqmZOtrWbAsUx3lRIAHVYK0+kk8VY8o1APNOe X-Gm-Gg: ASbGnctiW4mO5dvhziLNdThp4Ap9U6uffIzO2tFIWjQCPa6dUyCjPR+LIGy5+enXJvu +E/OIyw9uv+WVL3oXk+9Hti5c6rtskhPIE1wY2sjcjotWW9skTY39u93OwIMd1UDLIATkBKSThe /UDcC3WypX8WwqBaa4WodeOt/nJgM6AWmAgFhlsUIGafwF7i6lHLWyh0+2YiKUof1w2OyzEgjTc RJ+CwfA2ue6/mhF4DPN95Kn1O6UTbPjBGZyiRNaqctaKb6WfYn0SAci3HOQJ2MaJdbK07Qxlv+3 frmBA5unLGeXx5aZG1XA/pgU3jmLwLCqIRKHPIfYGw2+PdSiltU+ktCwnmU= X-Google-Smtp-Source: AGHT+IGw5G5XHMjh06TLv76JnhbM5u9nMiYNF380JwEWOxm4PFHO1TUjWX1NvgNHv6uiN7FftSOlmLdyrDyw X-Received: by 2002:a05:6e02:12cf:b0:3d5:8923:faa5 with SMTP id e9e14a558f8ab-3db842c7158mr202337565ab.10.1747836469673; Wed, 21 May 2025 07:07:49 -0700 (PDT) Received: from postal.iol.unh.edu (postal.iol.unh.edu. [132.177.123.84]) by smtp-relay.gmail.com with ESMTPS id e9e14a558f8ab-3dc805b33e8sm1244805ab.14.2025.05.21.07.07.49 (version=TLS1_2 cipher=ECDHE-ECDSA-AES128-GCM-SHA256 bits=128/128); Wed, 21 May 2025 07:07:49 -0700 (PDT) X-Relaying-Domain: iol.unh.edu Date: Wed, 21 May 2025 07:07:49 -0700 (PDT) Message-ID: <682dde35.050a0220.2d8ea8.6d17SMTPIN_ADDED_MISSING@mx.google.com> Received: from [172.21.0.5] (unknown [172.18.0.240]) by postal.iol.unh.edu (Postfix) with ESMTP id 1E61A6052471; Wed, 21 May 2025 10:07:49 -0400 (EDT) Subject: |SUCCESS| [GIT MASTER] 3fea4e6b376fe7c0be0103e0ca238761f5e22457 From: dpdklab@iol.unh.edu To: Test Report Cc: dpdk-test-reports@iol.unh.edu, Bruce Richardson Content-Type: text/plain X-BeenThere: test-report@dpdk.org X-Mailman-Version: 2.1.29 Precedence: list List-Id: automatic DPDK test reports List-Unsubscribe: , List-Archive: List-Post: List-Help: List-Subscribe: , Errors-To: test-report-bounces@dpdk.org _Testing PASS_ Branch: dpdk-next-net-intel 3fea4e6b376fe7c0be0103e0ca238761f5e22457 --> testing pass Upstream job id: Generic-Unit-Test-DPDK#339561 Test environment and result as below: +-----------------------------+--------------+------------------------------+---------------------------+----------------+ | Environment | lpm_autotest | cryptodev_sw_snow3g_autotest | cryptodev_sw_zuc_autotest | dpdk_unit_test | +=============================+==============+==============================+===========================+================+ | Ubuntu 20.04 ARM SVE | PASS | SKIPPED | SKIPPED | SKIPPED | +-----------------------------+--------------+------------------------------+---------------------------+----------------+ | Debian 12 (arm) | SKIPPED | PASS | PASS | PASS | +-----------------------------+--------------+------------------------------+---------------------------+----------------+ | CentOS Stream 9 (ARM) | SKIPPED | SKIPPED | SKIPPED | PASS | +-----------------------------+--------------+------------------------------+---------------------------+----------------+ | CentOS Stream 10 (ARM) | SKIPPED | SKIPPED | SKIPPED | PASS | +-----------------------------+--------------+------------------------------+---------------------------+----------------+ | Fedora 40 (ARM) | SKIPPED | SKIPPED | SKIPPED | PASS | +-----------------------------+--------------+------------------------------+---------------------------+----------------+ | Fedora 40 (ARM Clang) | SKIPPED | SKIPPED | SKIPPED | PASS | +-----------------------------+--------------+------------------------------+---------------------------+----------------+ | Fedora 41 (ARM) | SKIPPED | SKIPPED | SKIPPED | PASS | +-----------------------------+--------------+------------------------------+---------------------------+----------------+ | RHEL9 (ARM) | SKIPPED | SKIPPED | SKIPPED | PASS | +-----------------------------+--------------+------------------------------+---------------------------+----------------+ | Fedora 41 (ARM Clang) | SKIPPED | SKIPPED | SKIPPED | PASS | +-----------------------------+--------------+------------------------------+---------------------------+----------------+ | Ubuntu 22.04 (ARM) | SKIPPED | SKIPPED | SKIPPED | PASS | +-----------------------------+--------------+------------------------------+---------------------------+----------------+ | Ubuntu 24.04 (ARM) | SKIPPED | SKIPPED | SKIPPED | PASS | +-----------------------------+--------------+------------------------------+---------------------------+----------------+ | Ubuntu 20.04 (ARM) | SKIPPED | SKIPPED | SKIPPED | PASS | +-----------------------------+--------------+------------------------------+---------------------------+----------------+ | 32-bit Ubuntu 22.04.4 (ARM) | SKIPPED | SKIPPED | SKIPPED | PASS | +-----------------------------+--------------+------------------------------+---------------------------+----------------+ Ubuntu 20.04 ARM SVE Kernel: Depends on container host Compiler: gcc (Ubuntu 10.5.0-1ubuntu1~20.04) 10.5.0 Debian 12 (arm) Kernel: Depends on container host Compiler: gcc (Debian 12.2.0-14) 12.2.0 CentOS Stream 9 (ARM) Kernel: Depends on container host Compiler: gcc 11.5.0 20240719 (Red Hat 11.5.0-2) CentOS Stream 10 (ARM) Kernel: Depends on container host Compiler: gcc 14.2.1 20241104 (Red Hat 14.2.1-6) Fedora 40 (ARM) Kernel: Depends on container host Compiler: gcc 14.2.1 20240912 (Red Hat 14.2.1-3) Fedora 40 (ARM Clang) Kernel: Depends on container host Compiler: clang 18.1.8 (Fedora 18.1.8-1.fc40) Fedora 41 (ARM) Kernel: Depends on container host Compiler: gcc 14.2.1 20240912 (Red Hat 14.2.1-3) RHEL9 (ARM) Kernel: Depends on container host Compiler: gcc 11.5.0 20240719 (Red Hat 11.5.0-2) Fedora 41 (ARM Clang) Kernel: Depends on container host Compiler: clang 19.1.5 (Fedora 19.1.5-1.fc41) Ubuntu 22.04 (ARM) Kernel: Depends on container host Compiler: gcc (Ubuntu 11.4.0-1ubuntu1~22.04) 11.4.0 Ubuntu 24.04 (ARM) Kernel: Depends on container host Compiler: gcc (Ubuntu 13.3.0-6ubuntu2~24.04) 13.3.0 Ubuntu 20.04 (ARM) Kernel: Depends on container host Compiler: gcc (Ubuntu 9.4.0-1ubuntu1~20.04.2) 9.4.0 32-bit Ubuntu 22.04.4 (ARM) Kernel: 5.15.83+ aarch64 Compiler: gcc (Ubuntu 11.4.0-1ubuntu1~22.04) 11.4.0 To view detailed results, visit: https://lab.dpdk.org/results/dashboard/tarballs/33601/ UNH-IOL DPDK Community Lab To manage your email subscriptions, visit: https://lab.dpdk.org/results/dashboard/preferences/subscriptions/