From mboxrd@z Thu Jan 1 00:00:00 1970 Return-Path: Received: from mails.dpdk.org (mails.dpdk.org [217.70.189.124]) by inbox.dpdk.org (Postfix) with ESMTP id AC326467AF for ; Wed, 21 May 2025 16:08:19 +0200 (CEST) Received: from mails.dpdk.org (localhost [127.0.0.1]) by mails.dpdk.org (Postfix) with ESMTP id A42D042D68; Wed, 21 May 2025 16:08:19 +0200 (CEST) Received: from mail-pg1-f227.google.com (mail-pg1-f227.google.com [209.85.215.227]) by mails.dpdk.org (Postfix) with ESMTP id 6993E42D0C for ; Wed, 21 May 2025 16:08:18 +0200 (CEST) Received: by mail-pg1-f227.google.com with SMTP id 41be03b00d2f7-b27015122c4so2790596a12.3 for ; Wed, 21 May 2025 07:08:18 -0700 (PDT) DKIM-Signature: v=1; a=rsa-sha256; c=relaxed/relaxed; d=iol.unh.edu; s=unh-iol; t=1747836497; x=1748441297; darn=dpdk.org; h=references:in-reply-to:cc:to:from:subject:message-id:date:from:to :cc:subject:date:message-id:reply-to; bh=XMK86PboyC53M7Wo4YpL4oCxFwdJSCBG8b/Tgc9/QQI=; b=Hut4A+CD9ap6YeaZnJ6xjFKHNxstGeiUmjpECv6RwZOnhnei+BPocfJcgCtDagaZhb UfVF2g97Rfc8053Rfp0nxSOg4e1QtoUNpCrbus7WZlzoi/R5DPVJPi+2VPrcKQc3kMeZ yZVPtdj0+xCk2RxHpv5iWG/Rp78fm5k3WNLWM= X-Google-DKIM-Signature: v=1; a=rsa-sha256; c=relaxed/relaxed; d=1e100.net; s=20230601; t=1747836497; x=1748441297; h=references:in-reply-to:cc:to:from:subject:message-id:date :x-gm-message-state:from:to:cc:subject:date:message-id:reply-to; bh=XMK86PboyC53M7Wo4YpL4oCxFwdJSCBG8b/Tgc9/QQI=; b=UWgUqpAj6jJ8HRLcFyfhW4dYQr4zRxSD127aeZsddgQFwMQ+KUUEiKo6dKZXvs3VT8 WbmecJNmsSn5ALzycxyEPF87U2O5L3Kou1VcaoQZcqiZhv19g/GLRNrDmoe91hZzb4Qq tJkeTw+L6krLG0MJiKoFhag0cPX2nRhccRA1pfkUVT9SQF7B6sWeXPrDFOAthUb2DY/y YRKDkHseYIu9Bo11ZTyUW90+Bo1MlDl8INys5Nne5tqvuoDgz+oBhmm/MYiNvl84VJ8H 3YlXiG1J9tNCH8ItmElEgjpBKw8bFbMXAIfW6Fo6SyNy7bCzil0d0ss9S794U8FOK1md mm0g== X-Gm-Message-State: AOJu0YyOqDL6cWX3IVkjh31i3O5EOf8xx226+xy0aocDDolVQHg2UXF+ m0+iQVwkYi8FDcuf5f+o3fwHfyeFio94VHqgmQfoKmQLW8BcUT8dC8blGC/xPUtRVMt5ltwwFmS 5+OgMAWOpYQkQT5fpoCorgBnwtHUEkLvtUcOHFhjMMzN0 X-Gm-Gg: ASbGncvhsNr9MmXwp3F6ydj3A9ZstMU8wdVFgprbEZZ9eJqKNYQ9FWAovYyM8lr2/Vb dae+W586slDjn1lRtHa378HtNxrDopz5NTSY07Rm9JB8ojVXcZ8UujpUXGLgpL5631zG9UxhsZg nB9Ao7ILm1FLQF5ljKH20Gns9CTB6YxO4avkWZfrO7+htL0pYTixd+NcikIf14Z4l4mVbif4ath g6AtyXVXUBkVwKGWLrYsChO8XVSGA4SCfzgSi2DC9ZBfATpM5wKe4U+xO8c+asXF3yHbRUEd6In AjSOpGqqiw9RRDJkmPSzhvYvKKLTVk1nJv9Nc5p+7UNbgAiIFCMlTKSD7i8= X-Google-Smtp-Source: AGHT+IEc7cWzXQ41HJzbC9ytY39MwVsW57jfl05PdQqctcvTbnUKrpHZ0BVbCJn4aMWaG8NKUfSYYqjr2Vad X-Received: by 2002:a17:90a:e7cf:b0:30a:9025:84d1 with SMTP id 98e67ed59e1d1-30e7d558d59mr36535304a91.16.1747836497447; Wed, 21 May 2025 07:08:17 -0700 (PDT) Received: from postal.iol.unh.edu (postal.iol.unh.edu. [132.177.123.84]) by smtp-relay.gmail.com with ESMTPS id 98e67ed59e1d1-30f36363dfdsm291495a91.3.2025.05.21.07.08.17 (version=TLS1_2 cipher=ECDHE-ECDSA-AES128-GCM-SHA256 bits=128/128); Wed, 21 May 2025 07:08:17 -0700 (PDT) X-Relaying-Domain: iol.unh.edu Date: Wed, 21 May 2025 07:08:17 -0700 (PDT) Message-ID: <682dde51.170a0220.1f2cd9.f241SMTPIN_ADDED_MISSING@mx.google.com> Received: from [172.21.0.5] (unknown [172.18.0.240]) by postal.iol.unh.edu (Postfix) with ESMTP id 911406052471; Wed, 21 May 2025 10:08:16 -0400 (EDT) Subject: |SUCCESS| pw153550-153558 [PATCH] [v2,9/9] crypto/dpaa2_sec: add sup From: dpdklab@iol.unh.edu To: Test Report Cc: dpdk-test-reports@iol.unh.edu In-Reply-To: <20250521065658.857707-10-g.singh@nxp.com> References: <20250521065658.857707-10-g.singh@nxp.com> Content-Type: text/plain X-BeenThere: test-report@dpdk.org X-Mailman-Version: 2.1.29 Precedence: list List-Id: automatic DPDK test reports List-Unsubscribe: , List-Archive: List-Post: List-Help: List-Subscribe: , Errors-To: test-report-bounces@dpdk.org Test-Label: iol-compile-arm64-testing Test-Status: SUCCESS http://dpdk.org/patch/153558 _Testing PASS_ Submitter: Gagandeep Singh Date: Wednesday, May 21 2025 06:56:58 DPDK git baseline: Repo:dpdk Branch: master CommitID:117e86c4b96ed761e9a7ab766261208fe81bf5ca 153550-153558 --> testing pass Upstream job id: Generic-DPDK-Compile-Meson#390005 Test environment and result as below: +----------------------------------------+--------------------+ | Environment | dpdk_meson_compile | +========================================+====================+ | RHEL9 (ARM) | PASS | +----------------------------------------+--------------------+ | Ubuntu 20.04 ARM GCC Cross Compile | PASS | +----------------------------------------+--------------------+ | Ubuntu 20.04 ARM SVE | PASS | +----------------------------------------+--------------------+ | Debian 12 with MUSDK | PASS | +----------------------------------------+--------------------+ | Fedora 40 (ARM) | PASS | +----------------------------------------+--------------------+ | Fedora 40 (ARM Clang) | PASS | +----------------------------------------+--------------------+ | Fedora 41 (ARM) | PASS | +----------------------------------------+--------------------+ | Fedora 41 (ARM Clang) | PASS | +----------------------------------------+--------------------+ | Ubuntu 22.04 (ARM) | PASS | +----------------------------------------+--------------------+ | Ubuntu 24.04 (ARM) | PASS | +----------------------------------------+--------------------+ | CentOS Stream 9 (ARM) | PASS | +----------------------------------------+--------------------+ | CentOS Stream 10 (ARM) | PASS | +----------------------------------------+--------------------+ | Debian 12 (arm) | PASS | +----------------------------------------+--------------------+ | Ubuntu 20.04 ARM Clang Cross Compile | PASS | +----------------------------------------+--------------------+ | Ubuntu 20.04 aarch32 GCC Cross Compile | PASS | +----------------------------------------+--------------------+ RHEL9 (ARM) Kernel: Depends on container host Compiler: gcc 11.5.0 20240719 (Red Hat 11.5.0-2) Ubuntu 20.04 ARM GCC Cross Compile Kernel: Depends on container host Compiler: aarch64-linux-gnu-gcc (Ubuntu 9.4.0-1ubuntu1~20.04.2) 9.4.0 Ubuntu 20.04 ARM SVE Kernel: Depends on container host Compiler: gcc (Ubuntu 10.5.0-1ubuntu1~20.04) 10.5.0 Debian 12 with MUSDK Kernel: Depends on container host Compiler: gcc (Debian 12.2.0-14) 12.2.0 Fedora 40 (ARM) Kernel: Depends on container host Compiler: gcc 14.2.1 20240912 (Red Hat 14.2.1-3) Fedora 40 (ARM Clang) Kernel: Depends on container host Compiler: clang 18.1.8 (Fedora 18.1.8-1.fc40) Fedora 41 (ARM) Kernel: Depends on container host Compiler: gcc 14.2.1 20240912 (Red Hat 14.2.1-3) Fedora 41 (ARM Clang) Kernel: Depends on container host Compiler: clang 19.1.5 (Fedora 19.1.5-1.fc41) Ubuntu 22.04 (ARM) Kernel: Depends on container host Compiler: gcc (Ubuntu 11.4.0-1ubuntu1~22.04) 11.4.0 Ubuntu 24.04 (ARM) Kernel: Depends on container host Compiler: gcc (Ubuntu 13.3.0-6ubuntu2~24.04) 13.3.0 CentOS Stream 9 (ARM) Kernel: Depends on container host Compiler: gcc 11.5.0 20240719 (Red Hat 11.5.0-2) CentOS Stream 10 (ARM) Kernel: Depends on container host Compiler: gcc 14.2.1 20241104 (Red Hat 14.2.1-6) Debian 12 (arm) Kernel: Depends on container host Compiler: gcc (Debian 12.2.0-14) 12.2.0 Ubuntu 20.04 ARM Clang Cross Compile Kernel: Depends on container host Compiler: clang 10.0.0-4ubuntu1 Ubuntu 20.04 aarch32 GCC Cross Compile Kernel: Depends on container host Compiler: gcc 9.4.0 To view detailed results, visit: https://lab.dpdk.org/results/dashboard/patchsets/33218/ UNH-IOL DPDK Community Lab To manage your email subscriptions, visit: https://lab.dpdk.org/results/dashboard/preferences/subscriptions/