From mboxrd@z Thu Jan 1 00:00:00 1970 Return-Path: Received: from mails.dpdk.org (mails.dpdk.org [217.70.189.124]) by inbox.dpdk.org (Postfix) with ESMTP id 2E259467AF for ; Wed, 21 May 2025 16:17:27 +0200 (CEST) Received: from mails.dpdk.org (localhost [127.0.0.1]) by mails.dpdk.org (Postfix) with ESMTP id 1390B42D96; Wed, 21 May 2025 16:17:27 +0200 (CEST) Received: from mail-io1-f100.google.com (mail-io1-f100.google.com [209.85.166.100]) by mails.dpdk.org (Postfix) with ESMTP id 49F1E4028F for ; Wed, 21 May 2025 16:17:25 +0200 (CEST) Received: by mail-io1-f100.google.com with SMTP id ca18e2360f4ac-86a07a1acffso475990939f.0 for ; Wed, 21 May 2025 07:17:25 -0700 (PDT) DKIM-Signature: v=1; a=rsa-sha256; c=relaxed/relaxed; d=iol.unh.edu; s=unh-iol; t=1747837044; x=1748441844; darn=dpdk.org; h=references:in-reply-to:cc:to:from:subject:message-id:date:from:to :cc:subject:date:message-id:reply-to; bh=py0gHxsV2FqEKHDN3h1dFtkzcFA5J2Ga7Nr664E2jB4=; b=GCCDfnhiAHIK9ubwHH6GS6OaYZ4jeA/6HNahwDqu1MYW79KB9Komq+Lo8XNND69Spz WWERZOB5ZPnvNgnXeLqGygXDYlhllDR8Wu7Wdxl8K4/nnl6WC1HOg2b/vbpq5COCwEhk 3RUr+boPQpUB5bhqCtWkumfMRMbwKwX1D/Lx0= X-Google-DKIM-Signature: v=1; a=rsa-sha256; c=relaxed/relaxed; d=1e100.net; s=20230601; t=1747837044; x=1748441844; h=references:in-reply-to:cc:to:from:subject:message-id:date :x-gm-message-state:from:to:cc:subject:date:message-id:reply-to; bh=py0gHxsV2FqEKHDN3h1dFtkzcFA5J2Ga7Nr664E2jB4=; b=MbYNkSXYa3Wcu7jQZpxb9scxcyd2dYeZCajnEWNLIb9Koh2wo0W53/UDesOMurzT3p UrfQ8Y1EcTPI1CRQ40YsIlM8ECIWKa/Vcrc0mmZk0fGGPTXIIl6GyHW5jz6ur+CQm4MI eEWvYUZl92FNeXsqa7H7mjL8kpaWKCFlRb8QbhD6W0Q7w5d0njcE75IsiuWSxObeMgfM ilTzZ8t3RD5F8OwzDMib10HuELiQSqadfRbur+msH0Jm8pPd5Nx0IeYyDj4seDwKvkPz YMI6yGgOj18HZ1hRYRLavdkLZKu3o5OkY7g03QpapZDtXPZrcpEGpww7/n5RRtQtt7RC YcIA== X-Gm-Message-State: AOJu0Yz8Oecba1DnHzAWwtXhm6iiQzvQPT7gUq3DuPbF6BLFJGiV4ZMG kyzh1Fui2LwL5GQOlmNxd/Ct+rUv3VNSLhPy7294nxssmylNRA2xr8hglQDXDI0lfoAy6tTczyg vdCzrlj+Vx7o9xOelafTUgOPWQOVAZ+WQpXE1sqVHHadb X-Gm-Gg: ASbGnctphVOuWiyRNQIEwvlc7dBLKz9K2kVx5OxFHvL1XZVjSiVVwdoNai25rkLsszy uHmLiBoNaMS11JTg6UslNnwf4ewyANG1YBmczSzU5nV1uYdvepbnFpmoxiC5HpbHrukMV9NxWIa hR7m0cGodqVFdHN/l9AYD6TZk+qv/SkkHjystdmMIVM0qgZXeV5+HO36E57yn1zSN54WZbQ3b4q tPVI176O7qr3bZ7jX0ue7iuk+FwvxzlY+tJ1kKaBMSqnEKX6DaAnq8Z6P5eBHDixwHQaN/ue88V aAzESX9q5ahm8V6PDRfn2pW2GakPo0/zWIJ+2J9si5EW582gFFyFaWQlzAs= X-Google-Smtp-Source: AGHT+IEUIlt1ppge0U3MQa9hubgoncU+KJ7/bL2fbl4Sk3TauySmbGscEOdYTvKRLey+IIoMUvb9aQ77zc+A X-Received: by 2002:a05:6e02:2592:b0:3da:71c7:5c7f with SMTP id e9e14a558f8ab-3db84324607mr223578505ab.15.1747837044083; Wed, 21 May 2025 07:17:24 -0700 (PDT) Received: from postal.iol.unh.edu (postal.iol.unh.edu. [132.177.123.84]) by smtp-relay.gmail.com with ESMTPS id e9e14a558f8ab-3dc8599f889sm670175ab.24.2025.05.21.07.17.23 (version=TLS1_2 cipher=ECDHE-ECDSA-AES128-GCM-SHA256 bits=128/128); Wed, 21 May 2025 07:17:24 -0700 (PDT) X-Relaying-Domain: iol.unh.edu Date: Wed, 21 May 2025 07:17:24 -0700 (PDT) Message-ID: <682de074.920a0220.34aaf7.351bSMTPIN_ADDED_MISSING@mx.google.com> Received: from [172.21.0.6] (unknown [172.18.0.240]) by postal.iol.unh.edu (Postfix) with ESMTP id AA1EB6052471; Wed, 21 May 2025 10:17:23 -0400 (EDT) Subject: |WARNING| pw153550-153558 [PATCH] [v2,9/9] crypto/dpaa2_sec: add sup From: dpdklab@iol.unh.edu To: Test Report Cc: dpdk-test-reports@iol.unh.edu In-Reply-To: <20250521065658.857707-10-g.singh@nxp.com> References: <20250521065658.857707-10-g.singh@nxp.com> Content-Type: text/plain X-BeenThere: test-report@dpdk.org X-Mailman-Version: 2.1.29 Precedence: list List-Id: automatic DPDK test reports List-Unsubscribe: , List-Archive: List-Post: List-Help: List-Subscribe: , Errors-To: test-report-bounces@dpdk.org Test-Label: iol-compile-amd64-testing Test-Status: WARNING http://dpdk.org/patch/153558 _Testing issues_ Submitter: Gagandeep Singh Date: Wednesday, May 21 2025 06:56:58 DPDK git baseline: Repo:dpdk Branch: master CommitID:117e86c4b96ed761e9a7ab766261208fe81bf5ca 153550-153558 --> testing issues Upstream job id: Generic-DPDK-Compile-Meson#390013 Test environment and result as below: +-----------------------------------+--------------------+-------------------+-------------------------+-------------------+------------------+----------------------+ | Environment | dpdk_meson_compile | dpdk_msvc_compile | dpdk_llvm_clang_compile | dpdk_compile_spdk | dpdk_compile_ovs | dpdk_mingw64_compile | +===================================+====================+===================+=========================+===================+==================+======================+ | Ubuntu 20.04 | PASS | SKIPPED | SKIPPED | SKIPPED | SKIPPED | SKIPPED | +-----------------------------------+--------------------+-------------------+-------------------------+-------------------+------------------+----------------------+ | FreeBSD 13.5 | PASS | SKIPPED | SKIPPED | SKIPPED | SKIPPED | SKIPPED | +-----------------------------------+--------------------+-------------------+-------------------------+-------------------+------------------+----------------------+ | FreeBSD 14.2 | PASS | SKIPPED | SKIPPED | SKIPPED | SKIPPED | SKIPPED | +-----------------------------------+--------------------+-------------------+-------------------------+-------------------+------------------+----------------------+ | CentOS Stream 9 | PASS | SKIPPED | SKIPPED | PASS | SKIPPED | SKIPPED | +-----------------------------------+--------------------+-------------------+-------------------------+-------------------+------------------+----------------------+ | CentOS Stream 10 | PASS | SKIPPED | SKIPPED | SKIPPED | SKIPPED | SKIPPED | +-----------------------------------+--------------------+-------------------+-------------------------+-------------------+------------------+----------------------+ | Debian 12 | PASS | SKIPPED | SKIPPED | PASS | SKIPPED | SKIPPED | +-----------------------------------+--------------------+-------------------+-------------------------+-------------------+------------------+----------------------+ | Fedora 40 (Clang) | PASS | SKIPPED | SKIPPED | WARN | SKIPPED | SKIPPED | +-----------------------------------+--------------------+-------------------+-------------------------+-------------------+------------------+----------------------+ | Fedora 40 | PASS | SKIPPED | SKIPPED | PASS | SKIPPED | SKIPPED | +-----------------------------------+--------------------+-------------------+-------------------------+-------------------+------------------+----------------------+ | Fedora 41 (Clang) | PASS | SKIPPED | SKIPPED | WARN | PASS | SKIPPED | +-----------------------------------+--------------------+-------------------+-------------------------+-------------------+------------------+----------------------+ | Fedora 41 | PASS | SKIPPED | SKIPPED | PASS | PASS | SKIPPED | +-----------------------------------+--------------------+-------------------+-------------------------+-------------------+------------------+----------------------+ | openSUSE Leap 15 | PASS | SKIPPED | SKIPPED | SKIPPED | SKIPPED | SKIPPED | +-----------------------------------+--------------------+-------------------+-------------------------+-------------------+------------------+----------------------+ | RHEL8 | PASS | SKIPPED | SKIPPED | SKIPPED | SKIPPED | SKIPPED | +-----------------------------------+--------------------+-------------------+-------------------------+-------------------+------------------+----------------------+ | RHEL9 | PASS | SKIPPED | SKIPPED | SKIPPED | SKIPPED | SKIPPED | +-----------------------------------+--------------------+-------------------+-------------------------+-------------------+------------------+----------------------+ | Ubuntu 22.04 | PASS | SKIPPED | SKIPPED | PASS | SKIPPED | SKIPPED | +-----------------------------------+--------------------+-------------------+-------------------------+-------------------+------------------+----------------------+ | Ubuntu 24.04 | PASS | SKIPPED | SKIPPED | PASS | PASS | SKIPPED | +-----------------------------------+--------------------+-------------------+-------------------------+-------------------+------------------+----------------------+ | Alpine | PASS | SKIPPED | SKIPPED | SKIPPED | SKIPPED | SKIPPED | +-----------------------------------+--------------------+-------------------+-------------------------+-------------------+------------------+----------------------+ | Ubuntu 24.04 32 Bit Cross Compile | PASS | SKIPPED | SKIPPED | SKIPPED | SKIPPED | SKIPPED | +-----------------------------------+--------------------+-------------------+-------------------------+-------------------+------------------+----------------------+ | Windows Server 2022 | SKIPPED | PASS | PASS | SKIPPED | SKIPPED | PASS | +-----------------------------------+--------------------+-------------------+-------------------------+-------------------+------------------+----------------------+ ==== 20 line log output for Fedora 41 (Clang) (dpdk_compile_spdk): ==== --- Failed to get log output --- ==== End log output ==== Ubuntu 20.04 Kernel: 4.19.325-0419325-generic Compiler: gcc (Ubuntu 9.4.0-1ubuntu1~20.04.2) 9.4.0 FreeBSD 13.5 Kernel: 13.5-RELEASE Compiler: clang 19.1.7 FreeBSD 14.2 Kernel: 14.2-RELEASE Compiler: clang 18.1.6 CentOS Stream 9 Kernel: Depends on container host Compiler: gcc 11.5.0 20240719 (Red Hat 11.5.0-2) CentOS Stream 10 Kernel: Depends on container host Compiler: gcc 14.2.1 20241104 (Red Hat 14.2.1-6) Debian 12 Kernel: Depends on container host Compiler: gcc (Debian 12.2.0-14) 12.2.0 Fedora 40 (Clang) Kernel: Depends on container host Compiler: clang 18.1.8 (Fedora 18.1.8-1.fc40) Fedora 40 Kernel: Depends on container host Compiler: gcc 14.2.1 20240912 (Red Hat 14.2.1-3) Fedora 41 (Clang) Kernel: Depends on container host Compiler: clang 19.1.5 (Fedora 19.1.5-1.fc41) Fedora 41 Kernel: Depends on container host Compiler: gcc 14.2.1 20240912 (Red Hat 14.2.1-3) openSUSE Leap 15 Kernel: Depends on container host Compiler: gcc (SUSE Linux) 7.5.0 RHEL8 Kernel: Depends on container host Compiler: gcc 8.5.0 20210514 (Red Hat 8.5.0-22) RHEL9 Kernel: Depends on container host Compiler: gcc 11.5.0 20240719 (Red Hat 11.5.0-2) Ubuntu 22.04 Kernel: Depends on container host Compiler: gcc (Ubuntu 11.4.0-1ubuntu1~22.04) 11.4.0 Ubuntu 24.04 Kernel: Depends on container host Compiler: gcc (Ubuntu 13.3.0-6ubuntu2~24.04) 13.3.0 Alpine Kernel: Depends on container host Compiler: gcc (Alpine 14.2.0) 14.2.0 Ubuntu 24.04 32 Bit Cross Compile Kernel: Depends on container host Compiler: gcc (Ubuntu 13.3.0-6ubuntu2~24.04) 13.3.0 Windows Server 2022 Kernel: 10.0.20348.2031 Compiler: clang 15.0.7, gcc 14.1.0 (MinGW), and MSVC VS 19.39.33521 To view detailed results, visit: https://lab.dpdk.org/results/dashboard/patchsets/33218/ UNH-IOL DPDK Community Lab To manage your email subscriptions, visit: https://lab.dpdk.org/results/dashboard/preferences/subscriptions/