From mboxrd@z Thu Jan 1 00:00:00 1970 Return-Path: Received: from mails.dpdk.org (mails.dpdk.org [217.70.189.124]) by inbox.dpdk.org (Postfix) with ESMTP id 60C8B467AF for ; Wed, 21 May 2025 16:19:36 +0200 (CEST) Received: from mails.dpdk.org (localhost [127.0.0.1]) by mails.dpdk.org (Postfix) with ESMTP id 5B69F42DA6; Wed, 21 May 2025 16:19:36 +0200 (CEST) Received: from mail-il1-f225.google.com (mail-il1-f225.google.com [209.85.166.225]) by mails.dpdk.org (Postfix) with ESMTP id E58FF4028F for ; Wed, 21 May 2025 16:19:34 +0200 (CEST) Received: by mail-il1-f225.google.com with SMTP id e9e14a558f8ab-3d940c7ea71so27549095ab.0 for ; Wed, 21 May 2025 07:19:34 -0700 (PDT) DKIM-Signature: v=1; a=rsa-sha256; c=relaxed/relaxed; d=iol.unh.edu; s=unh-iol; t=1747837174; x=1748441974; darn=dpdk.org; h=references:in-reply-to:cc:to:from:subject:message-id:date:from:to :cc:subject:date:message-id:reply-to; bh=d61SSMAFgOZrLuR4NUxv8cNuCCf7Hx2Gab+0cxQFyE4=; b=c7dD7BHV718sMhFMbX5pZOYPxg84+8GsmDiimpANUeGn+yhj/QXSrrqMwD9c0qBPFm VDQw4rtwFRJOtiDsuU6YLoJkb6hv3aCKctrQUnZH6GnE07TpfiDPwVkWO6+f//MgVOwf mnQMPtSAc2bNAIgSMFYL6GSYGFMfUz8XpZcmY= X-Google-DKIM-Signature: v=1; a=rsa-sha256; c=relaxed/relaxed; d=1e100.net; s=20230601; t=1747837174; x=1748441974; h=references:in-reply-to:cc:to:from:subject:message-id:date :x-gm-message-state:from:to:cc:subject:date:message-id:reply-to; bh=d61SSMAFgOZrLuR4NUxv8cNuCCf7Hx2Gab+0cxQFyE4=; b=sn91B0u4hC1kCEaj41Wwn0wWNYoAtTbGpE6vjeyzAB8rWdpd7upSZ7vdpO492xbNJ3 hkyWUUgJsB00x8DiQeBrp03h/T4m6tnpydSKvTnzpwdN+qzav5PBDDpiWCih7THyG58V /RBn3S6SkIROICK+lO544rhkhDWQ5C8yr1AjQa5os7U+0yoRkZdylMcWnicvbndQO+an +DYNYrM4j0vbTeOM1f3ATw6OWP6e263OHEFpKDg5bDktWP77zCDSjV4FTLqaVClwx6L+ aqacDEdUiGb0/XeS0smTi64teRHX1mKA1fUjt2SvNOSSC0/lBm7R7yTjfoD93+Pafdvy DZAQ== X-Gm-Message-State: AOJu0YwqPMqk/QyB/SgLIMEaD0Dh/qBhueSXHjvWPBUTpN63OcUMKuuC YR4hwiV6Zp6WosV0dKDC7dU6b2Os9lnH6RSlECHbH0elfiGfMq5orLHodxpmM2jLNP9ffqdfZps GZcWQ0ko0JE4xku4hZvh7cn+nxMnZ9ImPlzuwzVkBT4rH0ayAFbFUeHkj8+cM X-Gm-Gg: ASbGnctzZ3ejrY0tnY2mRhvfcMqQIw1NOojdLJUqc/H+Q6Q/mk0cSBUwzrCbY2XqjwO toPWTRyC+qF7hIZPA1oq6lsiTT2GlFFJObXBJhdooPisIrxkOPuGAf8LHRBRHqW8o9qUa+XeR+t F21uCa2RpURQrdzBhAKwznu3WdJxXSL3qK7ctjMw0VVfB7Cyvgorza2ej7cmtU0BAJb3Q/MCms0 /a2X0MYGTuh4b/g5Hv7m4ukhq1MlTp1cQZTdxRpIXgfCoJSxoS2x2WeQXN0dUK+kJQPL+5N+D65 ElJ/DNoKnsobs0yfb7x6xhrnvWNDn+6q01hU X-Google-Smtp-Source: AGHT+IFbc2doll6zkBMfjzJ1ZZ8+Ut8iMjifn+Lz1zja3Ojd0bDc/z7SXTt34QwldZ1nMUXYtlkN5BTna8y+ X-Received: by 2002:a05:6e02:1fce:b0:3dc:7d79:1a5c with SMTP id e9e14a558f8ab-3dc7d791c7emr61718335ab.20.1747837174175; Wed, 21 May 2025 07:19:34 -0700 (PDT) Received: from postal.iol.unh.edu (postal.iol.unh.edu. [2606:4100:3880:1234::84]) by smtp-relay.gmail.com with ESMTPS id e9e14a558f8ab-3dc87b4ef40sm464145ab.33.2025.05.21.07.19.34 (version=TLS1_2 cipher=ECDHE-ECDSA-AES128-GCM-SHA256 bits=128/128); Wed, 21 May 2025 07:19:34 -0700 (PDT) X-Relaying-Domain: iol.unh.edu Date: Wed, 21 May 2025 07:19:34 -0700 (PDT) Message-ID: <682de0f6.050a0220.237395.2500SMTPIN_ADDED_MISSING@mx.google.com> Received: from [172.21.0.7] (unknown [172.18.0.240]) by postal.iol.unh.edu (Postfix) with ESMTP id A87796052471; Wed, 21 May 2025 10:19:33 -0400 (EDT) Subject: |WARNING| pw153550-153558 [PATCH] [v2,9/9] crypto/dpaa2_sec: add sup From: dpdklab@iol.unh.edu To: Test Report Cc: dpdk-test-reports@iol.unh.edu In-Reply-To: <20250521065658.857707-10-g.singh@nxp.com> References: <20250521065658.857707-10-g.singh@nxp.com> Content-Type: text/plain X-BeenThere: test-report@dpdk.org X-Mailman-Version: 2.1.29 Precedence: list List-Id: automatic DPDK test reports List-Unsubscribe: , List-Archive: List-Post: List-Help: List-Subscribe: , Errors-To: test-report-bounces@dpdk.org Test-Label: iol-compile-amd64-testing Test-Status: WARNING http://dpdk.org/patch/153558 _Testing issues_ Submitter: Gagandeep Singh Date: Wednesday, May 21 2025 06:56:58 DPDK git baseline: Repo:dpdk Branch: master CommitID:117e86c4b96ed761e9a7ab766261208fe81bf5ca 153550-153558 --> testing issues Upstream job id: Generic-DPDK-Compile-Meson#390020 Test environment and result as below: +-----------------------------------+--------------------+-------------------+-------------------------+-------------------+------------------+----------------------+ | Environment | dpdk_meson_compile | dpdk_msvc_compile | dpdk_llvm_clang_compile | dpdk_compile_spdk | dpdk_compile_ovs | dpdk_mingw64_compile | +===================================+====================+===================+=========================+===================+==================+======================+ | Ubuntu 20.04 | PASS | SKIPPED | SKIPPED | SKIPPED | SKIPPED | SKIPPED | +-----------------------------------+--------------------+-------------------+-------------------------+-------------------+------------------+----------------------+ | FreeBSD 13.5 | PASS | SKIPPED | SKIPPED | SKIPPED | SKIPPED | SKIPPED | +-----------------------------------+--------------------+-------------------+-------------------------+-------------------+------------------+----------------------+ | FreeBSD 14.2 | PASS | SKIPPED | SKIPPED | SKIPPED | SKIPPED | SKIPPED | +-----------------------------------+--------------------+-------------------+-------------------------+-------------------+------------------+----------------------+ | CentOS Stream 9 | PASS | SKIPPED | SKIPPED | PASS | SKIPPED | SKIPPED | +-----------------------------------+--------------------+-------------------+-------------------------+-------------------+------------------+----------------------+ | CentOS Stream 10 | PASS | SKIPPED | SKIPPED | SKIPPED | SKIPPED | SKIPPED | +-----------------------------------+--------------------+-------------------+-------------------------+-------------------+------------------+----------------------+ | Debian 12 | PASS | SKIPPED | SKIPPED | PASS | SKIPPED | SKIPPED | +-----------------------------------+--------------------+-------------------+-------------------------+-------------------+------------------+----------------------+ | Fedora 40 (Clang) | PASS | SKIPPED | SKIPPED | WARN | SKIPPED | SKIPPED | +-----------------------------------+--------------------+-------------------+-------------------------+-------------------+------------------+----------------------+ | Fedora 40 | PASS | SKIPPED | SKIPPED | PASS | SKIPPED | SKIPPED | +-----------------------------------+--------------------+-------------------+-------------------------+-------------------+------------------+----------------------+ | Fedora 41 (Clang) | PASS | SKIPPED | SKIPPED | WARN | PASS | SKIPPED | +-----------------------------------+--------------------+-------------------+-------------------------+-------------------+------------------+----------------------+ | Fedora 41 | PASS | SKIPPED | SKIPPED | PASS | PASS | SKIPPED | +-----------------------------------+--------------------+-------------------+-------------------------+-------------------+------------------+----------------------+ | openSUSE Leap 15 | PASS | SKIPPED | SKIPPED | SKIPPED | SKIPPED | SKIPPED | +-----------------------------------+--------------------+-------------------+-------------------------+-------------------+------------------+----------------------+ | RHEL8 | PASS | SKIPPED | SKIPPED | SKIPPED | SKIPPED | SKIPPED | +-----------------------------------+--------------------+-------------------+-------------------------+-------------------+------------------+----------------------+ | RHEL9 | PASS | SKIPPED | SKIPPED | SKIPPED | SKIPPED | SKIPPED | +-----------------------------------+--------------------+-------------------+-------------------------+-------------------+------------------+----------------------+ | Ubuntu 22.04 | PASS | SKIPPED | SKIPPED | PASS | SKIPPED | SKIPPED | +-----------------------------------+--------------------+-------------------+-------------------------+-------------------+------------------+----------------------+ | Ubuntu 24.04 | PASS | SKIPPED | SKIPPED | PASS | PASS | SKIPPED | +-----------------------------------+--------------------+-------------------+-------------------------+-------------------+------------------+----------------------+ | Alpine | PASS | SKIPPED | SKIPPED | SKIPPED | SKIPPED | SKIPPED | +-----------------------------------+--------------------+-------------------+-------------------------+-------------------+------------------+----------------------+ | Ubuntu 24.04 32 Bit Cross Compile | PASS | SKIPPED | SKIPPED | SKIPPED | SKIPPED | SKIPPED | +-----------------------------------+--------------------+-------------------+-------------------------+-------------------+------------------+----------------------+ | Windows Server 2022 | SKIPPED | PASS | PASS | SKIPPED | SKIPPED | PASS | +-----------------------------------+--------------------+-------------------+-------------------------+-------------------+------------------+----------------------+ ==== 20 line log output for Fedora 41 (Clang) (dpdk_compile_spdk): ==== --- Failed to get log output --- ==== End log output ==== Ubuntu 20.04 Kernel: 4.19.325-0419325-generic Compiler: gcc (Ubuntu 9.4.0-1ubuntu1~20.04.2) 9.4.0 FreeBSD 13.5 Kernel: 13.5-RELEASE Compiler: clang 19.1.7 FreeBSD 14.2 Kernel: 14.2-RELEASE Compiler: clang 18.1.6 CentOS Stream 9 Kernel: Depends on container host Compiler: gcc 11.5.0 20240719 (Red Hat 11.5.0-2) CentOS Stream 10 Kernel: Depends on container host Compiler: gcc 14.2.1 20241104 (Red Hat 14.2.1-6) Debian 12 Kernel: Depends on container host Compiler: gcc (Debian 12.2.0-14) 12.2.0 Fedora 40 (Clang) Kernel: Depends on container host Compiler: clang 18.1.8 (Fedora 18.1.8-1.fc40) Fedora 40 Kernel: Depends on container host Compiler: gcc 14.2.1 20240912 (Red Hat 14.2.1-3) Fedora 41 (Clang) Kernel: Depends on container host Compiler: clang 19.1.5 (Fedora 19.1.5-1.fc41) Fedora 41 Kernel: Depends on container host Compiler: gcc 14.2.1 20240912 (Red Hat 14.2.1-3) openSUSE Leap 15 Kernel: Depends on container host Compiler: gcc (SUSE Linux) 7.5.0 RHEL8 Kernel: Depends on container host Compiler: gcc 8.5.0 20210514 (Red Hat 8.5.0-22) RHEL9 Kernel: Depends on container host Compiler: gcc 11.5.0 20240719 (Red Hat 11.5.0-2) Ubuntu 22.04 Kernel: Depends on container host Compiler: gcc (Ubuntu 11.4.0-1ubuntu1~22.04) 11.4.0 Ubuntu 24.04 Kernel: Depends on container host Compiler: gcc (Ubuntu 13.3.0-6ubuntu2~24.04) 13.3.0 Alpine Kernel: Depends on container host Compiler: gcc (Alpine 14.2.0) 14.2.0 Ubuntu 24.04 32 Bit Cross Compile Kernel: Depends on container host Compiler: gcc (Ubuntu 13.3.0-6ubuntu2~24.04) 13.3.0 Windows Server 2022 Kernel: 10.0.20348.2031 Compiler: clang 15.0.7, gcc 14.1.0 (MinGW), and MSVC VS 19.39.33521 To view detailed results, visit: https://lab.dpdk.org/results/dashboard/patchsets/33218/ UNH-IOL DPDK Community Lab To manage your email subscriptions, visit: https://lab.dpdk.org/results/dashboard/preferences/subscriptions/