From mboxrd@z Thu Jan 1 00:00:00 1970 Return-Path: Received: from mails.dpdk.org (mails.dpdk.org [217.70.189.124]) by inbox.dpdk.org (Postfix) with ESMTP id 85487467AF for ; Wed, 21 May 2025 16:20:29 +0200 (CEST) Received: from mails.dpdk.org (localhost [127.0.0.1]) by mails.dpdk.org (Postfix) with ESMTP id 816E342DA6; Wed, 21 May 2025 16:20:29 +0200 (CEST) Received: from mail-il1-f227.google.com (mail-il1-f227.google.com [209.85.166.227]) by mails.dpdk.org (Postfix) with ESMTP id 351454028F for ; Wed, 21 May 2025 16:20:28 +0200 (CEST) Received: by mail-il1-f227.google.com with SMTP id e9e14a558f8ab-3d91db4f0c3so31201265ab.3 for ; Wed, 21 May 2025 07:20:28 -0700 (PDT) DKIM-Signature: v=1; a=rsa-sha256; c=relaxed/relaxed; d=iol.unh.edu; s=unh-iol; t=1747837227; x=1748442027; darn=dpdk.org; h=references:in-reply-to:cc:to:from:subject:message-id:date:from:to :cc:subject:date:message-id:reply-to; bh=A0JZMelGoBfVeYBaYEv+dKJWhnFKjzlOBqF+t/oXaSg=; b=KPrdYHNV5wWYNpDWXus3z/kT8RxJxam5OBfgIhe5mtTsyvrMFzYA5GXeTMoxEy2lq2 EvH71eLmJxq6vYxdQN7DY7atgWqPMWKAHiXpa+Lv5hH/Mavu7VxGSug4z8woi28P2MpI R/5QLKWFqx5u51vEmLLGZNWPgGO1h9a4BIXDU= X-Google-DKIM-Signature: v=1; a=rsa-sha256; c=relaxed/relaxed; d=1e100.net; s=20230601; t=1747837227; x=1748442027; h=references:in-reply-to:cc:to:from:subject:message-id:date :x-gm-message-state:from:to:cc:subject:date:message-id:reply-to; bh=A0JZMelGoBfVeYBaYEv+dKJWhnFKjzlOBqF+t/oXaSg=; b=Sktzr6Uy+RydxL5WyDy0JiD3rCgL3leVKtVd7Lix0eWpxPhZ6enmyrLZGg3HjrshcJ k3BcXMWfKU6dMIgEKhhnkrxfiXDUg6AIc9CSAqOGTjd0edslo3V5oX9BuMT0cOlw3RVz I+4mRrEQA+guN+NRdw1kvEAn8MyvoTS0ZV7FymfmLjN7r9QJulm/JESfjiF1l2cZpi1T MyEoLka5Ycb928r5V0mFjS+3uwMrBQJKJtvcnA78r8dlOHUK8aVsJN5Z+2ctTWUoz/HE G5o2/Kj9UTD3mjidE/uc5L+wafoCfdc3e2XA2UaZoJzgN1DAXYPHcDTQK55CRyPeWcX3 8gAQ== X-Gm-Message-State: AOJu0Yz7OKTgntQSwo1xMXZd0B1F9OgJP9y37Xamv/7tFc97elzxyiGi FhYIc6U9HmIA5Bx1Kpo7oSUd2dEdxjrfJr1FNP8cJIuBDPmnNESDQ+w+XJkyLTSfRtIOTc+QPRd gpOVTKSLX9XYwIi9hmGJRIGTz2sxtCiec9kgVK3nOgczU X-Gm-Gg: ASbGncs+sFI1RmN4RLUbhI/qAEPVVKq8XxnuBl/8BxfoptkQDLwohNl239+IQ/wBWvE z/bduEQlGYIfSQY39gXxqKAPP4sVD8FP4ZQ9u+0o5dGu9xaKk41fLT7m8QsA3/n66dVgioE1XM6 VlXCQ2KeAKv4GjbvMRId+ftyQB11hQhgkUwE7vhgAtRZMOve+3ecVDOD/uwU3JexKhlmG1Jkpph CeSNOJH+jkXGqqrYs5j5LMzXCAPq8KYfha2CDOH8UDCSPEAi/ncjFwiZMg3QpS1iR15utgDUG7f vOqh5cY5yND/YZaTot51JWfKm+SJYt3trrCIfZQe6zdmzzoPQOTzxAFEnNE= X-Google-Smtp-Source: AGHT+IEWDrrs1CBft/J7WSxyQG0uzMd4eoBUWx7LT9j6GFmRH7XP6xvTHUD/068l2J4uZjn9A2x5wcC0Uxge X-Received: by 2002:a05:6e02:1fce:b0:3dc:7d79:1a5c with SMTP id e9e14a558f8ab-3dc7d791c7emr61772105ab.20.1747837226070; Wed, 21 May 2025 07:20:26 -0700 (PDT) Received: from postal.iol.unh.edu (postal.iol.unh.edu. [132.177.123.84]) by smtp-relay.gmail.com with ESMTPS id 8926c6da1cb9f-4fbcc3cd86dsm580614173.34.2025.05.21.07.20.25 (version=TLS1_2 cipher=ECDHE-ECDSA-AES128-GCM-SHA256 bits=128/128); Wed, 21 May 2025 07:20:26 -0700 (PDT) X-Relaying-Domain: iol.unh.edu Date: Wed, 21 May 2025 07:20:26 -0700 (PDT) Message-ID: <682de12a.050a0220.4035d.f0daSMTPIN_ADDED_MISSING@mx.google.com> Received: from [172.21.0.5] (unknown [172.18.0.240]) by postal.iol.unh.edu (Postfix) with ESMTP id 668266052471; Wed, 21 May 2025 10:20:25 -0400 (EDT) Subject: |SUCCESS| pw153559 [PATCH] examples/flow_filtering: add re-route to From: dpdklab@iol.unh.edu To: Test Report Cc: dpdk-test-reports@iol.unh.edu In-Reply-To: <20250521072736.141817-1-shperetz@nvidia.com> References: <20250521072736.141817-1-shperetz@nvidia.com> Content-Type: text/plain X-BeenThere: test-report@dpdk.org X-Mailman-Version: 2.1.29 Precedence: list List-Id: automatic DPDK test reports List-Unsubscribe: , List-Archive: List-Post: List-Help: List-Subscribe: , Errors-To: test-report-bounces@dpdk.org Test-Label: iol-compile-arm64-testing Test-Status: SUCCESS http://dpdk.org/patch/153559 _Testing PASS_ Submitter: Shani Peretz Date: Wednesday, May 21 2025 07:27:36 DPDK git baseline: Repo:dpdk Branch: master CommitID:117e86c4b96ed761e9a7ab766261208fe81bf5ca 153559 --> testing pass Upstream job id: Generic-DPDK-Compile-Meson#389976 Test environment and result as below: +----------------------------------------+--------------------+ | Environment | dpdk_meson_compile | +========================================+====================+ | RHEL9 (ARM) | PASS | +----------------------------------------+--------------------+ | Ubuntu 20.04 ARM GCC Cross Compile | PASS | +----------------------------------------+--------------------+ | Ubuntu 20.04 ARM SVE | PASS | +----------------------------------------+--------------------+ | Debian 12 with MUSDK | PASS | +----------------------------------------+--------------------+ | Fedora 40 (ARM) | PASS | +----------------------------------------+--------------------+ | Fedora 41 (ARM) | PASS | +----------------------------------------+--------------------+ | Fedora 40 (ARM Clang) | PASS | +----------------------------------------+--------------------+ | Fedora 41 (ARM Clang) | PASS | +----------------------------------------+--------------------+ | Ubuntu 22.04 (ARM) | PASS | +----------------------------------------+--------------------+ | Ubuntu 24.04 (ARM) | PASS | +----------------------------------------+--------------------+ | CentOS Stream 10 (ARM) | PASS | +----------------------------------------+--------------------+ | CentOS Stream 9 (ARM) | PASS | +----------------------------------------+--------------------+ | Ubuntu 20.04 ARM Clang Cross Compile | PASS | +----------------------------------------+--------------------+ | Debian 12 (arm) | PASS | +----------------------------------------+--------------------+ | Ubuntu 20.04 aarch32 GCC Cross Compile | PASS | +----------------------------------------+--------------------+ | Ubuntu 20.04 (ARM) | PASS | +----------------------------------------+--------------------+ RHEL9 (ARM) Kernel: Depends on container host Compiler: gcc 11.5.0 20240719 (Red Hat 11.5.0-2) Ubuntu 20.04 ARM GCC Cross Compile Kernel: Depends on container host Compiler: aarch64-linux-gnu-gcc (Ubuntu 9.4.0-1ubuntu1~20.04.2) 9.4.0 Ubuntu 20.04 ARM SVE Kernel: Depends on container host Compiler: gcc (Ubuntu 10.5.0-1ubuntu1~20.04) 10.5.0 Debian 12 with MUSDK Kernel: Depends on container host Compiler: gcc (Debian 12.2.0-14) 12.2.0 Fedora 40 (ARM) Kernel: Depends on container host Compiler: gcc 14.2.1 20240912 (Red Hat 14.2.1-3) Fedora 41 (ARM) Kernel: Depends on container host Compiler: gcc 14.2.1 20240912 (Red Hat 14.2.1-3) Fedora 40 (ARM Clang) Kernel: Depends on container host Compiler: clang 18.1.8 (Fedora 18.1.8-1.fc40) Fedora 41 (ARM Clang) Kernel: Depends on container host Compiler: clang 19.1.5 (Fedora 19.1.5-1.fc41) Ubuntu 22.04 (ARM) Kernel: Depends on container host Compiler: gcc (Ubuntu 11.4.0-1ubuntu1~22.04) 11.4.0 Ubuntu 24.04 (ARM) Kernel: Depends on container host Compiler: gcc (Ubuntu 13.3.0-6ubuntu2~24.04) 13.3.0 CentOS Stream 10 (ARM) Kernel: Depends on container host Compiler: gcc 14.2.1 20241104 (Red Hat 14.2.1-6) CentOS Stream 9 (ARM) Kernel: Depends on container host Compiler: gcc 11.5.0 20240719 (Red Hat 11.5.0-2) Ubuntu 20.04 ARM Clang Cross Compile Kernel: Depends on container host Compiler: clang 10.0.0-4ubuntu1 Debian 12 (arm) Kernel: Depends on container host Compiler: gcc (Debian 12.2.0-14) 12.2.0 Ubuntu 20.04 aarch32 GCC Cross Compile Kernel: Depends on container host Compiler: gcc 9.4.0 Ubuntu 20.04 (ARM) Kernel: Depends on container host Compiler: gcc (Ubuntu 9.4.0-1ubuntu1~20.04.2) 9.4.0 To view detailed results, visit: https://lab.dpdk.org/results/dashboard/patchsets/33219/ UNH-IOL DPDK Community Lab To manage your email subscriptions, visit: https://lab.dpdk.org/results/dashboard/preferences/subscriptions/