From mboxrd@z Thu Jan 1 00:00:00 1970 Return-Path: Received: from mails.dpdk.org (mails.dpdk.org [217.70.189.124]) by inbox.dpdk.org (Postfix) with ESMTP id E8F6A467AF for ; Wed, 21 May 2025 16:54:01 +0200 (CEST) Received: from mails.dpdk.org (localhost [127.0.0.1]) by mails.dpdk.org (Postfix) with ESMTP id E3F0242DC1; Wed, 21 May 2025 16:54:01 +0200 (CEST) Received: from mail-vs1-f97.google.com (mail-vs1-f97.google.com [209.85.217.97]) by mails.dpdk.org (Postfix) with ESMTP id 41B6A42DB0 for ; Wed, 21 May 2025 16:54:01 +0200 (CEST) Received: by mail-vs1-f97.google.com with SMTP id ada2fe7eead31-4e041582fd2so2001979137.0 for ; Wed, 21 May 2025 07:54:01 -0700 (PDT) DKIM-Signature: v=1; a=rsa-sha256; c=relaxed/relaxed; d=iol.unh.edu; s=unh-iol; t=1747839240; x=1748444040; darn=dpdk.org; h=references:in-reply-to:cc:to:from:subject:message-id:date:from:to :cc:subject:date:message-id:reply-to; bh=/4QTmY2zcAbAtyQ2ZhU6tT6jcy2Aj3/0msS6TFqwTjw=; b=hdaCMPi88AyJVwfYDHA8pIJm8VyoUUdalxM7xIi7Np0Ncz2+GGNXoZEJTdUJdnn4Wl eL4+1NNd8+Pv7RUp4wnPGOlDFUEuZMxWwgYXzgcSqKKGG7NFjJHVHo5BmzGDGlwv5Qp3 KbV9grsPHcyJxBuGm9IDV0bZXTj8WcSm5Og5g= X-Google-DKIM-Signature: v=1; a=rsa-sha256; c=relaxed/relaxed; d=1e100.net; s=20230601; t=1747839240; x=1748444040; h=references:in-reply-to:cc:to:from:subject:message-id:date :x-gm-message-state:from:to:cc:subject:date:message-id:reply-to; bh=/4QTmY2zcAbAtyQ2ZhU6tT6jcy2Aj3/0msS6TFqwTjw=; b=HEocw49gB3VaULwjE0m4b95yY5bPXGae3DPdNxlG0QHLMvHUuN2p86O32nIsunnlwb 1BtTOic0L3GmQTPj1aHJVeNtnSVJVcfSLw0qfBZsJJj22wUBFhLIzmqXt8uGRmdcl156 Tb//+LvVmBFQQcxAeyyxrRp+TEsgXuClnvJkZzxiiKWHv5Qu3KW9iI4ng1bWTygUZGfX DUC258q60Ll7DtMvPmL2YraD53pe6rq5xLArI15oMQwxr+CBhk+RX0FFX3mPqEaovGkV ptszDGM1ciAwKKS1x8S+bsy27HTTU3pEg3Ki41b2mNRo9qtfwkpqDWhTjmvUfJEVco/g NUkA== X-Gm-Message-State: AOJu0YyBUcohm9EvkYS16hCpJ8Z+KFfTVfpzvdBpaK4tu19N0zRGQ85G xM/HKcpOiOKExzQRee6l4ibTpmttm9P5ux2upahSsGPVCdf7+EkWb/6Y7BR8MJPZilKL+DTy1QY sgolQpFfBL+Zq7dzrDQTNC9to4b/saJr/GONJ20WXr7Q9 X-Gm-Gg: ASbGncs4kfXP8sT8Y5JUD0pFwrEnNGX03UQwYlXxGi0bsZopVUiWdIEJYr0wVWJEVDb w6znJ16jyoCrbUTdhf0lC4d/2V8Wr8b2M269W11BdpNNqNFvvTwhy04aoS5frOvXLmn8mR6iJl4 U5gmsx5VwZfiRc2b+DaRHmvghL0JSU9jQlb3EKmb0KogZE0jMC6aZfQjVj8DgBW/ATY8HGL608y u06ZUQodsTfDQ7Qk79usfFeXO/WaHgapSuDYUOJArhjR8ylPPY+9wa6MCOarWqzv2le2b2DttJd /Yz0BIJm4RQhxipmV/lXtQPU1XqjdGDkJCnu5TGI6O+jNOHro8z+RM0Hsgg= X-Google-Smtp-Source: AGHT+IGn/JAGWspykB7yMD+7hQ95uaBku6SAmyjuZZtrM3jjsfNX5wYw5b2CDzNH8U9DMydacmDgH7wvB8Oq X-Received: by 2002:a05:6102:1512:b0:4df:93e0:fbb with SMTP id ada2fe7eead31-4dfa6c66bb3mr20215184137.25.1747839240616; Wed, 21 May 2025 07:54:00 -0700 (PDT) Received: from postal.iol.unh.edu (postal.iol.unh.edu. [132.177.123.84]) by smtp-relay.gmail.com with ESMTPS id a1e0cc1a2514c-87bec102b56sm156739241.4.2025.05.21.07.54.00 (version=TLS1_2 cipher=ECDHE-ECDSA-AES128-GCM-SHA256 bits=128/128); Wed, 21 May 2025 07:54:00 -0700 (PDT) X-Relaying-Domain: iol.unh.edu Date: Wed, 21 May 2025 07:54:00 -0700 (PDT) Message-ID: <682de908.050a0220.3285db.87dfSMTPIN_ADDED_MISSING@mx.google.com> Received: from [172.21.0.5] (unknown [172.18.0.240]) by postal.iol.unh.edu (Postfix) with ESMTP id 401C86052471; Wed, 21 May 2025 10:54:00 -0400 (EDT) Subject: |SUCCESS| pw153561 [PATCH] [v2] ethdev: optimize how the values of t From: dpdklab@iol.unh.edu To: Test Report Cc: dpdk-test-reports@iol.unh.edu In-Reply-To: <20250521101531.34240-1-sunyang.wu@jaguarmicro.com> References: <20250521101531.34240-1-sunyang.wu@jaguarmicro.com> Content-Type: text/plain X-BeenThere: test-report@dpdk.org X-Mailman-Version: 2.1.29 Precedence: list List-Id: automatic DPDK test reports List-Unsubscribe: , List-Archive: List-Post: List-Help: List-Subscribe: , Errors-To: test-report-bounces@dpdk.org Test-Label: iol-unit-arm64-testing Test-Status: SUCCESS http://dpdk.org/patch/153561 _Testing PASS_ Submitter: Sunyang Wu Date: Wednesday, May 21 2025 10:15:31 DPDK git baseline: Repo:dpdk Branch: master CommitID:a0dde342cc312fd75b63281f63d757db7482cdab 153561 --> testing pass Upstream job id: Generic-Unit-Test-DPDK#339587 Test environment and result as below: +-----------------------------+---------------------------+------------------------------+--------------+----------------+ | Environment | cryptodev_sw_zuc_autotest | cryptodev_sw_snow3g_autotest | lpm_autotest | dpdk_unit_test | +=============================+===========================+==============================+==============+================+ | Debian 12 (arm) | PASS | PASS | SKIPPED | PASS | +-----------------------------+---------------------------+------------------------------+--------------+----------------+ | Ubuntu 20.04 ARM SVE | SKIPPED | SKIPPED | PASS | SKIPPED | +-----------------------------+---------------------------+------------------------------+--------------+----------------+ | CentOS Stream 9 (ARM) | SKIPPED | SKIPPED | SKIPPED | PASS | +-----------------------------+---------------------------+------------------------------+--------------+----------------+ | CentOS Stream 10 (ARM) | SKIPPED | SKIPPED | SKIPPED | PASS | +-----------------------------+---------------------------+------------------------------+--------------+----------------+ | Fedora 41 (ARM) | SKIPPED | SKIPPED | SKIPPED | PASS | +-----------------------------+---------------------------+------------------------------+--------------+----------------+ | Fedora 40 (ARM) | SKIPPED | SKIPPED | SKIPPED | PASS | +-----------------------------+---------------------------+------------------------------+--------------+----------------+ | Fedora 41 (ARM Clang) | SKIPPED | SKIPPED | SKIPPED | PASS | +-----------------------------+---------------------------+------------------------------+--------------+----------------+ | Fedora 40 (ARM Clang) | SKIPPED | SKIPPED | SKIPPED | PASS | +-----------------------------+---------------------------+------------------------------+--------------+----------------+ | RHEL9 (ARM) | SKIPPED | SKIPPED | SKIPPED | PASS | +-----------------------------+---------------------------+------------------------------+--------------+----------------+ | Ubuntu 24.04 (ARM) | SKIPPED | SKIPPED | SKIPPED | PASS | +-----------------------------+---------------------------+------------------------------+--------------+----------------+ | Ubuntu 22.04 (ARM) | SKIPPED | SKIPPED | SKIPPED | PASS | +-----------------------------+---------------------------+------------------------------+--------------+----------------+ | Ubuntu 20.04 (ARM) | SKIPPED | SKIPPED | SKIPPED | PASS | +-----------------------------+---------------------------+------------------------------+--------------+----------------+ | 32-bit Ubuntu 22.04.4 (ARM) | SKIPPED | SKIPPED | SKIPPED | PASS | +-----------------------------+---------------------------+------------------------------+--------------+----------------+ Debian 12 (arm) Kernel: Depends on container host Compiler: gcc (Debian 12.2.0-14) 12.2.0 Ubuntu 20.04 ARM SVE Kernel: Depends on container host Compiler: gcc (Ubuntu 10.5.0-1ubuntu1~20.04) 10.5.0 CentOS Stream 9 (ARM) Kernel: Depends on container host Compiler: gcc 11.5.0 20240719 (Red Hat 11.5.0-2) CentOS Stream 10 (ARM) Kernel: Depends on container host Compiler: gcc 14.2.1 20241104 (Red Hat 14.2.1-6) Fedora 41 (ARM) Kernel: Depends on container host Compiler: gcc 14.2.1 20240912 (Red Hat 14.2.1-3) Fedora 40 (ARM) Kernel: Depends on container host Compiler: gcc 14.2.1 20240912 (Red Hat 14.2.1-3) Fedora 41 (ARM Clang) Kernel: Depends on container host Compiler: clang 19.1.5 (Fedora 19.1.5-1.fc41) Fedora 40 (ARM Clang) Kernel: Depends on container host Compiler: clang 18.1.8 (Fedora 18.1.8-1.fc40) RHEL9 (ARM) Kernel: Depends on container host Compiler: gcc 11.5.0 20240719 (Red Hat 11.5.0-2) Ubuntu 24.04 (ARM) Kernel: Depends on container host Compiler: gcc (Ubuntu 13.3.0-6ubuntu2~24.04) 13.3.0 Ubuntu 22.04 (ARM) Kernel: Depends on container host Compiler: gcc (Ubuntu 11.4.0-1ubuntu1~22.04) 11.4.0 Ubuntu 20.04 (ARM) Kernel: Depends on container host Compiler: gcc (Ubuntu 9.4.0-1ubuntu1~20.04.2) 9.4.0 32-bit Ubuntu 22.04.4 (ARM) Kernel: 5.15.83+ aarch64 Compiler: gcc (Ubuntu 11.4.0-1ubuntu1~22.04) 11.4.0 To view detailed results, visit: https://lab.dpdk.org/results/dashboard/patchsets/33221/ UNH-IOL DPDK Community Lab To manage your email subscriptions, visit: https://lab.dpdk.org/results/dashboard/preferences/subscriptions/