From mboxrd@z Thu Jan 1 00:00:00 1970 Return-Path: Received: from mails.dpdk.org (mails.dpdk.org [217.70.189.124]) by inbox.dpdk.org (Postfix) with ESMTP id 6980B467AF for ; Wed, 21 May 2025 16:57:29 +0200 (CEST) Received: from mails.dpdk.org (localhost [127.0.0.1]) by mails.dpdk.org (Postfix) with ESMTP id 4FC5542DC1; Wed, 21 May 2025 16:57:29 +0200 (CEST) Received: from mail-oa1-f99.google.com (mail-oa1-f99.google.com [209.85.160.99]) by mails.dpdk.org (Postfix) with ESMTP id AB86C42DB0 for ; Wed, 21 May 2025 16:57:27 +0200 (CEST) Received: by mail-oa1-f99.google.com with SMTP id 586e51a60fabf-2e3dea42465so2498734fac.0 for ; Wed, 21 May 2025 07:57:27 -0700 (PDT) DKIM-Signature: v=1; a=rsa-sha256; c=relaxed/relaxed; d=iol.unh.edu; s=unh-iol; t=1747839447; x=1748444247; darn=dpdk.org; h=cc:to:from:subject:message-id:date:from:to:cc:subject:date :message-id:reply-to; bh=UY5bNSJ8/a98LExMqaIYtUwLPtKudlldxn74Sjr1ukU=; b=SAU3G3kAkQwiqcur86fNZRyGdteUG/Ka8fghn+5aRwTpt/xJKh2c2Fa+OGktsMHGlx koXTbd5/2t8pg2NvzdzmhsVhGbiXoRdnMnzvgBBTcdRslBeE4krsw13XWlZFhhIThfqn VT8kM8I3Pzo3z9UWftlv8jW0qyW2Y3KROq/Jw= X-Google-DKIM-Signature: v=1; a=rsa-sha256; c=relaxed/relaxed; d=1e100.net; s=20230601; t=1747839447; x=1748444247; h=cc:to:from:subject:message-id:date:x-gm-message-state:from:to:cc :subject:date:message-id:reply-to; bh=UY5bNSJ8/a98LExMqaIYtUwLPtKudlldxn74Sjr1ukU=; b=q+8iCm0lF9qbhzm1SEX0XKLoOHhr0V46QRpgActEf/UqlP3Hj3H9E8lpqam87PKncr UtOsygJHoBgNyvBOVFyvImFPqs91sBSssAjPUo4qBfbaW1j83vphVgEbmfoJ/CAVsdkx ZavkzSWk4s1l2aDyPlHYCLTtOqTLNf1dkTUHNU65u2ltXAkEnLyWcrhFBXDYloe1Iy3i RMrUmVLLmvLowo3p+4TbUxKht5YL+WY7i4lFjo51esJ6gLYwisNb3RbJrhEUBCuRqR7W u6BA/fStg5j0HL6nduJNhsoESG4yhocwKDTpl/7Q5Qm1tcfdb10lnlZKhwQN3RjjjIP0 hhLw== X-Gm-Message-State: AOJu0YzCu7o8gsYq2QP1GX5kUhon6oKBPdU7oSLoSyFQuSejkjfhfsqR ylAgUr0lPj/lbN76BeR9R7690DYf4bOyh6xaq9r3OUmj8rebVBUI88e9XxK3JZL0roPIDzvxGcK D3NvXcDHfGzqQia6nQi5TYMrYNkx+bIkaWZi2n7FABqiT X-Gm-Gg: ASbGncs7Qo2EU9TBN1Trvtl8UK/LHQYSGO15l8C8yICKHeSuciIKpNT3DxWt2pUlX1y IK2bDDI1ybsP/7//KOvGuH9KNjE8KuyLxnnrWS/iw7L/TJwkxI5Xy8JC06CujS2n5a9HNsy/hP8 OacZFtpLks3bOfGThrWhhOZvo1ym5wmFQe6fRGwAYyTpjiP98olhWkAbaJK3nT5hG40sp1lNd9q gATHmkiFsWVl0upOlM4rf18Bn8+/mxLyPavLMBfyn0DLGaDtpyb1R4xiRdx3LoN0BmXI3dORDbw Raazf7e/x37WQa3U00t54ZJ1m5z6TrIMh1TGt7BCNvxt9P04hCZ/mkVtVFg= X-Google-Smtp-Source: AGHT+IElX3b5a5BXtk5Yf1RyYHpUtH6gN+akMYk6HpAXvDl5ghEnxnIlaSfLnnbaRy51xv+8KRGT3hPnqWMZ X-Received: by 2002:a05:6871:7b85:b0:2d6:ad1:77f2 with SMTP id 586e51a60fabf-2e39bbdeb70mr14531138fac.2.1747839446834; Wed, 21 May 2025 07:57:26 -0700 (PDT) Received: from postal.iol.unh.edu (postal.iol.unh.edu. [132.177.123.84]) by smtp-relay.gmail.com with ESMTPS id 586e51a60fabf-2e3c06af172sm629179fac.11.2025.05.21.07.57.26 (version=TLS1_2 cipher=ECDHE-ECDSA-AES128-GCM-SHA256 bits=128/128); Wed, 21 May 2025 07:57:26 -0700 (PDT) X-Relaying-Domain: iol.unh.edu Date: Wed, 21 May 2025 07:57:26 -0700 (PDT) Message-ID: <682de9d6.050a0220.24b1f6.6944SMTPIN_ADDED_MISSING@mx.google.com> Received: from [172.21.0.9] (unknown [172.18.0.240]) by postal.iol.unh.edu (Postfix) with ESMTP id 428066052471; Wed, 21 May 2025 10:57:26 -0400 (EDT) Subject: |SUCCESS| [GIT MASTER] 3fea4e6b376fe7c0be0103e0ca238761f5e22457 From: dpdklab@iol.unh.edu To: Test Report Cc: dpdk-test-reports@iol.unh.edu, Bruce Richardson Content-Type: text/plain X-BeenThere: test-report@dpdk.org X-Mailman-Version: 2.1.29 Precedence: list List-Id: automatic DPDK test reports List-Unsubscribe: , List-Archive: List-Post: List-Help: List-Subscribe: , Errors-To: test-report-bounces@dpdk.org _Testing PASS_ Branch: dpdk-next-net-intel 3fea4e6b376fe7c0be0103e0ca238761f5e22457 --> testing pass Upstream job id: Generic-Unit-Test-DPDK#339583 Test environment and result as below: +---------------------+----------------+ | Environment | dpdk_unit_test | +=====================+================+ | CentOS Stream 9 | PASS | +---------------------+----------------+ | CentOS Stream 10 | PASS | +---------------------+----------------+ | Fedora 40 | PASS | +---------------------+----------------+ | Debian 12 | PASS | +---------------------+----------------+ | Fedora 40 (Clang) | PASS | +---------------------+----------------+ | Fedora 41 | PASS | +---------------------+----------------+ | Fedora 41 (Clang) | PASS | +---------------------+----------------+ | RHEL9 | PASS | +---------------------+----------------+ | RHEL8 | PASS | +---------------------+----------------+ | Ubuntu 22.04 | PASS | +---------------------+----------------+ | Ubuntu 20.04 | PASS | +---------------------+----------------+ | Ubuntu 24.04 | PASS | +---------------------+----------------+ | Windows Server 2022 | PASS | +---------------------+----------------+ CentOS Stream 9 Kernel: Depends on container host Compiler: gcc 11.5.0 20240719 (Red Hat 11.5.0-2) CentOS Stream 10 Kernel: Depends on container host Compiler: gcc 14.2.1 20241104 (Red Hat 14.2.1-6) Fedora 40 Kernel: Depends on container host Compiler: gcc 14.2.1 20240912 (Red Hat 14.2.1-3) Debian 12 Kernel: Depends on container host Compiler: gcc (Debian 12.2.0-14) 12.2.0 Fedora 40 (Clang) Kernel: Depends on container host Compiler: clang 18.1.8 (Fedora 18.1.8-1.fc40) Fedora 41 Kernel: Depends on container host Compiler: gcc 14.2.1 20240912 (Red Hat 14.2.1-3) Fedora 41 (Clang) Kernel: Depends on container host Compiler: clang 19.1.5 (Fedora 19.1.5-1.fc41) RHEL9 Kernel: Depends on container host Compiler: gcc 11.5.0 20240719 (Red Hat 11.5.0-2) RHEL8 Kernel: Depends on container host Compiler: gcc 8.5.0 20210514 (Red Hat 8.5.0-22) Ubuntu 22.04 Kernel: Depends on container host Compiler: gcc (Ubuntu 11.4.0-1ubuntu1~22.04) 11.4.0 Ubuntu 20.04 Kernel: Depends on container host Compiler: gcc (Ubuntu 9.4.0-1ubuntu1~20.04.2) 9.4.0 Ubuntu 24.04 Kernel: Depends on container host Compiler: gcc (Ubuntu 13.3.0-6ubuntu2~24.04) 13.3.0 Windows Server 2022 Kernel: 10.0.20348.2031 Compiler: clang 15.0.7, gcc 14.1.0 (MinGW), and MSVC VS 19.39.33521 To view detailed results, visit: https://lab.dpdk.org/results/dashboard/tarballs/33601/ UNH-IOL DPDK Community Lab To manage your email subscriptions, visit: https://lab.dpdk.org/results/dashboard/preferences/subscriptions/