From mboxrd@z Thu Jan 1 00:00:00 1970 Return-Path: Received: from mails.dpdk.org (mails.dpdk.org [217.70.189.124]) by inbox.dpdk.org (Postfix) with ESMTP id 588DF467AF for ; Wed, 21 May 2025 17:43:43 +0200 (CEST) Received: from mails.dpdk.org (localhost [127.0.0.1]) by mails.dpdk.org (Postfix) with ESMTP id 5139042DB0; Wed, 21 May 2025 17:43:43 +0200 (CEST) Received: from mail-ot1-f97.google.com (mail-ot1-f97.google.com [209.85.210.97]) by mails.dpdk.org (Postfix) with ESMTP id C12CB40292 for ; Wed, 21 May 2025 17:43:41 +0200 (CEST) Received: by mail-ot1-f97.google.com with SMTP id 46e09a7af769-72c7332128eso3904811a34.0 for ; Wed, 21 May 2025 08:43:41 -0700 (PDT) DKIM-Signature: v=1; a=rsa-sha256; c=relaxed/relaxed; d=iol.unh.edu; s=unh-iol; t=1747842221; x=1748447021; darn=dpdk.org; h=references:in-reply-to:cc:to:from:subject:message-id:date:from:to :cc:subject:date:message-id:reply-to; bh=xYNbexx+9FstvDRMwV47ZhH49/YmcqGu60WmROenAug=; b=Z2Uxoe9k8BcesfivbWgyWWVy0O+pqYhfh3iTEpFi487IjUQ1BbocdVtPbF5LwxdQgG k2NNL+oA3LC2RzTkqLyHlrHQ/ydVLDVNmo1/5nBVF6zaSVBJwauV1NADJ6humHQdKxXd rVz/q/4i5QvUeOGmo8Q2DrqhKKBgO1m1gMemE= X-Google-DKIM-Signature: v=1; a=rsa-sha256; c=relaxed/relaxed; d=1e100.net; s=20230601; t=1747842221; x=1748447021; h=references:in-reply-to:cc:to:from:subject:message-id:date :x-gm-message-state:from:to:cc:subject:date:message-id:reply-to; bh=xYNbexx+9FstvDRMwV47ZhH49/YmcqGu60WmROenAug=; b=WkkFhMDXjg83Wpu55OAGZZt+kkWBt6fN9rgohNBSUEeHaAPMcMQRff/f5CH1wu9n2z APysTp/LdmGNBNjpjdkU4itFClY1o7rY3DNfAE7uppbvABOmRNUt0xqaVvFjRuRhWXaQ Eht1Fy3NooQWXsNzdYfT5JcI2Oro0sl0Tfbyi+dgOxNgXe/CLXJE085EUKRWN7WInOER 4GJGJsr+3Wvc+iPPhtxT98B6DPnewz6wPmm9FuefgVhMT6V7dmNn0F3F/OathpCda4QJ dgI9l7U0dQpk3KFhKawoIHY2dtU2Q2pJ0W84Uja+NMYmTunAmoIEIb0CnArNrjHHkU2u Fl+A== X-Gm-Message-State: AOJu0YwDyP0zj+kszN4rQpH6A524HO8dPPlUnTOBt6YdCf4sX6eCHzk+ Uy5G3/07/ls48I23JZPiACkVDQEfMRac4UAn4GoLmv0lJxome7nvapvLCMU54h9xZkkyKaD1oKF /GV9QNEk3aKO/oj9z52IHsQLapztMc8PQoikD7/6r5NVvKVoL2kOWfTaMSJZw X-Gm-Gg: ASbGncuCcUOYe4UReYQeTimd3qzry9P0jU+7MoL0yM8bm9WJ1wRtxkuRocm7hGW/2+I fX9OHBQqfC14dghVuH3uzwp6VmyUgB9ALHcQhZbHR/HMt57CD9Wx+TnYJVg/tpD8SdvyDY0h4ef K97JectZla/XnGVvwCGctV83MUlwFnOlS6QbLL4Nae0sT35UKmFAyQ4TaeoJYjUYxOGrgKAxeZ8 SdnymabXFnxIgkVH77kOFZiVdYMl74VMt1D3OBxEpC5LoUiNGRODBuiJ9OPBzN33up/puArTSkq bxB0CpdLh3QU+bSlaOEFwHgR0kdx2lixwX+Q X-Google-Smtp-Source: AGHT+IG+DXs25jrPIp8pJYqOl/JXYi38wNXrRGLZl9lqfuEgsQ3phfZrTI2O+ub2gyHoz+SUx0yaMLozSBtS X-Received: by 2002:a05:6830:3145:b0:72b:cdcd:628b with SMTP id 46e09a7af769-734f6b68b7emr14743267a34.20.1747842220807; Wed, 21 May 2025 08:43:40 -0700 (PDT) Received: from postal.iol.unh.edu (postal.iol.unh.edu. [2606:4100:3880:1234::84]) by smtp-relay.gmail.com with ESMTPS id 46e09a7af769-734f69881f3sm233903a34.0.2025.05.21.08.43.40 (version=TLS1_2 cipher=ECDHE-ECDSA-AES128-GCM-SHA256 bits=128/128); Wed, 21 May 2025 08:43:40 -0700 (PDT) X-Relaying-Domain: iol.unh.edu Date: Wed, 21 May 2025 08:43:40 -0700 (PDT) Message-ID: <682df4ac.050a0220.26fb8.bfc7SMTPIN_ADDED_MISSING@mx.google.com> Received: from [172.21.0.5] (unknown [172.18.0.240]) by postal.iol.unh.edu (Postfix) with ESMTP id 4D7F06052471; Wed, 21 May 2025 11:43:40 -0400 (EDT) Subject: |SUCCESS| pw153561 [PATCH] [v2] ethdev: optimize how the values of t From: dpdklab@iol.unh.edu To: Test Report Cc: dpdk-test-reports@iol.unh.edu In-Reply-To: <20250521101531.34240-1-sunyang.wu@jaguarmicro.com> References: <20250521101531.34240-1-sunyang.wu@jaguarmicro.com> Content-Type: text/plain X-BeenThere: test-report@dpdk.org X-Mailman-Version: 2.1.29 Precedence: list List-Id: automatic DPDK test reports List-Unsubscribe: , List-Archive: List-Post: List-Help: List-Subscribe: , Errors-To: test-report-bounces@dpdk.org Test-Label: iol-unit-amd64-testing Test-Status: SUCCESS http://dpdk.org/patch/153561 _Testing PASS_ Submitter: Sunyang Wu Date: Wednesday, May 21 2025 10:15:31 DPDK git baseline: Repo:dpdk Branch: master CommitID:a0dde342cc312fd75b63281f63d757db7482cdab 153561 --> testing pass Upstream job id: Generic-Unit-Test-DPDK#339609 Test environment and result as below: +---------------------+----------------+ | Environment | dpdk_unit_test | +=====================+================+ | CentOS Stream 9 | PASS | +---------------------+----------------+ | CentOS Stream 10 | PASS | +---------------------+----------------+ | Debian 12 | PASS | +---------------------+----------------+ | Fedora 40 (Clang) | PASS | +---------------------+----------------+ | Fedora 40 | PASS | +---------------------+----------------+ | Fedora 41 | PASS | +---------------------+----------------+ | Fedora 41 (Clang) | PASS | +---------------------+----------------+ | RHEL9 | PASS | +---------------------+----------------+ | Ubuntu 20.04 | PASS | +---------------------+----------------+ | RHEL8 | PASS | +---------------------+----------------+ | Ubuntu 24.04 | PASS | +---------------------+----------------+ | Ubuntu 22.04 | PASS | +---------------------+----------------+ | Windows Server 2022 | PASS | +---------------------+----------------+ CentOS Stream 9 Kernel: Depends on container host Compiler: gcc 11.5.0 20240719 (Red Hat 11.5.0-2) CentOS Stream 10 Kernel: Depends on container host Compiler: gcc 14.2.1 20241104 (Red Hat 14.2.1-6) Debian 12 Kernel: Depends on container host Compiler: gcc (Debian 12.2.0-14) 12.2.0 Fedora 40 (Clang) Kernel: Depends on container host Compiler: clang 18.1.8 (Fedora 18.1.8-1.fc40) Fedora 40 Kernel: Depends on container host Compiler: gcc 14.2.1 20240912 (Red Hat 14.2.1-3) Fedora 41 Kernel: Depends on container host Compiler: gcc 14.2.1 20240912 (Red Hat 14.2.1-3) Fedora 41 (Clang) Kernel: Depends on container host Compiler: clang 19.1.5 (Fedora 19.1.5-1.fc41) RHEL9 Kernel: Depends on container host Compiler: gcc 11.5.0 20240719 (Red Hat 11.5.0-2) Ubuntu 20.04 Kernel: Depends on container host Compiler: gcc (Ubuntu 9.4.0-1ubuntu1~20.04.2) 9.4.0 RHEL8 Kernel: Depends on container host Compiler: gcc 8.5.0 20210514 (Red Hat 8.5.0-22) Ubuntu 24.04 Kernel: Depends on container host Compiler: gcc (Ubuntu 13.3.0-6ubuntu2~24.04) 13.3.0 Ubuntu 22.04 Kernel: Depends on container host Compiler: gcc (Ubuntu 11.4.0-1ubuntu1~22.04) 11.4.0 Windows Server 2022 Kernel: 10.0.20348.2031 Compiler: clang 15.0.7, gcc 14.1.0 (MinGW), and MSVC VS 19.39.33521 To view detailed results, visit: https://lab.dpdk.org/results/dashboard/patchsets/33221/ UNH-IOL DPDK Community Lab To manage your email subscriptions, visit: https://lab.dpdk.org/results/dashboard/preferences/subscriptions/