From mboxrd@z Thu Jan 1 00:00:00 1970 Return-Path: Received: from mails.dpdk.org (mails.dpdk.org [217.70.189.124]) by inbox.dpdk.org (Postfix) with ESMTP id 265F7467B0 for ; Wed, 21 May 2025 18:02:11 +0200 (CEST) Received: from mails.dpdk.org (localhost [127.0.0.1]) by mails.dpdk.org (Postfix) with ESMTP id 068AF42DCB; Wed, 21 May 2025 18:02:11 +0200 (CEST) Received: from mail-pj1-f98.google.com (mail-pj1-f98.google.com [209.85.216.98]) by mails.dpdk.org (Postfix) with ESMTP id E932E42DB0 for ; Wed, 21 May 2025 18:02:09 +0200 (CEST) Received: by mail-pj1-f98.google.com with SMTP id 98e67ed59e1d1-30820167b47so5649387a91.0 for ; Wed, 21 May 2025 09:02:09 -0700 (PDT) DKIM-Signature: v=1; a=rsa-sha256; c=relaxed/relaxed; d=iol.unh.edu; s=unh-iol; t=1747843329; x=1748448129; darn=dpdk.org; h=references:in-reply-to:cc:to:from:subject:message-id:date:from:to :cc:subject:date:message-id:reply-to; bh=edSjtTVbUooqt+7TPQhWQiK6P8zeTbvFaL/ak+xU15o=; b=amnv17rUDoUE4/j0xtDsXjcKZ5SFEBpNBwZlMDBdntBx8m2guATztiub5ttMqO5V7P +UP0eLpvpORio+ju+2MHV0OHmJjMmLEHibBNB3lgiqQe2XZnEGyKDhI8y91mWZjiGCMs 7aOk6j1zz8+f/34N6yPN+7C/Cl1mC3w8/HZxA= X-Google-DKIM-Signature: v=1; a=rsa-sha256; c=relaxed/relaxed; d=1e100.net; s=20230601; t=1747843329; x=1748448129; h=references:in-reply-to:cc:to:from:subject:message-id:date :x-gm-message-state:from:to:cc:subject:date:message-id:reply-to; bh=edSjtTVbUooqt+7TPQhWQiK6P8zeTbvFaL/ak+xU15o=; b=m/M3nJKR1HH34odGMKiIOOSRb0U1toiUHi9Y6/0SpD0aQ5Q45dF4ii19VVo88fkhcu FgUxgJAiAlv0Qa23qqGrtjLlhiubf+TN8GyrjCCc9EOlQJQRGKQAgQRyWmtqZdxUQAgh cieoO+7auc3L0yLjYKKhkuypPjiJJZ7N3AAtpks761gD0Y4xGfF+wS8T+YHXxvSjuyyY dbR76qhuNgxGIra4JGlZTj1Y5+we5w+6gGjkl7Jlb/oydm+3fseVkeQ/IaktVT5Szs0t kmbAuIHATwT0pGwuF7smuSzoETE/oQJsgnAXcLCCDq3XwRSvs782hf+b3MJ9kjOJOaRu eLNA== X-Gm-Message-State: AOJu0YzOn8WLHbhZ+DFo8bM3gqPSVwALAzCMETepEhpMwEgIANWv18zd 0TJUZLYbZX70fy4ZjoJ1oD1UdpFUdxM4bzx19ugIMVVdCBvOK5bJ7jxRe05jzOySSsfz+wWO571 JNNEmDKwEXHszQLMkvV2ufO8qSNRyT2FgvAc3KLLzWbORdv8t9g30XkSEPqF7 X-Gm-Gg: ASbGncts7oi9PE2pI1OzYySoIs18XyzAA2U18EHAfT4/fZguzh0VwXSO5Dwcn2aKtcr vY1yYKzxzs7j7hNqdm5l6Hi7ekHMvNn4N/wUHI3wW9aUZ35n0npL4mVq8DXyiSyLOeKdr9zZgxa 4tHII1PBpFYoEB/SOIUZwzhWJzojmGfNbuouRUR7yzLKv+muCh0Ymqb+tZuOkH/7CnxCt+8JS2j 5funoQHgYCIsO2dPISAiq3d8Cz3hxFj5V03yFL8KHf8+k6bqNwosCrB/ACatnkDTVNNlqjvngiB EJvBxzaSX1MjLlcgOc+i20Lws+JQxeQlw2x9 X-Google-Smtp-Source: AGHT+IFMvLUiP/ZVXz74Z6Z0lXJLWCZF6XfaRg3wadipRDfwARIFrIxZt/lXUXfy94Ko0+FkjZQ3XQZc9Uam X-Received: by 2002:a17:90b:4987:b0:30e:9349:2d8e with SMTP id 98e67ed59e1d1-30e9349311dmr28894209a91.7.1747843328812; Wed, 21 May 2025 09:02:08 -0700 (PDT) Received: from postal.iol.unh.edu (postal.iol.unh.edu. [2606:4100:3880:1234::84]) by smtp-relay.gmail.com with ESMTPS id 98e67ed59e1d1-30f3648a662sm313913a91.7.2025.05.21.09.02.08 (version=TLS1_2 cipher=ECDHE-ECDSA-AES128-GCM-SHA256 bits=128/128); Wed, 21 May 2025 09:02:08 -0700 (PDT) X-Relaying-Domain: iol.unh.edu Date: Wed, 21 May 2025 09:02:08 -0700 (PDT) Message-ID: <682df900.170a0220.187534.058fSMTPIN_ADDED_MISSING@mx.google.com> Received: from [172.21.0.5] (unknown [172.18.0.240]) by postal.iol.unh.edu (Postfix) with ESMTP id 01CB36052471; Wed, 21 May 2025 12:02:07 -0400 (EDT) Subject: |SUCCESS| pw153561 [PATCH] [v2] ethdev: optimize how the values of t From: dpdklab@iol.unh.edu To: Test Report Cc: dpdk-test-reports@iol.unh.edu In-Reply-To: <20250521101531.34240-1-sunyang.wu@jaguarmicro.com> References: <20250521101531.34240-1-sunyang.wu@jaguarmicro.com> Content-Type: text/plain X-BeenThere: test-report@dpdk.org X-Mailman-Version: 2.1.29 Precedence: list List-Id: automatic DPDK test reports List-Unsubscribe: , List-Archive: List-Post: List-Help: List-Subscribe: , Errors-To: test-report-bounces@dpdk.org Test-Label: iol-unit-amd64-testing Test-Status: SUCCESS http://dpdk.org/patch/153561 _Testing PASS_ Submitter: Sunyang Wu Date: Wednesday, May 21 2025 10:15:31 DPDK git baseline: Repo:dpdk Branch: master CommitID:a0dde342cc312fd75b63281f63d757db7482cdab 153561 --> testing pass Upstream job id: Generic-VM-Unit-Test-DPDK#28664 Test environment and result as below: +---------------------+----------------+ | Environment | dpdk_unit_test | +=====================+================+ | CentOS Stream 9 | PASS | +---------------------+----------------+ | CentOS Stream 10 | PASS | +---------------------+----------------+ | Debian 12 | PASS | +---------------------+----------------+ | Fedora 40 (Clang) | PASS | +---------------------+----------------+ | Fedora 40 | PASS | +---------------------+----------------+ | Fedora 41 | PASS | +---------------------+----------------+ | Fedora 41 (Clang) | PASS | +---------------------+----------------+ | RHEL9 | PASS | +---------------------+----------------+ | Ubuntu 20.04 | PASS | +---------------------+----------------+ | RHEL8 | PASS | +---------------------+----------------+ | Ubuntu 24.04 | PASS | +---------------------+----------------+ | Ubuntu 22.04 | PASS | +---------------------+----------------+ | Windows Server 2022 | PASS | +---------------------+----------------+ CentOS Stream 9 Kernel: Depends on container host Compiler: gcc 11.5.0 20240719 (Red Hat 11.5.0-2) CentOS Stream 10 Kernel: Depends on container host Compiler: gcc 14.2.1 20241104 (Red Hat 14.2.1-6) Debian 12 Kernel: Depends on container host Compiler: gcc (Debian 12.2.0-14) 12.2.0 Fedora 40 (Clang) Kernel: Depends on container host Compiler: clang 18.1.8 (Fedora 18.1.8-1.fc40) Fedora 40 Kernel: Depends on container host Compiler: gcc 14.2.1 20240912 (Red Hat 14.2.1-3) Fedora 41 Kernel: Depends on container host Compiler: gcc 14.2.1 20240912 (Red Hat 14.2.1-3) Fedora 41 (Clang) Kernel: Depends on container host Compiler: clang 19.1.5 (Fedora 19.1.5-1.fc41) RHEL9 Kernel: Depends on container host Compiler: gcc 11.5.0 20240719 (Red Hat 11.5.0-2) Ubuntu 20.04 Kernel: Depends on container host Compiler: gcc (Ubuntu 9.4.0-1ubuntu1~20.04.2) 9.4.0 RHEL8 Kernel: Depends on container host Compiler: gcc 8.5.0 20210514 (Red Hat 8.5.0-22) Ubuntu 24.04 Kernel: Depends on container host Compiler: gcc (Ubuntu 13.3.0-6ubuntu2~24.04) 13.3.0 Ubuntu 22.04 Kernel: Depends on container host Compiler: gcc (Ubuntu 11.4.0-1ubuntu1~22.04) 11.4.0 Windows Server 2022 Kernel: 10.0.20348.2031 Compiler: clang 15.0.7, gcc 14.1.0 (MinGW), and MSVC VS 19.39.33521 To view detailed results, visit: https://lab.dpdk.org/results/dashboard/patchsets/33221/ UNH-IOL DPDK Community Lab To manage your email subscriptions, visit: https://lab.dpdk.org/results/dashboard/preferences/subscriptions/