From mboxrd@z Thu Jan 1 00:00:00 1970 Return-Path: Received: from mails.dpdk.org (mails.dpdk.org [217.70.189.124]) by inbox.dpdk.org (Postfix) with ESMTP id 6F87C467B0 for ; Wed, 21 May 2025 18:36:14 +0200 (CEST) Received: from mails.dpdk.org (localhost [127.0.0.1]) by mails.dpdk.org (Postfix) with ESMTP id 69EA042DCD; Wed, 21 May 2025 18:36:14 +0200 (CEST) Received: from mail-oa1-f99.google.com (mail-oa1-f99.google.com [209.85.160.99]) by mails.dpdk.org (Postfix) with ESMTP id 9566742DCD for ; Wed, 21 May 2025 18:36:13 +0200 (CEST) Received: by mail-oa1-f99.google.com with SMTP id 586e51a60fabf-2d5e5e21b92so2946630fac.0 for ; Wed, 21 May 2025 09:36:13 -0700 (PDT) DKIM-Signature: v=1; a=rsa-sha256; c=relaxed/relaxed; d=iol.unh.edu; s=unh-iol; t=1747845373; x=1748450173; darn=dpdk.org; h=references:in-reply-to:cc:to:from:subject:message-id:date:from:to :cc:subject:date:message-id:reply-to; bh=krSbIjLvQmJo+BI28fjsiCqFE8yaBiOnAeu9Qz4t274=; b=DlwLIX8PrXReWvyQ4158WbVHqXE8CKlV2ymh7EA0o6hdrt6m34qo6pO90BRWW4eFLP 5sTrpOKqBPGm19SvtZUPXEShugsDWOPcZNsA1QlHww5GFpgEz+IwUdGxkhjv8m5RndwP +UFhy25qCki+hRzUb+3T5a52xI9ZoOzr0xPgI= X-Google-DKIM-Signature: v=1; a=rsa-sha256; c=relaxed/relaxed; d=1e100.net; s=20230601; t=1747845373; x=1748450173; h=references:in-reply-to:cc:to:from:subject:message-id:date :x-gm-message-state:from:to:cc:subject:date:message-id:reply-to; bh=krSbIjLvQmJo+BI28fjsiCqFE8yaBiOnAeu9Qz4t274=; b=bGqpCcMg6koYb98fH44ra7s7UvQHI9rD5xLwUbl0tYHwGj4iaPZHP/hxTQjzFXLONr 9g0/A45q5W1Ge/wwxN5We3sIYl9Kl5cpwV/AaNViajPF/H65ZJkZHjilgBYADvnV9nmB NhooK1+IxCeHtyNMcjiRnDuTq0DLZZ5nA5Sq7bsyWmYa2TLzd6WZq9xB0WqW3pX7tbA4 1FDRwlQ1AVWjsowdDqMmv0/+hO64QoT1hi9gjcLM0NvpazOMiwyK+7UMosJXcG0joEta LNdMdo+wcxjVmlCwDeKmlDghgnDNDNsAopclSvJKTUnfLfa/2ggW35BJME/jVCn0QuxA QeZA== X-Gm-Message-State: AOJu0YykXPC02DDFakNnb+SmhIEjK5oCY1UHmXKHAFexOI+HqXfN4ls+ xcPh96TtmfRpJdzeeVGN9K2z2fmtU2hE3Y0w2qa6yJucf4bOe91ctWf4XVfqfZbSon1afAuBE1x HMea7I1t5HmlpmnXNXxf/uuCjIAom/42BZfclB+YFinbg6m8QAYc+VJ5LXLZ7 X-Gm-Gg: ASbGncteUSV0NBFzRyiHBceEi+T9B3VOClQ4adqFO8bdgJ0MWdbF12L0cZeXz3hnSs6 D4b0TSwZ/yxzrH/YvncPfuniQclCXkTzUI20SxM5g/TD6uh/NeIj1XlSCcRCWIiSC0T3P74oZWA 5RpfyO+PRPWDJZvIZYmDVg3QAG0nDNYHx2L5rWzh9rLkZpkd5qzvKTlMPK4vIKPTyh/cYZBap48 OPQbauxOKNu9HT8mFqQW/NdmB9ar+V6P4Jp1IjYVrMLjLzqpSNRh96jJ142o2ud78veGw50gyRr UTRg54GKUPNOV9ZENBSfjikduhIkpvygC06p X-Google-Smtp-Source: AGHT+IH46EbT3M+OoIEVCIJzI5oQ/9krBJDWLr8A/qyPiFII2G9EIE1HG7s/rhuk5acn+vreRoMrPHMdwpdf X-Received: by 2002:a05:6870:1602:b0:29e:569a:f90d with SMTP id 586e51a60fabf-2e3c1f62650mr13336043fac.32.1747845372814; Wed, 21 May 2025 09:36:12 -0700 (PDT) Received: from postal.iol.unh.edu (postal.iol.unh.edu. [2606:4100:3880:1234::84]) by smtp-relay.gmail.com with ESMTPS id 586e51a60fabf-2e3c06045dasm638196fac.4.2025.05.21.09.36.12 (version=TLS1_2 cipher=ECDHE-ECDSA-AES128-GCM-SHA256 bits=128/128); Wed, 21 May 2025 09:36:12 -0700 (PDT) X-Relaying-Domain: iol.unh.edu Date: Wed, 21 May 2025 09:36:12 -0700 (PDT) Message-ID: <682e00fc.050a0220.3a76ed.2392SMTPIN_ADDED_MISSING@mx.google.com> Received: from [172.21.0.6] (unknown [172.18.0.240]) by postal.iol.unh.edu (Postfix) with ESMTP id 4BFAB6052471; Wed, 21 May 2025 12:36:12 -0400 (EDT) Subject: |WARNING| pw153561 [PATCH] [v2] ethdev: optimize how the values of t From: dpdklab@iol.unh.edu To: Test Report Cc: dpdk-test-reports@iol.unh.edu In-Reply-To: <20250521101531.34240-1-sunyang.wu@jaguarmicro.com> References: <20250521101531.34240-1-sunyang.wu@jaguarmicro.com> Content-Type: text/plain X-BeenThere: test-report@dpdk.org X-Mailman-Version: 2.1.29 Precedence: list List-Id: automatic DPDK test reports List-Unsubscribe: , List-Archive: List-Post: List-Help: List-Subscribe: , Errors-To: test-report-bounces@dpdk.org Test-Label: iol-compile-amd64-testing Test-Status: WARNING http://dpdk.org/patch/153561 _Testing issues_ Submitter: Sunyang Wu Date: Wednesday, May 21 2025 10:15:31 DPDK git baseline: Repo:dpdk Branch: master CommitID:a0dde342cc312fd75b63281f63d757db7482cdab 153561 --> testing issues Upstream job id: Generic-DPDK-Compile-Meson#390078 Test environment and result as below: +-----------------------------------+--------------------+-------------------+------------------+-------------------+-------------------------+----------------------+ | Environment | dpdk_meson_compile | dpdk_compile_spdk | dpdk_compile_ovs | dpdk_msvc_compile | dpdk_llvm_clang_compile | dpdk_mingw64_compile | +===================================+====================+===================+==================+===================+=========================+======================+ | CentOS Stream 10 | PASS | SKIPPED | SKIPPED | SKIPPED | SKIPPED | SKIPPED | +-----------------------------------+--------------------+-------------------+------------------+-------------------+-------------------------+----------------------+ | Debian 12 | PASS | PASS | SKIPPED | SKIPPED | SKIPPED | SKIPPED | +-----------------------------------+--------------------+-------------------+------------------+-------------------+-------------------------+----------------------+ | Fedora 40 (Clang) | PASS | WARN | SKIPPED | SKIPPED | SKIPPED | SKIPPED | +-----------------------------------+--------------------+-------------------+------------------+-------------------+-------------------------+----------------------+ | Fedora 40 | PASS | PASS | SKIPPED | SKIPPED | SKIPPED | SKIPPED | +-----------------------------------+--------------------+-------------------+------------------+-------------------+-------------------------+----------------------+ | Fedora 41 | PASS | PASS | PASS | SKIPPED | SKIPPED | SKIPPED | +-----------------------------------+--------------------+-------------------+------------------+-------------------+-------------------------+----------------------+ | Fedora 41 (Clang) | PEND | PEND | PEND | SKIPPED | SKIPPED | SKIPPED | +-----------------------------------+--------------------+-------------------+------------------+-------------------+-------------------------+----------------------+ | openSUSE Leap 15 | PASS | SKIPPED | SKIPPED | SKIPPED | SKIPPED | SKIPPED | +-----------------------------------+--------------------+-------------------+------------------+-------------------+-------------------------+----------------------+ | RHEL8 | PASS | SKIPPED | SKIPPED | SKIPPED | SKIPPED | SKIPPED | +-----------------------------------+--------------------+-------------------+------------------+-------------------+-------------------------+----------------------+ | RHEL9 | PASS | SKIPPED | SKIPPED | SKIPPED | SKIPPED | SKIPPED | +-----------------------------------+--------------------+-------------------+------------------+-------------------+-------------------------+----------------------+ | Ubuntu 20.04 | PASS | SKIPPED | SKIPPED | SKIPPED | SKIPPED | SKIPPED | +-----------------------------------+--------------------+-------------------+------------------+-------------------+-------------------------+----------------------+ | Ubuntu 24.04 | PEND | PEND | PEND | SKIPPED | SKIPPED | SKIPPED | +-----------------------------------+--------------------+-------------------+------------------+-------------------+-------------------------+----------------------+ | Ubuntu 22.04 | PASS | PASS | SKIPPED | SKIPPED | SKIPPED | SKIPPED | +-----------------------------------+--------------------+-------------------+------------------+-------------------+-------------------------+----------------------+ | Alpine | PASS | SKIPPED | SKIPPED | SKIPPED | SKIPPED | SKIPPED | +-----------------------------------+--------------------+-------------------+------------------+-------------------+-------------------------+----------------------+ | Ubuntu 24.04 32 Bit Cross Compile | PASS | SKIPPED | SKIPPED | SKIPPED | SKIPPED | SKIPPED | +-----------------------------------+--------------------+-------------------+------------------+-------------------+-------------------------+----------------------+ | FreeBSD 14.2 | PASS | SKIPPED | SKIPPED | SKIPPED | SKIPPED | SKIPPED | +-----------------------------------+--------------------+-------------------+------------------+-------------------+-------------------------+----------------------+ | CentOS Stream 9 | PASS | PASS | SKIPPED | SKIPPED | SKIPPED | SKIPPED | +-----------------------------------+--------------------+-------------------+------------------+-------------------+-------------------------+----------------------+ | FreeBSD 13.5 | PASS | SKIPPED | SKIPPED | SKIPPED | SKIPPED | SKIPPED | +-----------------------------------+--------------------+-------------------+------------------+-------------------+-------------------------+----------------------+ | Windows Server 2022 | SKIPPED | SKIPPED | SKIPPED | PASS | PASS | PASS | +-----------------------------------+--------------------+-------------------+------------------+-------------------+-------------------------+----------------------+ ==== 20 line log output for Fedora 40 (Clang) (dpdk_compile_spdk): ==== --- Failed to get log output --- ==== End log output ==== CentOS Stream 10 Kernel: Depends on container host Compiler: gcc 14.2.1 20241104 (Red Hat 14.2.1-6) Debian 12 Kernel: Depends on container host Compiler: gcc (Debian 12.2.0-14) 12.2.0 Fedora 40 (Clang) Kernel: Depends on container host Compiler: clang 18.1.8 (Fedora 18.1.8-1.fc40) Fedora 40 Kernel: Depends on container host Compiler: gcc 14.2.1 20240912 (Red Hat 14.2.1-3) Fedora 41 Kernel: Depends on container host Compiler: gcc 14.2.1 20240912 (Red Hat 14.2.1-3) Fedora 41 (Clang) Kernel: Depends on container host Compiler: clang 19.1.5 (Fedora 19.1.5-1.fc41) openSUSE Leap 15 Kernel: Depends on container host Compiler: gcc (SUSE Linux) 7.5.0 RHEL8 Kernel: Depends on container host Compiler: gcc 8.5.0 20210514 (Red Hat 8.5.0-22) RHEL9 Kernel: Depends on container host Compiler: gcc 11.5.0 20240719 (Red Hat 11.5.0-2) Ubuntu 20.04 Kernel: Depends on container host Compiler: gcc (Ubuntu 9.4.0-1ubuntu1~20.04.2) 9.4.0 Ubuntu 24.04 Kernel: Depends on container host Compiler: gcc (Ubuntu 13.3.0-6ubuntu2~24.04) 13.3.0 Ubuntu 22.04 Kernel: Depends on container host Compiler: gcc (Ubuntu 11.4.0-1ubuntu1~22.04) 11.4.0 Alpine Kernel: Depends on container host Compiler: gcc (Alpine 14.2.0) 14.2.0 Ubuntu 24.04 32 Bit Cross Compile Kernel: Depends on container host Compiler: gcc (Ubuntu 13.3.0-6ubuntu2~24.04) 13.3.0 FreeBSD 14.2 Kernel: 14.2-RELEASE Compiler: clang 18.1.6 CentOS Stream 9 Kernel: Depends on container host Compiler: gcc 11.5.0 20240719 (Red Hat 11.5.0-2) FreeBSD 13.5 Kernel: 13.5-RELEASE Compiler: clang 19.1.7 Windows Server 2022 Kernel: 10.0.20348.2031 Compiler: clang 15.0.7, gcc 14.1.0 (MinGW), and MSVC VS 19.39.33521 To view detailed results, visit: https://lab.dpdk.org/results/dashboard/patchsets/33221/ UNH-IOL DPDK Community Lab To manage your email subscriptions, visit: https://lab.dpdk.org/results/dashboard/preferences/subscriptions/