From mboxrd@z Thu Jan 1 00:00:00 1970 Return-Path: Received: from mails.dpdk.org (mails.dpdk.org [217.70.189.124]) by inbox.dpdk.org (Postfix) with ESMTP id BE09E467B0 for ; Wed, 21 May 2025 18:37:49 +0200 (CEST) Received: from mails.dpdk.org (localhost [127.0.0.1]) by mails.dpdk.org (Postfix) with ESMTP id B238B42DCB; Wed, 21 May 2025 18:37:49 +0200 (CEST) Received: from mail-io1-f99.google.com (mail-io1-f99.google.com [209.85.166.99]) by mails.dpdk.org (Postfix) with ESMTP id A0F7542DB0 for ; Wed, 21 May 2025 18:37:48 +0200 (CEST) Received: by mail-io1-f99.google.com with SMTP id ca18e2360f4ac-86135ad7b4cso377943539f.1 for ; Wed, 21 May 2025 09:37:48 -0700 (PDT) DKIM-Signature: v=1; a=rsa-sha256; c=relaxed/relaxed; d=iol.unh.edu; s=unh-iol; t=1747845468; x=1748450268; darn=dpdk.org; h=references:in-reply-to:cc:to:from:subject:message-id:date:from:to :cc:subject:date:message-id:reply-to; bh=tcAQhy0ZScvFoS5KoMzJ8E0tqUk5jarAcPrN5pIHO2U=; b=W1W47uzBsQDaFUMkbSCebkjWfIDw0aLpm5nitDkzcjFsn4mchF0MHO3yS/4xrV5eYV L9UuftP3lure1pQJjWK1cor8LRrkPS4eUJgLAR5UMWvoyag8DyjBiVgsnmFLoIeUr43e M2pA8SSAkpjJYsuS87A6Z2J/I+vkBCeyUq/pw= X-Google-DKIM-Signature: v=1; a=rsa-sha256; c=relaxed/relaxed; d=1e100.net; s=20230601; t=1747845468; x=1748450268; h=references:in-reply-to:cc:to:from:subject:message-id:date :x-gm-message-state:from:to:cc:subject:date:message-id:reply-to; bh=tcAQhy0ZScvFoS5KoMzJ8E0tqUk5jarAcPrN5pIHO2U=; b=T3lfE/HR0XeHfQQbj3wuNPEpH+3IZ7f4JG+HRkoAxW1EvE/JzoBDjA8O3apKhVGHjH KdoDK6V0yrS7C9DGNejd/BbNjSKmpSjGfOP0pMaVfYmqV7TaVS8ZsuDjbmy6kWgJwAGJ 7e4lFXQVsD1cRTR1JGXgNgH1iQRQaOhnWI6EO1OkEnsqnVjyUUIGwviuo75antyYn9jB Kk2R41O+bgP/1P1oBHFmuPc28v9WHjmmhoqyRWaUu8NJDmUOeUC2WEw8uD6DY3tSInZB cSCLh4k08TEiGeAt2SsTTJ/Yf3ioUhxu32xDwd2P+OmwdiRFK1a0kU6erA4Cw4oCcGWC aw3w== X-Gm-Message-State: AOJu0YxYE1MgZbA0ZgGZEIV3P1tN5ez/Z7PI/8sTML7rgD0hS9p3P9YP FI9h6RfKl4I2aiYSD3bJN71pQF1WF/E5rrmLKz9471tIwJa+UxX7hzcy4VYMB8pducbqXd5p8UO OPd2CJbynmtjydfhvyTGOzK+Px+OTqc6yjj98Jm65sk8s X-Gm-Gg: ASbGncuyLuLaTio5l5DcQMda24woGSDYfFCpNXTVTacTN0niVJwvr1bz8qeuBqVI4Bx BLD8sV26QpmDhu2eLsL6Dksn9+BB6QtNUyuGNzeHezpU3WekDlLYUkbjbPG3EDbnRfqRWu9Rvt4 XTmDuUSse3X0Y2sk2uzkr57M6QAqGpls5eb/v+cYiILurxXfjk3X+A+y3E/Oc40kWEOKNURg4oE bOzH3Tub/lrTjm8T0/vZbqoabyn5+o1wk5xfVIs7zW/FTMURBWc53BuIn9nwo4GcFO7WtifYBrp 6KjVW3omr+W9q7d0QbVktvKATSj/RjbIjeGCK43nWlFSRsw6Lw2QdCd6Iec= X-Google-Smtp-Source: AGHT+IGqHFsMxWmB2a7eiJviso8SFSgMa9rC2KBCSxvd3g6FhXor1kffgmnpMUkmyWrGQN4x8POd8fDgYY0K X-Received: by 2002:a05:6602:370a:b0:864:48dd:310d with SMTP id ca18e2360f4ac-86a2322733amr2933979739f.9.1747845467920; Wed, 21 May 2025 09:37:47 -0700 (PDT) Received: from postal.iol.unh.edu (postal.iol.unh.edu. [132.177.123.84]) by smtp-relay.gmail.com with ESMTPS id ca18e2360f4ac-86a237600f6sm52419839f.23.2025.05.21.09.37.47 (version=TLS1_2 cipher=ECDHE-ECDSA-AES128-GCM-SHA256 bits=128/128); Wed, 21 May 2025 09:37:47 -0700 (PDT) X-Relaying-Domain: iol.unh.edu Date: Wed, 21 May 2025 09:37:47 -0700 (PDT) Message-ID: <682e015b.050a0220.233642.ab9eSMTPIN_ADDED_MISSING@mx.google.com> Received: from [172.21.0.8] (unknown [172.18.0.240]) by postal.iol.unh.edu (Postfix) with ESMTP id 687B26052471; Wed, 21 May 2025 12:37:47 -0400 (EDT) Subject: |WARNING| pw153561 [PATCH] [v2] ethdev: optimize how the values of t From: dpdklab@iol.unh.edu To: Test Report Cc: dpdk-test-reports@iol.unh.edu In-Reply-To: <20250521101531.34240-1-sunyang.wu@jaguarmicro.com> References: <20250521101531.34240-1-sunyang.wu@jaguarmicro.com> Content-Type: text/plain X-BeenThere: test-report@dpdk.org X-Mailman-Version: 2.1.29 Precedence: list List-Id: automatic DPDK test reports List-Unsubscribe: , List-Archive: List-Post: List-Help: List-Subscribe: , Errors-To: test-report-bounces@dpdk.org Test-Label: iol-compile-amd64-testing Test-Status: WARNING http://dpdk.org/patch/153561 _Testing issues_ Submitter: Sunyang Wu Date: Wednesday, May 21 2025 10:15:31 DPDK git baseline: Repo:dpdk Branch: master CommitID:a0dde342cc312fd75b63281f63d757db7482cdab 153561 --> testing issues Upstream job id: Generic-DPDK-Compile-Meson#390072 Test environment and result as below: +-----------------------------------+--------------------+-------------------+------------------+-------------------+-------------------------+----------------------+ | Environment | dpdk_meson_compile | dpdk_compile_spdk | dpdk_compile_ovs | dpdk_msvc_compile | dpdk_llvm_clang_compile | dpdk_mingw64_compile | +===================================+====================+===================+==================+===================+=========================+======================+ | CentOS Stream 10 | PASS | SKIPPED | SKIPPED | SKIPPED | SKIPPED | SKIPPED | +-----------------------------------+--------------------+-------------------+------------------+-------------------+-------------------------+----------------------+ | Debian 12 | PASS | PASS | SKIPPED | SKIPPED | SKIPPED | SKIPPED | +-----------------------------------+--------------------+-------------------+------------------+-------------------+-------------------------+----------------------+ | Fedora 40 (Clang) | PASS | WARN | SKIPPED | SKIPPED | SKIPPED | SKIPPED | +-----------------------------------+--------------------+-------------------+------------------+-------------------+-------------------------+----------------------+ | Fedora 40 | PASS | PASS | SKIPPED | SKIPPED | SKIPPED | SKIPPED | +-----------------------------------+--------------------+-------------------+------------------+-------------------+-------------------------+----------------------+ | Fedora 41 | PASS | PASS | PASS | SKIPPED | SKIPPED | SKIPPED | +-----------------------------------+--------------------+-------------------+------------------+-------------------+-------------------------+----------------------+ | Fedora 41 (Clang) | PEND | PEND | PEND | SKIPPED | SKIPPED | SKIPPED | +-----------------------------------+--------------------+-------------------+------------------+-------------------+-------------------------+----------------------+ | openSUSE Leap 15 | PASS | SKIPPED | SKIPPED | SKIPPED | SKIPPED | SKIPPED | +-----------------------------------+--------------------+-------------------+------------------+-------------------+-------------------------+----------------------+ | RHEL8 | PASS | SKIPPED | SKIPPED | SKIPPED | SKIPPED | SKIPPED | +-----------------------------------+--------------------+-------------------+------------------+-------------------+-------------------------+----------------------+ | RHEL9 | PASS | SKIPPED | SKIPPED | SKIPPED | SKIPPED | SKIPPED | +-----------------------------------+--------------------+-------------------+------------------+-------------------+-------------------------+----------------------+ | Ubuntu 20.04 | PASS | SKIPPED | SKIPPED | SKIPPED | SKIPPED | SKIPPED | +-----------------------------------+--------------------+-------------------+------------------+-------------------+-------------------------+----------------------+ | Ubuntu 24.04 | PEND | PEND | PEND | SKIPPED | SKIPPED | SKIPPED | +-----------------------------------+--------------------+-------------------+------------------+-------------------+-------------------------+----------------------+ | Ubuntu 22.04 | PASS | PASS | SKIPPED | SKIPPED | SKIPPED | SKIPPED | +-----------------------------------+--------------------+-------------------+------------------+-------------------+-------------------------+----------------------+ | Alpine | PASS | SKIPPED | SKIPPED | SKIPPED | SKIPPED | SKIPPED | +-----------------------------------+--------------------+-------------------+------------------+-------------------+-------------------------+----------------------+ | Ubuntu 24.04 32 Bit Cross Compile | PASS | SKIPPED | SKIPPED | SKIPPED | SKIPPED | SKIPPED | +-----------------------------------+--------------------+-------------------+------------------+-------------------+-------------------------+----------------------+ | FreeBSD 14.2 | PASS | SKIPPED | SKIPPED | SKIPPED | SKIPPED | SKIPPED | +-----------------------------------+--------------------+-------------------+------------------+-------------------+-------------------------+----------------------+ | CentOS Stream 9 | PASS | PASS | SKIPPED | SKIPPED | SKIPPED | SKIPPED | +-----------------------------------+--------------------+-------------------+------------------+-------------------+-------------------------+----------------------+ | FreeBSD 13.5 | PASS | SKIPPED | SKIPPED | SKIPPED | SKIPPED | SKIPPED | +-----------------------------------+--------------------+-------------------+------------------+-------------------+-------------------------+----------------------+ | Windows Server 2022 | SKIPPED | SKIPPED | SKIPPED | PASS | PASS | PASS | +-----------------------------------+--------------------+-------------------+------------------+-------------------+-------------------------+----------------------+ ==== 20 line log output for Fedora 40 (Clang) (dpdk_compile_spdk): ==== --- Failed to get log output --- ==== End log output ==== CentOS Stream 10 Kernel: Depends on container host Compiler: gcc 14.2.1 20241104 (Red Hat 14.2.1-6) Debian 12 Kernel: Depends on container host Compiler: gcc (Debian 12.2.0-14) 12.2.0 Fedora 40 (Clang) Kernel: Depends on container host Compiler: clang 18.1.8 (Fedora 18.1.8-1.fc40) Fedora 40 Kernel: Depends on container host Compiler: gcc 14.2.1 20240912 (Red Hat 14.2.1-3) Fedora 41 Kernel: Depends on container host Compiler: gcc 14.2.1 20240912 (Red Hat 14.2.1-3) Fedora 41 (Clang) Kernel: Depends on container host Compiler: clang 19.1.5 (Fedora 19.1.5-1.fc41) openSUSE Leap 15 Kernel: Depends on container host Compiler: gcc (SUSE Linux) 7.5.0 RHEL8 Kernel: Depends on container host Compiler: gcc 8.5.0 20210514 (Red Hat 8.5.0-22) RHEL9 Kernel: Depends on container host Compiler: gcc 11.5.0 20240719 (Red Hat 11.5.0-2) Ubuntu 20.04 Kernel: Depends on container host Compiler: gcc (Ubuntu 9.4.0-1ubuntu1~20.04.2) 9.4.0 Ubuntu 24.04 Kernel: Depends on container host Compiler: gcc (Ubuntu 13.3.0-6ubuntu2~24.04) 13.3.0 Ubuntu 22.04 Kernel: Depends on container host Compiler: gcc (Ubuntu 11.4.0-1ubuntu1~22.04) 11.4.0 Alpine Kernel: Depends on container host Compiler: gcc (Alpine 14.2.0) 14.2.0 Ubuntu 24.04 32 Bit Cross Compile Kernel: Depends on container host Compiler: gcc (Ubuntu 13.3.0-6ubuntu2~24.04) 13.3.0 FreeBSD 14.2 Kernel: 14.2-RELEASE Compiler: clang 18.1.6 CentOS Stream 9 Kernel: Depends on container host Compiler: gcc 11.5.0 20240719 (Red Hat 11.5.0-2) FreeBSD 13.5 Kernel: 13.5-RELEASE Compiler: clang 19.1.7 Windows Server 2022 Kernel: 10.0.20348.2031 Compiler: clang 15.0.7, gcc 14.1.0 (MinGW), and MSVC VS 19.39.33521 To view detailed results, visit: https://lab.dpdk.org/results/dashboard/patchsets/33221/ UNH-IOL DPDK Community Lab To manage your email subscriptions, visit: https://lab.dpdk.org/results/dashboard/preferences/subscriptions/