From mboxrd@z Thu Jan 1 00:00:00 1970 Return-Path: Received: from mails.dpdk.org (mails.dpdk.org [217.70.189.124]) by inbox.dpdk.org (Postfix) with ESMTP id 98EF6467B0 for ; Wed, 21 May 2025 19:19:59 +0200 (CEST) Received: from mails.dpdk.org (localhost [127.0.0.1]) by mails.dpdk.org (Postfix) with ESMTP id 6D6FD427D3; Wed, 21 May 2025 19:19:59 +0200 (CEST) Received: from mail-pl1-f228.google.com (mail-pl1-f228.google.com [209.85.214.228]) by mails.dpdk.org (Postfix) with ESMTP id D3FD340298 for ; Wed, 21 May 2025 19:19:57 +0200 (CEST) Received: by mail-pl1-f228.google.com with SMTP id d9443c01a7336-23229fdaff4so45758115ad.1 for ; Wed, 21 May 2025 10:19:57 -0700 (PDT) DKIM-Signature: v=1; a=rsa-sha256; c=relaxed/relaxed; d=iol.unh.edu; s=unh-iol; t=1747847997; x=1748452797; darn=dpdk.org; h=references:in-reply-to:cc:to:from:subject:message-id:date:from:to :cc:subject:date:message-id:reply-to; bh=a0kIQ3n27oKld/TtwQ1wrT4qNeGRV7ChZNFzgzxPne0=; b=ME6v4tres61hBe548VFx87Hz3nX1oNSFL6qy32frafGYxHIz3XVFtyiRQEdWp/1yyJ 6VrcmY2G0eVrFzuOssAP3mkT02hAdOPY4HNtxKKvDtg0E+qC1pKXCR3J5v4cddWGDX0l mtnNsHCORE8DaGAaVDciFJWBzm9GK5FugApGg= X-Google-DKIM-Signature: v=1; a=rsa-sha256; c=relaxed/relaxed; d=1e100.net; s=20230601; t=1747847997; x=1748452797; h=references:in-reply-to:cc:to:from:subject:message-id:date :x-gm-message-state:from:to:cc:subject:date:message-id:reply-to; bh=a0kIQ3n27oKld/TtwQ1wrT4qNeGRV7ChZNFzgzxPne0=; b=u0tQNBVkuIL1VfvJo1m6zcxjeufpD3oAUaiGZxPNiJ8U3fVsQpv145CnEta+IVfLrc nDvVrT60I/cmFyeRU4DOB2PH89VrNwGHxbefL8GNrQrm6ePuSru9NRC4yPoPXyoQ09Ik j4EoBAk3GrR5Q4vfCqbtPX/EvNsm5yAXrVVqDjU9CC1M/lAPYlhYF9rwfafbGT5TpLM0 l0KnPwUvTQZH9Ffkedw20SgbHiJR2Wvw/BpIzZGhwjnRb1bKFK4P4y7AKzv3sFxxPTgI hYOMveQILo32GgpdUU1Ehf9Uoq6zsk+OMF4HYRbYKRBA9QrSBlP2eygt/f7+u4qDiLHD +2lQ== X-Gm-Message-State: AOJu0YyWhKzHUcmeGtUQP2WnM/fv0z9K3HaaTring8VVjv2YoQln9gUl 4E3m94OxexcavA/pWT3czCfVd0Sq3h8QLFdorxJj5ssAPvZ/iJxbqK1qkb6p/dNNH/zXG+CYUvP TEc8r+1XCBWP8DeejBsgMy056DQZO7Ql1dkzhFV8L/LVp X-Gm-Gg: ASbGnctN7OzsDZrap1FwRR+umU9LU4mMQ2LOWLIarszT0UBFyYaHIepCuABiKmT/vrr SkXh4xznf4q3XuEAWUHWNMsyDsLleaRFnE/+NjQfuK06ac1HPIay/JVCunh8GoJQMBc4fUXMRxO /hqiYalO3JjDn84M9t1miFIztasaqkwiKNfskZHIEA3z8j52+qe0k7U+WhYwSMZRtKUMNVa5Bfq TA7gYcG4eADnC4DdCSVdXxO6i+Z/3ECLMVg5Nt5DBOvvkArVh5fSIQ/b0QUcuZrqFJvDcRBhdD0 daiTtYnUDtbWDTTtJEpRdjjKx8btOOnEWknIaOWBxV48wIQ0Jo76IFs4I78= X-Google-Smtp-Source: AGHT+IECSDFhO491rg4Mq4nR8Fs+W67zXv2j8xtVfxHThmF0i7AatJNbb0Q4uayieT45akNWwqHNtVvtsudq X-Received: by 2002:a17:902:cf12:b0:224:2717:7993 with SMTP id d9443c01a7336-231d454dcaamr308428565ad.45.1747847996742; Wed, 21 May 2025 10:19:56 -0700 (PDT) Received: from postal.iol.unh.edu (postal.iol.unh.edu. [132.177.123.84]) by smtp-relay.gmail.com with ESMTPS id d9443c01a7336-231d4ad4ca8sm6444245ad.52.2025.05.21.10.19.56 (version=TLS1_2 cipher=ECDHE-ECDSA-AES128-GCM-SHA256 bits=128/128); Wed, 21 May 2025 10:19:56 -0700 (PDT) X-Relaying-Domain: iol.unh.edu Date: Wed, 21 May 2025 10:19:56 -0700 (PDT) Message-ID: <682e0b3c.170a0220.2cabd6.2375SMTPIN_ADDED_MISSING@mx.google.com> Received: from [172.21.0.5] (unknown [172.18.0.240]) by postal.iol.unh.edu (Postfix) with ESMTP id DE3466052471; Wed, 21 May 2025 13:19:55 -0400 (EDT) Subject: |SUCCESS| pw153548-153549 [PATCH] [v2,2/2] app/testpmd: clear stale From: dpdklab@iol.unh.edu To: Test Report Cc: dpdk-test-reports@iol.unh.edu In-Reply-To: <20250521051154.19595-2-skori@marvell.com> References: <20250521051154.19595-2-skori@marvell.com> Content-Type: text/plain X-BeenThere: test-report@dpdk.org X-Mailman-Version: 2.1.29 Precedence: list List-Id: automatic DPDK test reports List-Unsubscribe: , List-Archive: List-Post: List-Help: List-Subscribe: , Errors-To: test-report-bounces@dpdk.org Test-Label: iol-compile-arm64-testing Test-Status: SUCCESS http://dpdk.org/patch/153549 _Testing PASS_ Submitter: Sunil Kumar Kori Date: Wednesday, May 21 2025 05:11:43 DPDK git baseline: Repo:dpdk Branch: master CommitID:a0dde342cc312fd75b63281f63d757db7482cdab 153548-153549 --> testing pass Upstream job id: Generic-DPDK-Compile-Meson#390084 Test environment and result as below: +----------------------------------------+--------------------+ | Environment | dpdk_meson_compile | +========================================+====================+ | RHEL9 (ARM) | PASS | +----------------------------------------+--------------------+ | Ubuntu 20.04 ARM GCC Cross Compile | PASS | +----------------------------------------+--------------------+ | Ubuntu 20.04 ARM SVE | PASS | +----------------------------------------+--------------------+ | Debian 12 with MUSDK | PASS | +----------------------------------------+--------------------+ | Fedora 40 (ARM) | PASS | +----------------------------------------+--------------------+ | Fedora 40 (ARM Clang) | PASS | +----------------------------------------+--------------------+ | Fedora 41 (ARM) | PASS | +----------------------------------------+--------------------+ | Fedora 41 (ARM Clang) | PASS | +----------------------------------------+--------------------+ | Ubuntu 20.04 (ARM) | PASS | +----------------------------------------+--------------------+ | Ubuntu 22.04 (ARM) | PASS | +----------------------------------------+--------------------+ | Ubuntu 24.04 (ARM) | PASS | +----------------------------------------+--------------------+ | CentOS Stream 9 (ARM) | PASS | +----------------------------------------+--------------------+ | CentOS Stream 10 (ARM) | PASS | +----------------------------------------+--------------------+ | Debian 12 (arm) | PASS | +----------------------------------------+--------------------+ | Ubuntu 20.04 aarch32 GCC Cross Compile | PASS | +----------------------------------------+--------------------+ | Ubuntu 20.04 ARM Clang Cross Compile | PASS | +----------------------------------------+--------------------+ RHEL9 (ARM) Kernel: Depends on container host Compiler: gcc 11.5.0 20240719 (Red Hat 11.5.0-2) Ubuntu 20.04 ARM GCC Cross Compile Kernel: Depends on container host Compiler: aarch64-linux-gnu-gcc (Ubuntu 9.4.0-1ubuntu1~20.04.2) 9.4.0 Ubuntu 20.04 ARM SVE Kernel: Depends on container host Compiler: gcc (Ubuntu 10.5.0-1ubuntu1~20.04) 10.5.0 Debian 12 with MUSDK Kernel: Depends on container host Compiler: gcc (Debian 12.2.0-14) 12.2.0 Fedora 40 (ARM) Kernel: Depends on container host Compiler: gcc 14.2.1 20240912 (Red Hat 14.2.1-3) Fedora 40 (ARM Clang) Kernel: Depends on container host Compiler: clang 18.1.8 (Fedora 18.1.8-1.fc40) Fedora 41 (ARM) Kernel: Depends on container host Compiler: gcc 14.2.1 20240912 (Red Hat 14.2.1-3) Fedora 41 (ARM Clang) Kernel: Depends on container host Compiler: clang 19.1.5 (Fedora 19.1.5-1.fc41) Ubuntu 20.04 (ARM) Kernel: Depends on container host Compiler: gcc (Ubuntu 9.4.0-1ubuntu1~20.04.2) 9.4.0 Ubuntu 22.04 (ARM) Kernel: Depends on container host Compiler: gcc (Ubuntu 11.4.0-1ubuntu1~22.04) 11.4.0 Ubuntu 24.04 (ARM) Kernel: Depends on container host Compiler: gcc (Ubuntu 13.3.0-6ubuntu2~24.04) 13.3.0 CentOS Stream 9 (ARM) Kernel: Depends on container host Compiler: gcc 11.5.0 20240719 (Red Hat 11.5.0-2) CentOS Stream 10 (ARM) Kernel: Depends on container host Compiler: gcc 14.2.1 20241104 (Red Hat 14.2.1-6) Debian 12 (arm) Kernel: Depends on container host Compiler: gcc (Debian 12.2.0-14) 12.2.0 Ubuntu 20.04 aarch32 GCC Cross Compile Kernel: Depends on container host Compiler: gcc 9.4.0 Ubuntu 20.04 ARM Clang Cross Compile Kernel: Depends on container host Compiler: clang 10.0.0-4ubuntu1 To view detailed results, visit: https://lab.dpdk.org/results/dashboard/patchsets/33217/ UNH-IOL DPDK Community Lab To manage your email subscriptions, visit: https://lab.dpdk.org/results/dashboard/preferences/subscriptions/